BEGIN:VCALENDAR
VERSION:2.0
PRODID:-//The 19th Street Band - ECPv6.15.20//NONSGML v1.0//EN
CALSCALE:GREGORIAN
METHOD:PUBLISH
X-ORIGINAL-URL:https://19thstreetband.com
X-WR-CALDESC:Events for The 19th Street Band
REFRESH-INTERVAL;VALUE=DURATION:PT1H
X-Robots-Tag:noindex
X-PUBLISHED-TTL:PT1H
BEGIN:VTIMEZONE
TZID:America/New_York
BEGIN:DAYLIGHT
TZOFFSETFROM:-0500
TZOFFSETTO:-0400
TZNAME:EDT
DTSTART:20230312T070000
END:DAYLIGHT
BEGIN:STANDARD
TZOFFSETFROM:-0400
TZOFFSETTO:-0500
TZNAME:EST
DTSTART:20231105T060000
END:STANDARD
BEGIN:DAYLIGHT
TZOFFSETFROM:-0500
TZOFFSETTO:-0400
TZNAME:EDT
DTSTART:20240310T070000
END:DAYLIGHT
BEGIN:STANDARD
TZOFFSETFROM:-0400
TZOFFSETTO:-0500
TZNAME:EST
DTSTART:20241103T060000
END:STANDARD
BEGIN:DAYLIGHT
TZOFFSETFROM:-0500
TZOFFSETTO:-0400
TZNAME:EDT
DTSTART:20250309T070000
END:DAYLIGHT
BEGIN:STANDARD
TZOFFSETFROM:-0400
TZOFFSETTO:-0500
TZNAME:EST
DTSTART:20251102T060000
END:STANDARD
BEGIN:DAYLIGHT
TZOFFSETFROM:-0500
TZOFFSETTO:-0400
TZNAME:EDT
DTSTART:20260308T070000
END:DAYLIGHT
BEGIN:STANDARD
TZOFFSETFROM:-0400
TZOFFSETTO:-0500
TZNAME:EST
DTSTART:20261101T060000
END:STANDARD
END:VTIMEZONE
BEGIN:VEVENT
DTSTART;TZID=America/New_York:20241208T180000
DTEND;TZID=America/New_York:20241208T210000
DTSTAMP:20260421T080452
CREATED:20241125T145353Z
LAST-MODIFIED:20241205T175844Z
UID:15427-1733680800-1733691600@19thstreetband.com
SUMMARY:Schellville Winter Village Rehoboth
DESCRIPTION:WHAT IS SCHELLVILLE?\nA magical winter village\, and so much more \nIn 2017\, Schell Brothers dreamt of a magical Christmas village called Schellville. Their first season delighted the Coastal Delaware community with nine beautifully decorated miniature houses\, plenty of activities\, and Christmas trees. In 2022\, Schell Brothers announced a vast expansion. With this growth\, it expanded the footprint to 5.5 acres of Christmas cheer\, which includes train rides\, snow zones\, magical snow for 15 minutes each hour\, Santa & Mrs. Claus\, many additional houses\, an artisan alley that features many local small crafters\, and plenty of fun to delight local families! \n  \nSCHELLVILLE ENCHANTED WINTER CELEBRATION  \nOPEN 5-9PM with Early Bird Hours of 1-4pm for Seniors and Small Children.  \nNO Entry tickets or reservations required. \nCATCH THE 19TH STREET BAND ON DECEMBER 8TH FROM 6-9PM!!! \n  \nKNOW BEFORE YOU GO\nCHECK THE WEATHER   Much of Schellville is out-of-doors\, so make sure you check the weather and dress appropriately. Trust me\, you don’t want soggy socks.\n\n\nFREE PARKING   There is free (but limited) onsite parking. Additional parking is available at Epworth Church or the Rehoboth Little League Fields\, and you can ride our FREE shuttle. Handicap parking will be allowed behind the Tanger building but is limited and is on a first come\, first serve basis.
URL:https://19thstreetband.com/event/schellville-village-rehoboth/
LOCATION:Schellville\, 36470 Seaside Outlet Dr\, Rehoboth Beach\, DE\, 19971\, United States
ATTACH;FMTTYPE=image/png:https://19thstreetband.com/wp-content/uploads/2024/11/schellville-logo1bold.png
END:VEVENT
BEGIN:VEVENT
DTSTART;TZID=America/New_York:20241228T200000
DTEND;TZID=America/New_York:20241228T223000
DTSTAMP:20260421T080452
CREATED:20240927T210417Z
LAST-MODIFIED:20241227T233635Z
UID:15387-1735416000-1735425000@19thstreetband.com
SUMMARY:The Hamilton Live
DESCRIPTION:The 19th Street Band\n\nSaturday\, Dec 28\, 2024\n\n\nThe Hamilton Live\nWashington\, DC\nDoors: 6:30PM | Show: 8:00PM\nJoin us for our annual big show at The Hamilton in DC! Get your pre-NYE fun in and boogie the year out with us!!! Plus\, we are going to have our very special 19th Street Horns on the show!!! You won’t want to miss this! \nSupport from Patty Reese & David Chappell \nTickets on sale now HERE!
URL:https://19thstreetband.com/event/the-hamilton-live-4/
LOCATION:The Hamilton\, 600 14th St NW\, Washington\, DC\, 20005\, United States
ATTACH;FMTTYPE=image/jpeg:https://19thstreetband.com/wp-content/uploads/2024/09/Sky-stage-press-photo.jpg
END:VEVENT
BEGIN:VEVENT
DTSTART;TZID=America/New_York:20241231T183000
DTEND;TZID=America/New_York:20250101T010000
DTSTAMP:20260421T080452
CREATED:20241125T154024Z
LAST-MODIFIED:20241227T234151Z
UID:15430-1735669800-1735693200@19thstreetband.com
SUMMARY:NYE at Mango's Bethany Beach!
DESCRIPTION:2025 New Year’s Eve @ Mango’s \n\n\nTickets include:\n\n\n\n\nAppetizers\nOpen Bar\nChampagne Toast\nParty Favors\nDoors open at 6:30\nCoat Check available\n\n\n\n\nLive Music with The 19th Street Band at 9PM\nTicket pricing starting at $75\nSpecial VIP tickets that include reserved tables for groups are available. Fill out the contact form on Mango’s website to inquire about VIP tickets.\nTickets are $75 until Black Friday then prices increase to $100. \n\n\nCheck it OUT! TICKETS available HERE!!! \n\n\n\n\nTimeline for the Night \n6:30 PM Doors Open \n\n\n\n\n7:00 PM – 9:00 PM Appetizers & House Party Music \n\n\n\n\n9:00 PM – 11:30 PM The 19th Street Band \n\n\n\n\n11:30 PM – 12:00 AM House Party Music and Ball Drop Coverage \n\n\n\n\n12:00 AM Champagne Toast \n\n\n\n\n1:00 AM Closing Time
URL:https://19thstreetband.com/event/nye-at-mangos-bethany-beach/
LOCATION:Mango’s Bethany Beach\, 97 Garfield Pkwy\, Bethany Beach\, DE\, 19930\, United States
ATTACH;FMTTYPE=image/jpeg:https://19thstreetband.com/wp-content/uploads/2024/11/mangos-gcfl.jpg
END:VEVENT
END:VCALENDAR