BEGIN:VCALENDAR
VERSION:2.0
PRODID:-//The 19th Street Band - ECPv6.15.20//NONSGML v1.0//EN
CALSCALE:GREGORIAN
METHOD:PUBLISH
X-WR-CALNAME:The 19th Street Band
X-ORIGINAL-URL:https://19thstreetband.com
X-WR-CALDESC:Events for The 19th Street Band
REFRESH-INTERVAL;VALUE=DURATION:PT1H
X-Robots-Tag:noindex
X-PUBLISHED-TTL:PT1H
BEGIN:VTIMEZONE
TZID:America/New_York
BEGIN:DAYLIGHT
TZOFFSETFROM:-0500
TZOFFSETTO:-0400
TZNAME:EDT
DTSTART:20230312T070000
END:DAYLIGHT
BEGIN:STANDARD
TZOFFSETFROM:-0400
TZOFFSETTO:-0500
TZNAME:EST
DTSTART:20231105T060000
END:STANDARD
BEGIN:DAYLIGHT
TZOFFSETFROM:-0500
TZOFFSETTO:-0400
TZNAME:EDT
DTSTART:20240310T070000
END:DAYLIGHT
BEGIN:STANDARD
TZOFFSETFROM:-0400
TZOFFSETTO:-0500
TZNAME:EST
DTSTART:20241103T060000
END:STANDARD
BEGIN:DAYLIGHT
TZOFFSETFROM:-0500
TZOFFSETTO:-0400
TZNAME:EDT
DTSTART:20250309T070000
END:DAYLIGHT
BEGIN:STANDARD
TZOFFSETFROM:-0400
TZOFFSETTO:-0500
TZNAME:EST
DTSTART:20251102T060000
END:STANDARD
END:VTIMEZONE
BEGIN:VEVENT
DTSTART;TZID=America/New_York:20240901T143000
DTEND;TZID=America/New_York:20240901T180000
DTSTAMP:20260421T124514
CREATED:20240821T180137Z
LAST-MODIFIED:20240821T180137Z
UID:15336-1725201000-1725213600@19thstreetband.com
SUMMARY:The Starboard
DESCRIPTION:Last Sunday Funday Deck Party with The 19th Street Band in Dewey for this season! You know where to be!!!
URL:https://19thstreetband.com/event/the-starboard-14/
LOCATION:The Starboard\, 2009 Coastal Hwy\, Dewey Beach\, DE\, 19971\, United States
ATTACH;FMTTYPE=image/jpeg:https://19thstreetband.com/wp-content/uploads/2024/08/IMG_4504-scaled.jpeg
END:VEVENT
BEGIN:VEVENT
DTSTART;TZID=America/New_York:20240907T183000
DTEND;TZID=America/New_York:20240907T220000
DTSTAMP:20260421T124514
CREATED:20240821T205738Z
LAST-MODIFIED:20240821T205738Z
UID:15339-1725733800-1725746400@19thstreetband.com
SUMMARY:Starr Hill Biergarten
DESCRIPTION:Live music on the rooftop Biergarten (“The Perch”) at Starr Hill in Tysons\, VA!
URL:https://19thstreetband.com/event/starr-hill-biergarten-5/
LOCATION:Starr Hill Biergarten Tysons\, 1805 Capital One Dr\, Suite 1100\, Tysons\, VA\, 22102\, United States
ATTACH;FMTTYPE=image/jpeg:https://19thstreetband.com/wp-content/uploads/2024/05/starr-hill-gary-lawson.jpg
END:VEVENT
BEGIN:VEVENT
DTSTART;TZID=America/New_York:20240913T170000
DTEND;TZID=America/New_York:20240913T210000
DTSTAMP:20260421T124514
CREATED:20240821T230922Z
LAST-MODIFIED:20240821T230922Z
UID:15344-1726246800-1726261200@19thstreetband.com
SUMMARY:Nick’s Fish House
DESCRIPTION:Hit the deck for live music at Nick’s in Baltimore!
URL:https://19thstreetband.com/event/nicks-fish-house-12/
LOCATION:Nick’s Fish House\, 2600 Insulator Dr\, Baltimore\, MD\, 21230\, United States
ATTACH;FMTTYPE=image/jpeg:https://19thstreetband.com/wp-content/uploads/2024/08/IMG_6640-scaled.jpeg
END:VEVENT
BEGIN:VEVENT
DTSTART;TZID=America/New_York:20240914T153000
DTEND;TZID=America/New_York:20240914T210000
DTSTAMP:20260421T124514
CREATED:20240821T230117Z
LAST-MODIFIED:20240911T021543Z
UID:15341-1726327800-1726347600@19thstreetband.com
SUMMARY:Days End Farm Horse Rescue Benefit Concert
DESCRIPTION:The NOT TO BE MISSED music event is back! Our annual benefit concert welcomes back to Maryland’s premier horse farm\, The 19th Street Band on the front lawn at our Arts & Education Pavilion affectionately called “The Hitching Post”. This year’s concert will celebrate our 35 year history in equine welfare. Don’t miss our signature 35th Anniversary cocktail (courtesy of Tito’s Handmade Vodka) while enjoying popular food trucks\, beer & wine\, lawn games\, and farm tours to meet our rescue horses – there is something for the whole family!!Book a day out in the country (at our Woodbine\, MD facility) and watch the sunset over our fields\, while swaying to the music of arguably one of the best groups of musicians in the area! Enjoy yourself while knowing ALL money raised goes to the horses and allows us to continue our life-saving work in the community. \nWhat can I expect? \n– Great music by The 19th Street Band\n– 3 popular food trucks serving the best of food truck gastronomy\n– Hops for Horses Beer Garden serving 35th Anniversary Tito’s Handmade Vodka cocktail and seasonal brews and wine\n– Tours of the farm to see firsthand the great work DEFHR does\n– Shopping area featuring the latest DEFHR swag and silent auction items\n– Lawn games for family fun\n– Fire pits & s’mores \n3:30PM: Gates Open\n4:00PM-6:00PM: The Sidleys\n6:30PM-Close: The 19th Street Band\nFood trucks joining us are: TBD \nGeneral Admission – $25/person\nAt the gate – $40/person\nKids 12 and under are free \nPARKING entrance is at the adjacent former Lisbon Firehouse and is 1st come 1st serve until the lots are FULL! \nYou may bring small blankets or lawn chairs. We will have seating and picnic tables available\, so not a requirement. \nAbout the Bands: \nThe Sidleys: Fronted by husband-and-wife songwriting/performing duo Annie and Steve Sidley\, alongside their talented sons Sean\, Colin\, and Ian\, Washington DC’s first family of rock and soul delivers a fusion of soulful melodies\, amazing harmonies\, and infectious beats. Having captivated audiences around the world with three critically beloved albums\, including the chart-topping Breathless\, The Sidleys have just released their new record\, Sugar Kingdom\, in 2024 to wide acclaim!The 19th Street Band: Characterized by high energy and strong vocal harmonies\, \nThe 19th Street Band brings together a constellation of Americana\, country and rock with a taste of punk. They ignite an audience with their passion for music\, their magnetic presence and enthusiasm. Bridging the musical traditions of bluegrass and roots from Ireland to the Appalachian\, their eclectic gypsy-rock spirit literally leaps from the stage and engages the crowd in the music. \nPurchase your tickets in advance and save! Tickets available at https://www.eventbrite.com/e/days-end-farm-horse-rescue-35th-anniversary-benefit-concert-tickets-980073555387
URL:https://19thstreetband.com/event/days-end-farm-horse-rescue-benefit-concert-4/
LOCATION:Days End Farm Horse Rescue\, 1372 Woodbine Rd\, Woodbine\, MD\, 21797\, United States
ATTACH;FMTTYPE=image/jpeg:https://19thstreetband.com/wp-content/uploads/2024/08/IMG_8727.jpeg
END:VEVENT
BEGIN:VEVENT
DTSTART;TZID=America/New_York:20240917T120000
DTEND;TZID=America/New_York:20240917T130000
DTSTAMP:20260421T124514
CREATED:20240904T034449Z
LAST-MODIFIED:20240905T135652Z
UID:15347-1726574400-1726578000@19thstreetband.com
SUMMARY:Live! Concert Series on the Plaza
DESCRIPTION:Join us for free lunchtime performances featuring the area’s most talented entertainers. There is plenty of outdoor seating\, so take the Metro\, grab lunch and spend the afternoon grooving.\n\nLaunched in 2000\, the LIVE! Concert Series supports our mission to create an open\, active and inviting atmosphere for the community and establish a pedestrian link between the National Mall and business district north of Pennsylvania Avenue.
URL:https://19thstreetband.com/event/live-concert-series-on-the-plaza/
LOCATION:Ronald Reagan Building and International Trade Center\, Woodrow Wilson Plaza\, 1300 Pennsylvania Ave NW\, DC\, 20004\, United States
ATTACH;FMTTYPE=image/png:https://19thstreetband.com/wp-content/uploads/2024/09/live-on-the-plaza.png
END:VEVENT
BEGIN:VEVENT
DTSTART;TZID=America/New_York:20240920T200000
DTEND;TZID=America/New_York:20240920T223000
DTSTAMP:20260421T124514
CREATED:20240907T025216Z
LAST-MODIFIED:20240907T025216Z
UID:15364-1726862400-1726871400@19thstreetband.com
SUMMARY:A Tribute to Van Morrison and Bruce Springsteen at The Hamilton
DESCRIPTION:DOORS OPEN AT 6:30 PM | SHOW BEGINS AT 8:00 PM\n\nNewmyer Flyer Presents\nVan Morrison’s “Moondance” and Bruce Springsteen’s “The Wild\, The Innocent & The E Street Shuffle” performed in their entirety!\n\nPerformances By; The 19th Street Band\, Eric Scott\, Billy Coulter\, Brian Simms\, Tony Denikos\, Kirk Philips\, Greg Hardin\, Margot MacDonald\, Deeme Katson\, Chuck Underwood\, Bill Starks\, Ronnie Smith\, John Zidar\, Trevor Specht\, Wayne Sulc\, Zack Smith & Tom Fridrich\n\nDream Discs pays tribute to two of rock and rolls’ most cherished classics; Van Morrison’s “Moondance” and Bruce Springsteen’s “The Wild\, The Innocent & The E Street Shuffle”. These two albums released in the early 70’s established Springsteen Morrison as FM radio favorites and catapulted them to their rightful places among music’s greatest songwriters. These records have long been both critics and popular favorites and contain some of their best loved songs including ‘Rosalita’\, ‘Kitty’s Back’ & 4thof July Asbury Park(Sandy) and Caravan\, Crazy Love and Into The Mystic. Each set will also feature a couple bonus songs from the artists classic era. Dream Discs is a rare opportunity to experience two career defining albums with all the trimmings including a horn section\, backing singers and violin. The show features stunning vocal and instrumental performances by 20 of the DC areas’ brightest stars\, and has been playing to sold out crowds since its2013 debut\, the first Newmyer Flyer show to be performed.\n\nNewmyer Flyer is the 2nd music production company byBandHouse Gigs co-founder\, Ron Newmyer. Past shows have included\, Laurel Canyon\,The Last Waltz Tribute\, Beatles Love Songs\, The Songs of Burt Bacharach &Hal David\, The Best of Janis Joplin & Jimi Hendrix & more\n\n\nFor any wheelchair or ADA needs\, please contact the Box Office in advance of the performance at (202)-787-1000.\nAll tickets are general admission (GA). Seats cannot be reserved in advance. We recommend that you arrive early to secure your favorite seats within your section. You may hold one (1) seat for a friend arriving later. Every guest requires a ticket.
URL:https://19thstreetband.com/event/a-tribute-to-van-morrison-and-bruce-springsteen-at-the-hamilton/
LOCATION:The Hamilton\, 600 14th St NW\, Washington\, DC\, 20005\, United States
ATTACH;FMTTYPE=image/jpeg:https://19thstreetband.com/wp-content/uploads/2024/09/dream-discs-flyer.jpg
END:VEVENT
BEGIN:VEVENT
DTSTART;TZID=America/New_York:20240922T120000
DTEND;TZID=America/New_York:20240922T160000
DTSTAMP:20260421T124514
CREATED:20240729T212220Z
LAST-MODIFIED:20240916T214446Z
UID:15302-1727006400-1727020800@19thstreetband.com
SUMMARY:RAKtoberfest
DESCRIPTION:Get ready to raise your steins and join us for RAKtoberfest\, RAK Brewing Co’s unique take on the traditional Oktoberfest! 🍻 \n📅 Date & Time: \nSunday\, September 22nd \n12 PM – 4 PM  \n🎶 Entertainment Line-Up: \n\n12:00 PM – 1:30 PM: Enjoy the soulful sounds of Meisha Herron & Friends 🎤\n1:30 PM – 2:00 PM: Be dazzled by a live performance from our Carpathia Folk 💃\n2:00 PM – 4:00 PM: Groove to the tunes of The 19th Street Band 🎸\n\nMarketplace Vendors \n@amandajanebienko \nStickers\, magnets\, pins\, prints \n@yourcosmicbestie \ncandles\, incense sticks\, home sprays \n@euphoricblossom \ntie dye from new & upcycled clothing \n@h.o.n.e.y.h.a.u.s \npermanent jewelry \n@braindead_design \nsurreal artwork & sells posters\, prints\, & stickers \n@americanforses \nwood house decor and Chicnic tables \n🎟️ Tickets:  \n\nFREE Entry\n$35 Bottomless Steins (Limited to FIRST 50!): Enjoy unlimited steins of our finest brews 🍺.\n$5 Fest Beers: Available for purchase inside the event 🍻.\n\nJoin us for a day of great music\, dance\, and\, of course\, fantastic beer. Don’t miss out on the fun—prost! 🎊
URL:https://19thstreetband.com/event/raktoberfest/
LOCATION:RAK Brewing Co\, 400 Sagner Avenue #100\, Frederick\, MD\, 21701\, United States
ATTACH;FMTTYPE=image/jpeg:https://19thstreetband.com/wp-content/uploads/2024/07/raktoberfest.jpg
END:VEVENT
BEGIN:VEVENT
DTSTART;TZID=America/New_York:20240926T190000
DTEND;TZID=America/New_York:20240926T220000
DTSTAMP:20260421T124514
CREATED:20240907T030515Z
LAST-MODIFIED:20240907T030515Z
UID:15367-1727377200-1727388000@19thstreetband.com
SUMMARY:Ashore Resort & Beach Club
DESCRIPTION:The beautiful & brand new\, Ashore Resort\, is the place to be for the pre-party before Oceans Calling Festival weekend. Come join us for a Thursday night show in Ocean City\, MD!
URL:https://19thstreetband.com/event/ashore-resort-beach-club/
LOCATION:Ashore Resort & Beach Club\, 10100 Coastal Highway\, Ocean City\, MD\, 21842\, United States
ATTACH;FMTTYPE=image/jpeg:https://19thstreetband.com/wp-content/uploads/2024/08/364434557_7275755355786971_7947994972141102000_n.jpg
END:VEVENT
BEGIN:VEVENT
DTSTART;TZID=America/New_York:20240928T160000
DTEND;TZID=America/New_York:20240928T180000
DTSTAMP:20260421T124514
CREATED:20240907T024718Z
LAST-MODIFIED:20240927T205211Z
UID:15360-1727539200-1727546400@19thstreetband.com
SUMMARY:Clarendon Day
DESCRIPTION:It’s CLARENDON DAY!! Arlington’s beloved festival for more than 20 years\, in the heart of Arlington at Clarendon Metro Park!\n\nThe 19th Street Band performs from 4:00-5:45pm!!!\nAdmission is FREE!\nJoin us for 6 blocks of fun: Live music\, incredible food & drink\, and more than 80 vendors\, featuring everything: jewelry\, hats\, gifts like handmade soaps and candles\, fine art. Meet community organizations\, health & wellness experts\, local businesses\, and more!\nKids will love the free activities\, crafts and prizes in the dedicated KIDSZONE!\nEnjoy it all while grooving to live music all day long!\nDon’t miss the return of Clarendon Day\, Saturday September 28\, 2024 from 11 to 6pm! RAIN OR SHINE!!\nwww.clarendon.org
URL:https://19thstreetband.com/event/clarendon-day/
LOCATION:Clarendon Day\, 3100 Wilson Blvd\, Arlington\, VA\, 22201\, United States
ATTACH;FMTTYPE=image/jpeg:https://19thstreetband.com/wp-content/uploads/2024/09/clarendon-day.jpg
END:VEVENT
END:VCALENDAR