BEGIN:VCALENDAR
VERSION:2.0
PRODID:-//The 19th Street Band - ECPv6.15.20//NONSGML v1.0//EN
CALSCALE:GREGORIAN
METHOD:PUBLISH
X-ORIGINAL-URL:https://19thstreetband.com
X-WR-CALDESC:Events for The 19th Street Band
REFRESH-INTERVAL;VALUE=DURATION:PT1H
X-Robots-Tag:noindex
X-PUBLISHED-TTL:PT1H
BEGIN:VTIMEZONE
TZID:America/New_York
BEGIN:DAYLIGHT
TZOFFSETFROM:-0500
TZOFFSETTO:-0400
TZNAME:EDT
DTSTART:20230312T070000
END:DAYLIGHT
BEGIN:STANDARD
TZOFFSETFROM:-0400
TZOFFSETTO:-0500
TZNAME:EST
DTSTART:20231105T060000
END:STANDARD
BEGIN:DAYLIGHT
TZOFFSETFROM:-0500
TZOFFSETTO:-0400
TZNAME:EDT
DTSTART:20240310T070000
END:DAYLIGHT
BEGIN:STANDARD
TZOFFSETFROM:-0400
TZOFFSETTO:-0500
TZNAME:EST
DTSTART:20241103T060000
END:STANDARD
BEGIN:DAYLIGHT
TZOFFSETFROM:-0500
TZOFFSETTO:-0400
TZNAME:EDT
DTSTART:20250309T070000
END:DAYLIGHT
BEGIN:STANDARD
TZOFFSETFROM:-0400
TZOFFSETTO:-0500
TZNAME:EST
DTSTART:20251102T060000
END:STANDARD
END:VTIMEZONE
BEGIN:VTIMEZONE
TZID:Europe/London
BEGIN:DAYLIGHT
TZOFFSETFROM:+0000
TZOFFSETTO:+0100
TZNAME:BST
DTSTART:20230326T010000
END:DAYLIGHT
BEGIN:STANDARD
TZOFFSETFROM:+0100
TZOFFSETTO:+0000
TZNAME:GMT
DTSTART:20231029T010000
END:STANDARD
BEGIN:DAYLIGHT
TZOFFSETFROM:+0000
TZOFFSETTO:+0100
TZNAME:BST
DTSTART:20240331T010000
END:DAYLIGHT
BEGIN:STANDARD
TZOFFSETFROM:+0100
TZOFFSETTO:+0000
TZNAME:GMT
DTSTART:20241027T010000
END:STANDARD
BEGIN:DAYLIGHT
TZOFFSETFROM:+0000
TZOFFSETTO:+0100
TZNAME:BST
DTSTART:20250330T010000
END:DAYLIGHT
BEGIN:STANDARD
TZOFFSETFROM:+0100
TZOFFSETTO:+0000
TZNAME:GMT
DTSTART:20251026T010000
END:STANDARD
END:VTIMEZONE
BEGIN:VEVENT
DTSTART;TZID=America/New_York:20240801T180000
DTEND;TZID=America/New_York:20240801T200000
DTSTAMP:20260421T142729
CREATED:20240620T025510Z
LAST-MODIFIED:20240620T025510Z
UID:15291-1722535200-1722542400@19thstreetband.com
SUMMARY:Montgomery Parks Summer Concert Series
DESCRIPTION:More info here: https://montgomeryparks.org/event-team/parks-summer-concert-series/
URL:https://19thstreetband.com/event/montgomery-parks-summer-concert-series/
LOCATION:Flower Avenue Urban Park\, 8746 Flower Avenue\, Silver Spring\, MD\, 20910\, United States
ATTACH;FMTTYPE=image/jpeg:https://19thstreetband.com/wp-content/uploads/2023/06/ward-park-2018.jpg
END:VEVENT
BEGIN:VEVENT
DTSTART;TZID=America/New_York:20240802T190000
DTEND;TZID=America/New_York:20240802T210000
DTSTAMP:20260421T142729
CREATED:20240620T025906Z
LAST-MODIFIED:20240620T025906Z
UID:15294-1722625200-1722632400@19thstreetband.com
SUMMARY:Capitol Riverfront Friday Night Concert Series at Yards Park
DESCRIPTION:
URL:https://19thstreetband.com/event/capitol-riverfront-friday-night-concert-series-at-yards-park/
LOCATION:Yards Park\, 355 Water St SE\, Washington\, DC\, 20003\, United States
ATTACH;FMTTYPE=image/jpeg:https://19thstreetband.com/wp-content/uploads/2018/09/IMG_0008.jpg
END:VEVENT
BEGIN:VEVENT
DTSTART;TZID=Europe/London:20240809T190000
DTEND;TZID=Europe/London:20240809T230000
DTSTAMP:20260421T142729
CREATED:20240724T041002Z
LAST-MODIFIED:20240724T041002Z
UID:15299-1723230000-1723244400@19thstreetband.com
SUMMARY:The Black Box\, Belfast
DESCRIPTION:The 19th Street Band with support from Villiers and the Villains.\nDATE: 9 August\, 2024 \nTIME: Doors 19:00 \nCOST: £20 \nTICKETS: https://blackboxbelfast.ticketsolve.com/ticketbooth/shows/873645752 \nThe 19th Street Band are delighted to be on tour with their recently released album\, Near Perfect! From touching on the heartstrings to lifting the spirits to remembering that life is just a beautiful mess\, these songs capture the lively energy of The 19th Street Band. The band also pays tribute to Philip Donnelly with a recording of his #1 hit song\, “Livin’ in These Troubled Times”. The album is currently receiving air play on a hundred different radio stations throughout the UK\, including BBC Radio and is receiving rave reviews from all the leading music magazines throughout the UK and Ireland. \nCharacterized by strong vocal harmonies\, The 19th Street Band brings together a constellation of high-energy Americana\, hillbilly\, gypsy-rockin’\, good time music to engage every crowd. They ignite an audience with their passion and spirit. Caolaidhe\, pronounced “Cally”\, Davis (guitar/harmonica/vocalist) along with fiddle/mandolin/vocalist/partner-in-crime\, Meghan Davis\, create a joy-filled chemistry that no crowd can resist. Add to the mix the very talented Greg Hardin (bass/vocals) & Patty Dougherty (drums)\, and this band will have everyone enthralled.\n\nSUPPORT:\nTony Villiers and the Villains People try to pin down their sound…are they roots\, folk\, blues\, country\, Americana\, but none of that matters\, they have their own sound\, their own original songs\, their own cutting edge. In one moment they sound like something from The Big Pink\, Woodstock\, circa ’68\, the next a skiffle-style John Prine or bluesey Van Morrison or a wailing Townes Van Zandt. These boys love good music and they wear their hearts on their sleeves and play music like their lives depend on it.
URL:https://19thstreetband.com/event/the-black-box-belfast/
LOCATION:The Black Box\, 18-22 Hill Street\, Belfast\, Northern Ireland\, BT1 2LA\, United Kingdom
ATTACH;FMTTYPE=image/jpeg:https://19thstreetband.com/wp-content/uploads/2023/09/Front-Cover-Square-3000x3000-1-scaled.jpg
END:VEVENT
BEGIN:VEVENT
DTSTART;TZID=Europe/London:20240810T153000
DTEND;TZID=Europe/London:20240810T180000
DTSTAMP:20260421T142729
CREATED:20240730T022157Z
LAST-MODIFIED:20240730T022157Z
UID:15306-1723303800-1723312800@19thstreetband.com
SUMMARY:The Court House - Open House Festival
DESCRIPTION:The 19th Street Band is thrilled to be back for another Open House Festival performance this August\, this time at the new Court House venue!\n\nLoved for their strong vocal harmonies and driving rhythms\, the four piece 19th Street Band delivers high-energy Americana\, hillbilly\, gypsy-rockin’ good time music that drives audiences mad. The band comprises Caolaidhe\, pronounced “Cally”\, Davis (guitar/harmonica/vocalist) alongside fiddle/mandolin/vocalist/partner-in-crime Meghan Davis\, with Greg Hardin (bass/vocals) & Patty Dougherty (drums). Their songs touch the heartstrings\, lift the spirits and remind us that life is just a beautiful mess.\n\nCome and join us and The 19th Street Band for an afternoon show to celebrate their recently released album Near Perfect. Together they create a joyous noise that you’ll find hard resist. Sounds like a recipe for a near perfect Saturday afternoon. \n\nDOORS 2:30PM\n\nAll ages welcome but u18s must be accompanied by an adult. Train friendly\nPlease note: The 19th Street Band is a mix of seated and standing event. If you have any accessibility requirements please contact Open House Festival.
URL:https://19thstreetband.com/event/the-court-house-open-house-festival/
LOCATION:The Court House\, 16 Quay St\, Bangor\, Northern Ireland\, BT20 5ED\, United Kingdom
ATTACH;FMTTYPE=image/png:https://19thstreetband.com/wp-content/uploads/2024/07/album-cover-image-for-tour.png
END:VEVENT
BEGIN:VEVENT
DTSTART;TZID=Europe/London:20240811T190000
DTEND;TZID=Europe/London:20240811T203000
DTSTAMP:20260421T142729
CREATED:20240805T213524Z
LAST-MODIFIED:20240805T213524Z
UID:15314-1723402800-1723408200@19thstreetband.com
SUMMARY:Taylor’s Bar and Beer Garden\, Galway
DESCRIPTION:The 19th Street Band is flying back for another performance in the beer garden at Taylor’s in Galway\, Ireland! Come out for some Sunday tunes!
URL:https://19thstreetband.com/event/taylors-bar-and-beer-garden-galway/
LOCATION:Taylor’s Bar & Beer Garden\, 7 Dominick Street Upper\, Galway\, Ireland
ATTACH;FMTTYPE=image/jpeg:https://19thstreetband.com/wp-content/uploads/2024/08/IMG_7017.jpeg
END:VEVENT
BEGIN:VEVENT
DTSTART;TZID=Europe/London:20240815T200000
DTEND;TZID=Europe/London:20240815T220000
DTSTAMP:20260421T142729
CREATED:20240805T231338Z
LAST-MODIFIED:20240805T231504Z
UID:15318-1723752000-1723759200@19thstreetband.com
SUMMARY:Tramore Racecourse\, Waterford
DESCRIPTION:Catch The 19th Street Band performing in the marquee for a special show on the first night of the August Festival races at Tramore this year! Races start at 5pm and the band kicks off at 8pm!
URL:https://19thstreetband.com/event/tramore-racecourse-waterford/
LOCATION:Tramore Racecourse\, Graun House\, Crobally Upper\, Tramore\, Co. Waterford\, X91 XP29\, Ireland
ATTACH;FMTTYPE=image/jpeg:https://19thstreetband.com/wp-content/uploads/2024/08/364434557_7275755355786971_7947994972141102000_n.jpg
END:VEVENT
BEGIN:VEVENT
DTSTART;TZID=America/New_York:20240817T200000
DTEND;TZID=America/New_York:20240817T230000
DTSTAMP:20260421T142729
CREATED:20240805T232200Z
LAST-MODIFIED:20240805T232200Z
UID:15322-1723924800-1723935600@19thstreetband.com
SUMMARY:The Spirit Store
DESCRIPTION:The 19th Street Band\n+ Special Guest Brian Willoughby and Cathryn Craig\nSat 17th Aug\nDoors 8PM\nTickets €15 + bf on sale now from\nhttps://spiritstore.ie/event.php?eventID=19th824 \nThe 19th Street Band are delighted to be on tour with their recently released album\, Near Perfect! From touching on the heartstrings to lifting the spirits to remembering that life is just a beautiful mess\, these songs capture the lively energy of The 19th Street Band. The band also pays tribute to Philip Donnelly with a recording of his #1 hit song\, “Livin’ in These Troubled Times”. The album is currently receiving air play on a hundred different radio stations throughout the UK\, including BBC Radio and is receiving rave reviews from all the leading music magazines throughout the UK and Ireland.\n“An album of positive intensity\, a sound that drives home the point that perfection is exactly what you present\, it is your story\, it is your tale told and created\, nobody really has the right to question its own authority of pleasure that it offers. Near Perfect…impeccable and unspoiled.”\n– Ian D. Hall\, Liverpool Sound and Vision \n“In truth\, there isn’t a single track that doesn’t earn its place here.” – Dai Jeffries\, Folking.com \nCharacterized by strong vocal harmonies\, The 19th Street Band brings together a constellation of high-energy Americana\, hillbilly\, gypsy-rockin’\, good time music to engage every crowd. They ignite an audience with their passion and spirit. Caolaidhe\, pronounced “Cally”\, Davis (guitar/harmonica/vocalist) along with fiddle/mandolin/vocalist/partner-in-crime\, Meghan Davis\, create a joy-filled chemistry that no crowd can resist. Add to the mix the very talented Greg Hardin (bass/vocals) & Patty Dougherty (drums)\, and this band will have everyone enthralled. \nThe 19th Street Band has entertained crowds at festivals such as DelFest\, Charm City Bluegrass Festival\, National Cherry Blossom Festival\, Kingman Island Bluegrass Festival\, The Washington Folk Festival\, Iowa Irish Festival\, and Maryland Irish Festival. They have been featured as a regular artist at the Open House Festival in Bangor\, Northern Ireland and the Dunmore East Bluegrass Festival in Co. Waterford. The band tours Ireland/UK every year and brings 40+ American fans along for the ride.\nThe band has packed the house at venues such as the 9:30 Club\, The 8×10\, The Hamilton\, The Collective Encore\, The Birchmere\, State Theatre (DC)\, The Avalon Theatre\, The Empire Music Hall and The Black Box in Belfast\, and Hill Country BBQ in NYC & DC. They have had the honor of opening for country music stars such as Rodney Atkins and Chuck Mead\, as well as for Grammy Award-winning Western Swing icons\, Asleep at the Wheel. The 19th Street Band has shared the stage with Frank Solivan & Dirty Kitchen\, Larry Keel\, Kitchen Dwellers\, Town Mountain\, I Draw Slow\, Dangermuffin\, The Sweet Lillies\, Spirit Family Reunion\, and Jakob’s Ferry Stragglers and have performed in DC for presidential galas.
URL:https://19thstreetband.com/event/the-spirit-store/
LOCATION:The Spirit Store\, George's Quay\, Dundalk\, Co. Louth\, Ireland
ATTACH;FMTTYPE=image/png:https://19thstreetband.com/wp-content/uploads/2024/07/album-cover-image-for-tour.png
END:VEVENT
BEGIN:VEVENT
DTSTART;TZID=America/New_York:20240831T123000
DTEND;TZID=America/New_York:20240831T133000
DTSTAMP:20260421T142729
CREATED:20240821T174640Z
LAST-MODIFIED:20240821T174640Z
UID:15328-1725107400-1725111000@19thstreetband.com
SUMMARY:Appaloosa Festival
DESCRIPTION:Appaloosa Festival is back for its 9th year and The 19th Street Band is so excited to be part of the great lineup!! Catch us on the Main Stage on Saturday 8/31 from 12:30-1:30pm! \nTICKETS!
URL:https://19thstreetband.com/event/appaloosa-festival/
LOCATION:Skyline Ranch Resort\, 751 Mountain Rd\, Front Royal\, VA\, 22630\, United States
ATTACH;FMTTYPE=image/jpeg:https://19thstreetband.com/wp-content/uploads/2024/08/IMG_8713.jpeg
END:VEVENT
BEGIN:VEVENT
DTSTART;TZID=America/New_York:20240831T220000
DTEND;TZID=America/New_York:20240901T000000
DTSTAMP:20260421T142729
CREATED:20240821T175801Z
LAST-MODIFIED:20240821T175801Z
UID:15333-1725141600-1725148800@19thstreetband.com
SUMMARY:Mango’s
DESCRIPTION:Our last show of the summer at Mango’s in Bethany Beach!! Be there!! 😎
URL:https://19thstreetband.com/event/mangos-5/
LOCATION:Mango’s Bethany Beach\, 97 Garfield Pkwy\, Bethany Beach\, DE\, 19930\, United States
ATTACH;FMTTYPE=image/jpeg:https://19thstreetband.com/wp-content/uploads/2024/08/57FE6223-CFF9-4C6B-90F7-1A733028DB8E-scaled.jpeg
END:VEVENT
END:VCALENDAR