BEGIN:VCALENDAR
VERSION:2.0
PRODID:-//The 19th Street Band - ECPv6.15.20//NONSGML v1.0//EN
CALSCALE:GREGORIAN
METHOD:PUBLISH
X-WR-CALNAME:The 19th Street Band
X-ORIGINAL-URL:https://19thstreetband.com
X-WR-CALDESC:Events for The 19th Street Band
REFRESH-INTERVAL;VALUE=DURATION:PT1H
X-Robots-Tag:noindex
X-PUBLISHED-TTL:PT1H
BEGIN:VTIMEZONE
TZID:America/New_York
BEGIN:DAYLIGHT
TZOFFSETFROM:-0500
TZOFFSETTO:-0400
TZNAME:EDT
DTSTART:20230312T070000
END:DAYLIGHT
BEGIN:STANDARD
TZOFFSETFROM:-0400
TZOFFSETTO:-0500
TZNAME:EST
DTSTART:20231105T060000
END:STANDARD
BEGIN:DAYLIGHT
TZOFFSETFROM:-0500
TZOFFSETTO:-0400
TZNAME:EDT
DTSTART:20240310T070000
END:DAYLIGHT
BEGIN:STANDARD
TZOFFSETFROM:-0400
TZOFFSETTO:-0500
TZNAME:EST
DTSTART:20241103T060000
END:STANDARD
BEGIN:DAYLIGHT
TZOFFSETFROM:-0500
TZOFFSETTO:-0400
TZNAME:EDT
DTSTART:20250309T070000
END:DAYLIGHT
BEGIN:STANDARD
TZOFFSETFROM:-0400
TZOFFSETTO:-0500
TZNAME:EST
DTSTART:20251102T060000
END:STANDARD
END:VTIMEZONE
BEGIN:VEVENT
DTSTART;TZID=America/New_York:20240607T180000
DTEND;TZID=America/New_York:20240607T220000
DTSTAMP:20260421T174140
CREATED:20240520T022110Z
LAST-MODIFIED:20240520T022110Z
UID:15239-1717783200-1717797600@19thstreetband.com
SUMMARY:Red\, White & Brews Fest: Poolesville Friday on the Commons
DESCRIPTION:Mark your calendar for Red\, White\, and Brews on June 7\, 2024. Grab your friends and get ready for a good time at this annual party in Poolesville! \nLocal breweries featuring Manor Hill\, local wine featuring Metzger Winery\, food trucks and inflatables. Bring the whole family! \nMichael Heister performs 6-8pm. \nThe 19th Street Band performs 8-10pm.
URL:https://19thstreetband.com/event/red-white-brews-fest-poolesville-friday-on-the-commons/
LOCATION:Whalen Commons\, 19701 Fisher Ave\, Poolesville\, MD\, 20837\, United States
ATTACH;FMTTYPE=image/jpeg:https://19thstreetband.com/wp-content/uploads/2023/03/red-white-and-brews-kick.jpg
END:VEVENT
BEGIN:VEVENT
DTSTART;TZID=America/New_York:20240608T220000
DTEND;TZID=America/New_York:20240609T000000
DTSTAMP:20260421T174140
CREATED:20240523T021146Z
LAST-MODIFIED:20240523T021146Z
UID:15241-1717884000-1717891200@19thstreetband.com
SUMMARY:Mango's Bethany Beach
DESCRIPTION:Summer is here! Keep Calm & Mango On!
URL:https://19thstreetband.com/event/mangos-bethany-beach-22/
LOCATION:Mango’s Bethany Beach\, 97 Garfield Pkwy\, Bethany Beach\, DE\, 19930\, United States
ATTACH;FMTTYPE=image/jpeg:https://19thstreetband.com/wp-content/uploads/2023/08/mangos-gcfl.jpg
END:VEVENT
BEGIN:VEVENT
DTSTART;TZID=America/New_York:20240609T143000
DTEND;TZID=America/New_York:20240609T180000
DTSTAMP:20260421T174140
CREATED:20240523T021417Z
LAST-MODIFIED:20240523T021417Z
UID:15243-1717943400-1717956000@19thstreetband.com
SUMMARY:The Starboard Dewey Beach
DESCRIPTION:Sunday Funday Deck Parties are back!! Catch us orange-crushing it with live tunes at The Starboard at 2:30pm!
URL:https://19thstreetband.com/event/the-starboard-dewey-beach-8/
LOCATION:The Starboard\, 2009 Coastal Hwy\, Dewey Beach\, DE\, 19971\, United States
ATTACH;FMTTYPE=image/jpeg:https://19thstreetband.com/wp-content/uploads/2022/04/19th-St-Band-square-event-scaled-1.jpg
END:VEVENT
BEGIN:VEVENT
DTSTART;TZID=America/New_York:20240611T183000
DTEND;TZID=America/New_York:20240611T200000
DTSTAMP:20260421T174140
CREATED:20240523T022535Z
LAST-MODIFIED:20240523T022535Z
UID:15245-1718130600-1718136000@19thstreetband.com
SUMMARY:Brookside Gardens Summer Twilight Concert Series
DESCRIPTION:Music by The 19th Street Band (Americana/Country/Rock)Food truck: Money Muscle BBQ\n\nJoin us Tuesday\, June 11th for a free concert set in the beauty of Brookside Gardens in Montgomery County\, MD! Bring your friends and family\, and don’t forget your chairs\, blankets\, and picnics (allowed in the Gardens on concert evenings only). Food trucks will be available for your dining pleasure. Kona Ice truck will also be onsite selling shave ice and ice cream treats.\n\nConcerts will take place on the lawn behind the Visitor Center located at 1800 Glenallan Avenue\, Wheaton\, MD. Admission is free\, and no registration is required.
URL:https://19thstreetband.com/event/brookside-gardens-summer-twilight-concert-series/
LOCATION:Brookside Gardens\, 1800 Glenallen Ave\, Wheaton\, MD\, 20902\, United States
ATTACH;FMTTYPE=image/jpeg:https://19thstreetband.com/wp-content/uploads/2024/05/brookside-gardens.jpg
END:VEVENT
BEGIN:VEVENT
DTSTART;TZID=America/New_York:20240613T190000
DTEND;TZID=America/New_York:20240613T210000
DTSTAMP:20260421T174140
CREATED:20240523T023432Z
LAST-MODIFIED:20240523T023432Z
UID:15250-1718305200-1718312400@19thstreetband.com
SUMMARY:Lewes Canalfront Park Summer Concert Series
DESCRIPTION:2024 Summer Concert Series\nThursday June 13th\, The 19th Street Band 7-9pm\nPlease feel free to bring non-alcoholic beverages\, chairs and food. There will not be beverages for sale. \nAll Events are FREE for the community\, thanks to our event sponsors!\nPhoto by Eric Reiske
URL:https://19thstreetband.com/event/lewes-canalfront-park-summer-concert-series/
LOCATION:Canalfront Park\, 211 Front Street\, Lewes\, DE\, 19958\, United States
ATTACH;FMTTYPE=image/jpeg:https://19thstreetband.com/wp-content/uploads/2024/05/canalfront-park.jpg
END:VEVENT
BEGIN:VEVENT
DTSTART;TZID=America/New_York:20240614T190000
DTEND;TZID=America/New_York:20240614T203000
DTSTAMP:20260421T174140
CREATED:20240328T153132Z
LAST-MODIFIED:20240328T153132Z
UID:15208-1718391600-1718397000@19thstreetband.com
SUMMARY:Freeman Arts Pavilion
DESCRIPTION:TICKETS ON SALE NOW – CLICK HERE!!!! \n\n***HUGE Summer Show Announcement***\n\n\nMark your calendars for Friday\, JUNE 14th and join us at the Freeman Arts Pavilion in Selbyville\, DE!!! This is going to be a spectacular night at the beach. We are incredibly honored for this opportunity to play this great stage and showcase our original music and new album! So tell your neighbor\, tell your family\, tell all your peeps & their dogs and get those tickets! Tickets are on sale now. A very special thank you to the Freeman Arts Pavilion family for having us!\n\n\n\nhttps://www.freemanarts.org/…/the-19th-street-band…\n\nTickets are $15+fees. Children 12 and under do not require a ticket and are free to attend. \n  \nPhoto by Natalee DeHart
URL:https://19thstreetband.com/event/freeman-arts-pavilion/
LOCATION:Freeman Arts Pavilion\, 31750 Lake View Drive\, Selbyville\, DE\, 19975\, United States
ATTACH;FMTTYPE=image/jpeg:https://19thstreetband.com/wp-content/uploads/2024/03/natalee-dehart-freeman-2020.jpg
END:VEVENT
BEGIN:VEVENT
DTSTART;TZID=America/New_York:20240615T200000
DTEND;TZID=America/New_York:20240615T223000
DTSTAMP:20260421T174140
CREATED:20240328T153658Z
LAST-MODIFIED:20240328T153658Z
UID:15213-1718481600-1718490600@19thstreetband.com
SUMMARY:The Collective Encore
DESCRIPTION:Get on out to this great live music venue in Columbia\, MD for a night with The 19th Street Band!!! Always a pleasure to showcase our music in this room. Get your tickets now! \nShowtime 8pm. Doors 7pm. \nTICKETS HERE!! \n 
URL:https://19thstreetband.com/event/the-collective-encore-2/
LOCATION:The Collective Encore\, 10222 Wincopin Circle\, Columbia\, MD\, 21044\, United States
ATTACH;FMTTYPE=image/jpeg:https://19thstreetband.com/wp-content/uploads/2023/09/brooke-lowe-the-encore.jpg
END:VEVENT
BEGIN:VEVENT
DTSTART;TZID=America/New_York:20240621T190000
DTEND;TZID=America/New_York:20240621T210000
DTSTAMP:20260421T174140
CREATED:20240523T024821Z
LAST-MODIFIED:20240523T024821Z
UID:15254-1718996400-1719003600@19thstreetband.com
SUMMARY:Harmony Woods Music & Beer Fest
DESCRIPTION:LOCATED ON THEMARYLAND CENTER FOR THE ARTS PROPERTY2503 S. Tollgate Road\, Bel Air\, Maryland\nThe Harmony Woods Music & Beer Fest will raise funds to support the creation of MCA’s full-scale regional arts center that will provide access to a wide range of arts activity and programming for all ages in Harford County and across the state of Maryland. This is a family-friendly event\, open to all ages and musical tastes! \n\n\n\n\nPre-Party Show\n\n\nFRIDAY JUNE 21ST\n\n\nLIVE MUSIC WITHThe 19th Street Band \nGates open 5:00 pm \n\n\n\n\n\n\n\nMusic starts at 6:00 pm with the Hopkins Brewery Band Contest Winner \nTICKETS HERE!!! \n(Band contest will take place June 8th @ Hopkins Farm Brewery. Click HERE to enter.) \n\n\n\n\nGeneral Information\n\n\nLOCAL FOOD TRUCKS    |    CRAFT COCKTAILS     |     WINES     |     LOCAL BREWERIES \nFREE GENERAL PARKING     |     FREE REUSABLE RECYCLABLE STEEL CHILL CUP \n\n\nNO BEACH UMBRELLAS OR TENTS ALLOWED. \nALL BAGS ARE SUBJECT TO INSPECTION. \nNO OUTSIDE ALCOHOLIC BEVERAGES ALLOWED. \nCHAIRS PERMITTED IN DESIGNATED AREAS. \nRAIN OR SHINE EVENT. \n\n\n\n\nPRE-PARTY FRIDAY ADMISSION ONLY: $15\n\n\nFROM ( 5 PM-9 PM)\, ONE NIGHT ONLY. 16 YEARS AND UNDER\, NO CHARGE. \n\n\n\n\n\nADVANCE GENERAL ADMISSION: $35\n\n\nINCLUDES FRIDAY FROM 5 PM – 9 PM & SATURDAY FROM 11 AM – 9:30 PM \n2-DAY PASS GENERAL ADMISSION. \n16 YEARS AND UNDER\, NO CHARGE. \n\n\n\n\n\nADVANCE GENERAL ADMISSION FOR TWO: $60\n\n\nINCLUDES FRIDAY FROM 5 PM – 9 PM & SATURDAY FROM 11 AM – 9:30 PM \n2-DAY PASS GENERAL ADMISSION. \n16 YEARS AND UNDER\, NO CHARGE. \n\n\n\n\n\n2-DAY VIP ADMISSION: $99\n\n\n2-DAY VIP EXCLUSIVE PARKING\, SPECIAL CHECK IN AREA\, PREFERRED \nVIEWING AREA. ACCESS TO VIP BEER GARDEN\, 2 BEVERAGE TICKETS\, ONE GOURMET CHEF PREPARED HOT DINNER FROM \nPAIRINGS BISTRO. (SATURDAY ONLY)\, ONE SNACK (SATURDAY ONLY) \nVIP AIR-CONDITIONED RESTROOMS. * 16 YEARS AND UNDER\, NO DISCOUNT
URL:https://19thstreetband.com/event/harmony-woods-music-beer-fest/
LOCATION:Maryland Center for the Arts\, 2503 S. Tollgate Road\, Bel Air\, MD\, United States
ATTACH;FMTTYPE=image/png:https://19thstreetband.com/wp-content/uploads/2024/05/harmony-woods-friday-flier.png
END:VEVENT
BEGIN:VEVENT
DTSTART;TZID=America/New_York:20240622T183000
DTEND;TZID=America/New_York:20240622T220000
DTSTAMP:20260421T174140
CREATED:20240523T025933Z
LAST-MODIFIED:20240523T025933Z
UID:15258-1719081000-1719093600@19thstreetband.com
SUMMARY:Starr Hill Biergarten Tysons
DESCRIPTION:Rooftop Time! See you in the biergarten at Starr Hill in Tysons\, VA! Dancing\, music & brews…. \n  \nPhoto by Gary Lawson
URL:https://19thstreetband.com/event/starr-hill-biergarten-tysons-6/
LOCATION:Starr Hill Biergarten Tysons\, 1805 Capital One Dr\, Suite 1100\, Tysons\, VA\, 22102\, United States
ATTACH;FMTTYPE=image/jpeg:https://19thstreetband.com/wp-content/uploads/2024/05/starr-hill-gary-lawson.jpg
END:VEVENT
BEGIN:VEVENT
DTSTART;TZID=America/New_York:20240623T153000
DTEND;TZID=America/New_York:20240623T173000
DTSTAMP:20260421T174140
CREATED:20240523T030851Z
LAST-MODIFIED:20240523T030851Z
UID:15261-1719156600-1719163800@19thstreetband.com
SUMMARY:Lookout Music & Arts Festival - Schellville\, Rehoboth
DESCRIPTION:Lookout Music & Arts Festival\n\n\n\nJoin us for our 2nd annual Lookout Music & Arts Festival – we have changed it up a bit this year and are adding in the art element! We will be hosting 3 bands per day on our main stage\, creating an entire FUN zone for kids\, inviting other unique local artisans to join us on the skating rink\, and more! \nLineup\n6/22\n1-3pm Rogue Citizens\n330-530 Kleptoradio\n6-8 So Fetch \n6/23\n1-3pm Rainbow Full of Sound\n3:30-5:30 The 19th Street Band\n6-8 The Breakers – A Tribute to Tom Petty \nFUN Zone for kids will include: face painters\, balloon twisters\, bounce houses\, temporary tattoo artist\, and more! \nFood trucks\, artisans\, & snack shacks will be open for you to enjoy food\, beverages\, and local artisan’s goods. \nChildren under 2 are free\, all individuals 2+ require a ticket. \nThis event will be rain or shine. All tickets are NON-REFUNDABLE and considered a donation to Schell Brothers Foundation in order to keep our Enchanted Winter Celebration FREE for all! \n\n\nLOCATION\nSchellville\, 19971 \nTICKETS HERE!!!
URL:https://19thstreetband.com/event/lookout-music-arts-festival-schellville-rehoboth/
LOCATION:Schellville\, 36470 Seaside Outlet Dr\, Rehoboth Beach\, DE\, 19971\, United States
ATTACH;FMTTYPE=image/jpeg:https://19thstreetband.com/wp-content/uploads/2024/05/lookout-festival-schellville-scaled.jpg
END:VEVENT
BEGIN:VEVENT
DTSTART;TZID=America/New_York:20240629T190000
DTEND;TZID=America/New_York:20240629T210000
DTSTAMP:20260421T174140
CREATED:20240328T161919Z
LAST-MODIFIED:20240328T161919Z
UID:15216-1719687600-1719694800@19thstreetband.com
SUMMARY:Rockwell Brewery Riverside
DESCRIPTION:FREDERICK\, join us for our first show at Rockwell Brewery’s Riverside Tap Room located at 8411 Broadband Drive Suite K Frederick\, MD. 21701!! \nRockwell’s Riverside location is the largest Tap Room in Frederick\, featuring plenty of seating\, live music\, events\, a private event space\, as usual\, amazing beer! \nWe’re so excited to have a show here\, so grab all your friends and join us for a great night in Frederick\, MD!!! \nTICKETS AVAILABLE VIA EVENTBRITE!
URL:https://19thstreetband.com/event/rockwell-brewery-riverside/
LOCATION:Rockwell Brewery Riverside\, 8411 Broadband Drive Suite K\, Frederick\, MD\, 21701\, United States
END:VEVENT
END:VCALENDAR