BEGIN:VCALENDAR
VERSION:2.0
PRODID:-//The 19th Street Band - ECPv6.15.20//NONSGML v1.0//EN
CALSCALE:GREGORIAN
METHOD:PUBLISH
X-WR-CALNAME:The 19th Street Band
X-ORIGINAL-URL:https://19thstreetband.com
X-WR-CALDESC:Events for The 19th Street Band
REFRESH-INTERVAL;VALUE=DURATION:PT1H
X-Robots-Tag:noindex
X-PUBLISHED-TTL:PT1H
BEGIN:VTIMEZONE
TZID:UTC
BEGIN:STANDARD
TZOFFSETFROM:+0000
TZOFFSETTO:+0000
TZNAME:UTC
DTSTART:20150101T000000
END:STANDARD
END:VTIMEZONE
BEGIN:VEVENT
DTSTART;TZID=UTC:20160928T200000
DTEND;TZID=UTC:20160928T230000
DTSTAMP:20260423T053331
CREATED:20160915T142149Z
LAST-MODIFIED:20160917T135009Z
UID:7423-1475092800-1475103600@19thstreetband.com
SUMMARY:Lahinch Tavern & Grill
DESCRIPTION:
URL:https://19thstreetband.com/event/potomac-maryland/
LOCATION:Lahinch Tavern & Grill\, 7747 Tuckerman Lane\, Potomac\, MD\, 20854\, United States
END:VEVENT
BEGIN:VEVENT
DTSTART;TZID=UTC:20160927T193000
DTEND;TZID=UTC:20160927T223000
DTSTAMP:20260423T053331
CREATED:20160915T142032Z
LAST-MODIFIED:20160917T135049Z
UID:7421-1475004600-1475015400@19thstreetband.com
SUMMARY:Ireland's Four Provinces
DESCRIPTION:
URL:https://19thstreetband.com/event/falls-church-va/
LOCATION:Ireland’s Four Provinces\, 105 W Broad St\, Ste 1\, Falls Church\, VA\, 22046\, United States
END:VEVENT
BEGIN:VEVENT
DTSTART;TZID=UTC:20160923T220000
DTEND;TZID=UTC:20160924T010000
DTSTAMP:20260423T053331
CREATED:20160914T194352Z
LAST-MODIFIED:20160917T135117Z
UID:7417-1474668000-1474678800@19thstreetband.com
SUMMARY:The Hamilton
DESCRIPTION:Note the new start time in the Loft – a little earlier for those who need to catch the Metro home…10pm!
URL:https://19thstreetband.com/event/washington-dc/
LOCATION:The Hamilton\, 600 14th St NW\, Washington\, DC\, 20005\, United States
ATTACH;FMTTYPE=image/jpeg:https://19thstreetband.com/wp-content/uploads/2016/09/19-1.jpg
END:VEVENT
BEGIN:VEVENT
DTSTART;TZID=UTC:20160922T200000
DTEND;TZID=UTC:20160922T230000
DTSTAMP:20260423T053331
CREATED:20160914T194101Z
LAST-MODIFIED:20160917T135146Z
UID:7413-1474574400-1474585200@19thstreetband.com
SUMMARY:Limerick Pub
DESCRIPTION:
URL:https://19thstreetband.com/event/silver-spring-md/
LOCATION:Limerick Pub\, 11301 Elkin Street\, Wheaton\, MD\, 20902\, United States
END:VEVENT
BEGIN:VEVENT
DTSTART;TZID=UTC:20160921T200000
DTEND;TZID=UTC:20160921T230000
DTSTAMP:20260423T053331
CREATED:20160914T193928Z
LAST-MODIFIED:20160917T135216Z
UID:7411-1474488000-1474498800@19thstreetband.com
SUMMARY:Irish Inn
DESCRIPTION:
URL:https://19thstreetband.com/event/glen-echo-md/
LOCATION:Irish Inn\, 6119 Tulane Ave\, Glen Echo\, MD\, 20812\, United States
END:VEVENT
BEGIN:VEVENT
DTSTART;TZID=UTC:20160920T193000
DTEND;TZID=UTC:20160920T223000
DTSTAMP:20260423T053331
CREATED:20160914T193755Z
LAST-MODIFIED:20160917T135244Z
UID:7407-1474399800-1474410600@19thstreetband.com
SUMMARY:Ireland's Four Provinces
DESCRIPTION:
URL:https://19thstreetband.com/event/falls-church-virginia/
LOCATION:Ireland’s Four Provinces\, 105 W Broad St\, Ste 1\, Falls Church\, VA\, 22046\, United States
ATTACH;FMTTYPE=image/jpeg:https://19thstreetband.com/wp-content/uploads/2016/09/13726729_500112460184778_7644784346533511022_n.jpg
END:VEVENT
BEGIN:VEVENT
DTSTART;TZID=UTC:20160918T150000
DTEND;TZID=UTC:20160918T190000
DTSTAMP:20260423T053331
CREATED:20160914T192718Z
LAST-MODIFIED:20160917T135834Z
UID:7399-1474210800-1474225200@19thstreetband.com
SUMMARY:Irish Music Fest @Irish Inn
DESCRIPTION:The Irish Inn Mates will perform from 3-5pm along with the Culkin School of Traditional Irish Dance. Then the 19th Street Band takes the stage from 5-7pm. Don’t miss this family-friendly event!
URL:https://19thstreetband.com/event/glen-echo-maryland/
LOCATION:Irish Inn\, 6119 Tulane Ave\, Glen Echo\, MD\, 20812\, United States
END:VEVENT
BEGIN:VEVENT
DTSTART;TZID=UTC:20160917T213000
DTEND;TZID=UTC:20160918T010000
DTSTAMP:20260423T053331
CREATED:20160914T192356Z
LAST-MODIFIED:20160917T140440Z
UID:7395-1474147800-1474160400@19thstreetband.com
SUMMARY:Halfway to Paddy's Day @Finnegan's Wake
DESCRIPTION:Can you believe it’s only 6 months to St. Patrick’s Day?!\nTime to celebrate “Halfway to Paddy’s Day” with us at Finnegan’s Wake in Rockville Town Square!
URL:https://19thstreetband.com/event/rockville-maryland/
LOCATION:Finnegan’s Wake\, 100 Gibbs Street\, Rockville\, MD\, 20850\, United States
END:VEVENT
BEGIN:VEVENT
DTSTART;TZID=UTC:20160915T183000
DTEND;TZID=UTC:20160915T203000
DTSTAMP:20260423T053331
CREATED:20160914T191824Z
LAST-MODIFIED:20160914T191824Z
UID:7392-1473964200-1473971400@19thstreetband.com
SUMMARY:Auburn\, Virginia
DESCRIPTION:
URL:https://19thstreetband.com/event/auburn-virginia/
LOCATION:Loudoun Station\, 43805 Central Station Dr\, Ashburn\, VA\, 20147\, United States
END:VEVENT
END:VCALENDAR