BEGIN:VCALENDAR
VERSION:2.0
PRODID:-//The 19th Street Band - ECPv6.15.20//NONSGML v1.0//EN
CALSCALE:GREGORIAN
METHOD:PUBLISH
X-WR-CALNAME:The 19th Street Band
X-ORIGINAL-URL:https://19thstreetband.com
X-WR-CALDESC:Events for The 19th Street Band
REFRESH-INTERVAL;VALUE=DURATION:PT1H
X-Robots-Tag:noindex
X-PUBLISHED-TTL:PT1H
BEGIN:VTIMEZONE
TZID:UTC
BEGIN:STANDARD
TZOFFSETFROM:+0000
TZOFFSETTO:+0000
TZNAME:UTC
DTSTART:20150101T000000
END:STANDARD
END:VTIMEZONE
BEGIN:VEVENT
DTSTART;TZID=UTC:20161207T200000
DTEND;TZID=UTC:20161207T230000
DTSTAMP:20260423T232844
CREATED:20161130T010841Z
LAST-MODIFIED:20161130T010841Z
UID:7999-1481140800-1481151600@19thstreetband.com
SUMMARY:Lahinch Tavern & Grill
DESCRIPTION:
URL:https://19thstreetband.com/event/lahinch-tavern-grill-2/
LOCATION:Lahinch Tavern & Grill\, 7747 Tuckerman Lane\, Potomac\, MD\, 20854\, United States
END:VEVENT
BEGIN:VEVENT
DTSTART;TZID=UTC:20161206T193000
DTEND;TZID=UTC:20161206T223000
DTSTAMP:20260423T232844
CREATED:20161123T123339Z
LAST-MODIFIED:20161123T123339Z
UID:7993-1481052600-1481063400@19thstreetband.com
SUMMARY:Ireland's Four Provinces
DESCRIPTION:
URL:https://19thstreetband.com/event/irelands-four-provinces-3/
LOCATION:Ireland’s Four Provinces\, 105 W Broad St\, Ste 1\, Falls Church\, VA\, 22046\, United States
END:VEVENT
BEGIN:VEVENT
DTSTART;TZID=UTC:20161203T170000
DTEND;TZID=UTC:20161203T210000
DTSTAMP:20260423T232844
CREATED:20161123T123103Z
LAST-MODIFIED:20161123T123103Z
UID:7991-1480784400-1480798800@19thstreetband.com
SUMMARY:Seacrets
DESCRIPTION:
URL:https://19thstreetband.com/event/seacrets/
LOCATION:Seacrets Jamaica USA\, 117 49th street\, Ocean City\, MD\, 21842\, United States
ATTACH;FMTTYPE=image/jpeg:https://19thstreetband.com/wp-content/uploads/2016/10/seacrets-5.jpg
END:VEVENT
BEGIN:VEVENT
DTSTART;TZID=UTC:20161202T213000
DTEND;TZID=UTC:20161202T235500
DTSTAMP:20260423T232844
CREATED:20161123T122954Z
LAST-MODIFIED:20161123T122954Z
UID:7989-1480714200-1480722900@19thstreetband.com
SUMMARY:Harp & Fiddle
DESCRIPTION:
URL:https://19thstreetband.com/event/harp-fiddle/
LOCATION:Flanagan’s Harp & Fiddle\, 4844 Cordell Ave\, Bethesda\, MD\, 20814\, United States
END:VEVENT
BEGIN:VEVENT
DTSTART;TZID=UTC:20161201T210000
DTEND;TZID=UTC:20161201T235500
DTSTAMP:20260423T232844
CREATED:20161123T122856Z
LAST-MODIFIED:20161123T122856Z
UID:7987-1480626000-1480636500@19thstreetband.com
SUMMARY:Samuel Beckett's
DESCRIPTION:
URL:https://19thstreetband.com/event/samuel-becketts-4/
LOCATION:Samuel Beckett’s\, 2800 S Randolph St #110\, Arlington\, VA\, 22206\, United States
END:VEVENT
BEGIN:VEVENT
DTSTART;TZID=UTC:20161130T200000
DTEND;TZID=UTC:20161130T230000
DTSTAMP:20260423T232844
CREATED:20161123T122752Z
LAST-MODIFIED:20161123T122752Z
UID:7985-1480536000-1480546800@19thstreetband.com
SUMMARY:The Irish Inn
DESCRIPTION:
URL:https://19thstreetband.com/event/the-irish-inn-4/
LOCATION:Irish Inn\, 6119 Tulane Ave\, Glen Echo\, MD\, 20812\, United States
END:VEVENT
BEGIN:VEVENT
DTSTART;TZID=UTC:20161123T200000
DTEND;TZID=UTC:20161123T230000
DTSTAMP:20260423T232844
CREATED:20161109T024600Z
LAST-MODIFIED:20161109T024600Z
UID:7961-1479931200-1479942000@19thstreetband.com
SUMMARY:Thanksgiving Eve @ The Irish Inn!
DESCRIPTION:Grab your friends & family that are in town and join us for the best holiday party of the year – Thanksgiving Eve at The Irish Inn!!! Don’t miss out!
URL:https://19thstreetband.com/event/thanksgiving-eve-irish-inn/
LOCATION:Irish Inn\, 6119 Tulane Ave\, Glen Echo\, MD\, 20812\, United States
END:VEVENT
BEGIN:VEVENT
DTSTART;TZID=UTC:20161118T223000
DTEND;TZID=UTC:20161119T013000
DTSTAMP:20260423T232844
CREATED:20161031T082540Z
LAST-MODIFIED:20161031T083013Z
UID:7913-1479508200-1479519000@19thstreetband.com
SUMMARY:Hamilton Loft Bar\, DC
DESCRIPTION:
URL:https://19thstreetband.com/event/hamilton-loft-bar-dc/
LOCATION:The Hamilton\, 600 14th St NW\, Washington\, DC\, 20005\, United States
ATTACH;FMTTYPE=image/jpeg:https://19thstreetband.com/wp-content/uploads/2016/10/hamilton-1-scaled.jpg
END:VEVENT
BEGIN:VEVENT
DTSTART;TZID=UTC:20161117T210000
DTEND;TZID=UTC:20161118T003000
DTSTAMP:20260423T232844
CREATED:20161109T024325Z
LAST-MODIFIED:20161109T024325Z
UID:7959-1479416400-1479429000@19thstreetband.com
SUMMARY:Samuel Beckett's
DESCRIPTION:
URL:https://19thstreetband.com/event/samuel-becketts-3/
LOCATION:Samuel Beckett’s\, 2800 S Randolph St #110\, Arlington\, VA\, 22206\, United States
END:VEVENT
BEGIN:VEVENT
DTSTART;TZID=UTC:20161116T200000
DTEND;TZID=UTC:20161116T230000
DTSTAMP:20260423T232844
CREATED:20161109T024211Z
LAST-MODIFIED:20161109T024211Z
UID:7957-1479326400-1479337200@19thstreetband.com
SUMMARY:The Irish Inn
DESCRIPTION:
URL:https://19thstreetband.com/event/the-irish-inn-3/
LOCATION:Irish Inn\, 6119 Tulane Ave\, Glen Echo\, MD\, 20812\, United States
ATTACH;FMTTYPE=image/jpeg:https://19thstreetband.com/wp-content/uploads/2016/10/hamilton-2-scaled.jpg
END:VEVENT
BEGIN:VEVENT
DTSTART;TZID=UTC:20161112T140000
DTEND;TZID=UTC:20161112T170000
DTSTAMP:20260423T232844
CREATED:20161109T024012Z
LAST-MODIFIED:20161109T024012Z
UID:7954-1478959200-1478970000@19thstreetband.com
SUMMARY:NWLB Fundraiser @ Lahinch
DESCRIPTION:“No Warrior Left Behind” Fundraiser for Montgomery County Police Officer Kyle Olinger. $25 entry fee includes 2 beers! \nFlying Dog beer\, food & drink specials\, live music 2-5pm\, bouncy castles\, family-friendly fun!
URL:https://19thstreetband.com/event/nwlb-fundraiser-lahinch/
LOCATION:Lahinch Tavern & Grill\, 7747 Tuckerman Lane\, Potomac\, MD\, 20854\, United States
END:VEVENT
BEGIN:VEVENT
DTSTART;TZID=UTC:20161111T210000
DTEND;TZID=UTC:20161112T003000
DTSTAMP:20260423T232844
CREATED:20161031T082407Z
LAST-MODIFIED:20161031T082407Z
UID:7911-1478898000-1478910600@19thstreetband.com
SUMMARY:Finnegan's Wake\, Rockville
DESCRIPTION:
URL:https://19thstreetband.com/event/finnegans-wake-rockville/
LOCATION:Finnegan’s Wake\, 100 Gibbs Street\, Rockville\, MD\, 20850\, United States
END:VEVENT
BEGIN:VEVENT
DTSTART;TZID=UTC:20161110T203000
DTEND;TZID=UTC:20161111T003000
DTSTAMP:20260423T232844
CREATED:20161031T082237Z
LAST-MODIFIED:20161031T082238Z
UID:7906-1478809800-1478824200@19thstreetband.com
SUMMARY:JV's Restaurant\, Falls Church
DESCRIPTION:
URL:https://19thstreetband.com/event/jvs-restaurant-falls-church/
LOCATION:JV’s Restaurant\, 6666  Arlington Blvd.\, Falls Church\, VA\, 22042\, United States
END:VEVENT
BEGIN:VEVENT
DTSTART;TZID=UTC:20161109T200000
DTEND;TZID=UTC:20161109T230000
DTSTAMP:20260423T232844
CREATED:20161031T081808Z
LAST-MODIFIED:20161031T081808Z
UID:7904-1478721600-1478732400@19thstreetband.com
SUMMARY:Lahinch Tavern & Grill
DESCRIPTION:
URL:https://19thstreetband.com/event/lahinch-tavern-grill/
LOCATION:Lahinch Tavern & Grill\, 7747 Tuckerman Lane\, Potomac\, MD\, 20854\, United States
END:VEVENT
BEGIN:VEVENT
DTSTART;TZID=UTC:20161106T140000
DTEND;TZID=UTC:20161106T170000
DTSTAMP:20260423T232844
CREATED:20161031T081226Z
LAST-MODIFIED:20161031T081226Z
UID:7900-1478440800-1478451600@19thstreetband.com
SUMMARY:The Starboard
DESCRIPTION:
URL:https://19thstreetband.com/event/the-starboard/
LOCATION:The Starboard\, 2009 Coastal Hwy\, Dewey Beach\, DE\, 19971\, United States
ATTACH;FMTTYPE=image/jpeg:https://19thstreetband.com/wp-content/uploads/2016/10/seacrets-5.jpg
END:VEVENT
BEGIN:VEVENT
DTSTART;TZID=UTC:20161105T170000
DTEND;TZID=UTC:20161105T210000
DTSTAMP:20260423T232844
CREATED:20161031T080641Z
LAST-MODIFIED:20161031T080641Z
UID:7897-1478365200-1478379600@19thstreetband.com
SUMMARY:Seacrets OC
DESCRIPTION:
URL:https://19thstreetband.com/event/seacrets-oc/
LOCATION:Seacrets Jamaica USA\, 117 49th street\, Ocean City\, MD\, 21842\, United States
ATTACH;FMTTYPE=image/jpeg:https://19thstreetband.com/wp-content/uploads/2016/10/seacrets-4.jpg
END:VEVENT
BEGIN:VEVENT
DTSTART;TZID=UTC:20161104T213000
DTEND;TZID=UTC:20161105T010000
DTSTAMP:20260423T232844
CREATED:20161031T080345Z
LAST-MODIFIED:20161031T080855Z
UID:7895-1478295000-1478307600@19thstreetband.com
SUMMARY:Flanagan's Harp & Fiddle
DESCRIPTION:
URL:https://19thstreetband.com/event/flanagans-harp-fiddle/
LOCATION:Flanagan’s Harp & Fiddle\, 4844 Cordell Ave\, Bethesda\, MD\, 20814\, United States
END:VEVENT
BEGIN:VEVENT
DTSTART;TZID=UTC:20161103T210000
DTEND;TZID=UTC:20161104T003000
DTSTAMP:20260423T232844
CREATED:20161031T074824Z
LAST-MODIFIED:20161031T074824Z
UID:7893-1478206800-1478219400@19thstreetband.com
SUMMARY:Samuel Beckett's
DESCRIPTION:
URL:https://19thstreetband.com/event/samuel-becketts-2/
LOCATION:Samuel Beckett’s\, 2800 S Randolph St #110\, Arlington\, VA\, 22206\, United States
END:VEVENT
BEGIN:VEVENT
DTSTART;TZID=UTC:20161102T200000
DTEND;TZID=UTC:20161102T230000
DTSTAMP:20260423T232844
CREATED:20161031T074654Z
LAST-MODIFIED:20161031T074654Z
UID:7890-1478116800-1478127600@19thstreetband.com
SUMMARY:The Irish Inn
DESCRIPTION:
URL:https://19thstreetband.com/event/the-irish-inn-2/
LOCATION:Irish Inn\, 6119 Tulane Ave\, Glen Echo\, MD\, 20812\, United States
END:VEVENT
BEGIN:VEVENT
DTSTART;TZID=UTC:20161101T193000
DTEND;TZID=UTC:20161101T223000
DTSTAMP:20260423T232844
CREATED:20161031T074201Z
LAST-MODIFIED:20161031T074201Z
UID:7888-1478028600-1478039400@19thstreetband.com
SUMMARY:Ireland's Four Provinces
DESCRIPTION:
URL:https://19thstreetband.com/event/irelands-four-provinces-2/
LOCATION:Ireland’s Four Provinces\, 105 W Broad St\, Ste 1\, Falls Church\, VA\, 22046\, United States
END:VEVENT
BEGIN:VEVENT
DTSTART;TZID=UTC:20161030T120000
DTEND;TZID=UTC:20161030T150000
DTSTAMP:20260423T232844
CREATED:20161018T021939Z
LAST-MODIFIED:20161018T022037Z
UID:7776-1477828800-1477839600@19thstreetband.com
SUMMARY:Clark's Farm
DESCRIPTION:Time for pumpkins\, face painting\, moon bounce\, pony rides\, and lots of family fun at Clark’s Farm in Stafford\, VA!!
URL:https://19thstreetband.com/event/clarks-farm/
LOCATION:Clark’s Farm\, 721 Courthouse Rd\, Stafford\, VA\, 22554\, United States
END:VEVENT
BEGIN:VEVENT
DTSTART;TZID=UTC:20161028T223000
DTEND;TZID=UTC:20161029T013000
DTSTAMP:20260423T232844
CREATED:20161018T021514Z
LAST-MODIFIED:20161029T032742Z
UID:7774-1477693800-1477704600@19thstreetband.com
SUMMARY:Hamilton LOFT
DESCRIPTION:
URL:https://19thstreetband.com/event/hamilton-loft/
LOCATION:The Hamilton\, 600 14th St NW\, Washington\, DC\, 20005\, United States
END:VEVENT
BEGIN:VEVENT
DTSTART;TZID=UTC:20161027T200000
DTEND;TZID=UTC:20161027T230000
DTSTAMP:20260423T232844
CREATED:20161018T021329Z
LAST-MODIFIED:20161018T021329Z
UID:7771-1477598400-1477609200@19thstreetband.com
SUMMARY:Limerick Pub
DESCRIPTION:
URL:https://19thstreetband.com/event/limerick-pub/
LOCATION:Limerick Pub\, 11301 Elkin Street\, Wheaton\, MD\, 20902\, United States
END:VEVENT
BEGIN:VEVENT
DTSTART;TZID=UTC:20161026T200000
DTEND;TZID=UTC:20161026T230000
DTSTAMP:20260423T232844
CREATED:20161018T021137Z
LAST-MODIFIED:20161018T021137Z
UID:7768-1477512000-1477522800@19thstreetband.com
SUMMARY:Lahinch Tavern
DESCRIPTION:
URL:https://19thstreetband.com/event/lahinch-tavern/
LOCATION:Lahinch Tavern & Grill\, 7747 Tuckerman Lane\, Potomac\, MD\, 20854\, United States
END:VEVENT
BEGIN:VEVENT
DTSTART;TZID=UTC:20161021T210000
DTEND;TZID=UTC:20161021T210000
DTSTAMP:20260423T232844
CREATED:20161018T020926Z
LAST-MODIFIED:20161018T020926Z
UID:7766-1477083600-1477083600@19thstreetband.com
SUMMARY:Finnegan's Wake
DESCRIPTION:
URL:https://19thstreetband.com/event/finnegans-wake/
LOCATION:Finnegan’s Wake\, 100 Gibbs Street\, Rockville\, MD\, 20850\, United States
END:VEVENT
BEGIN:VEVENT
DTSTART;TZID=UTC:20161020T210000
DTEND;TZID=UTC:20161021T003000
DTSTAMP:20260423T232844
CREATED:20161018T001521Z
LAST-MODIFIED:20161018T001521Z
UID:7761-1476997200-1477009800@19thstreetband.com
SUMMARY:Samuel Beckett's
DESCRIPTION:
URL:https://19thstreetband.com/event/samuel-becketts/
LOCATION:Samuel Beckett’s\, 2800 S Randolph St #110\, Arlington\, VA\, 22206\, United States
END:VEVENT
BEGIN:VEVENT
DTSTART;TZID=UTC:20161019T200000
DTEND;TZID=UTC:20161019T230000
DTSTAMP:20260423T232844
CREATED:20161018T001210Z
LAST-MODIFIED:20161018T001210Z
UID:7759-1476907200-1476918000@19thstreetband.com
SUMMARY:The Irish Inn
DESCRIPTION:
URL:https://19thstreetband.com/event/the-irish-inn/
LOCATION:Irish Inn\, 6119 Tulane Ave\, Glen Echo\, MD\, 20812\, United States
ATTACH;FMTTYPE=image/jpeg:https://19thstreetband.com/wp-content/uploads/2015/09/14202711_516985191830838_2725271605558351288_n.jpg
END:VEVENT
BEGIN:VEVENT
DTSTART;TZID=UTC:20161018T193000
DTEND;TZID=UTC:20161018T223000
DTSTAMP:20260423T232844
CREATED:20161018T000825Z
LAST-MODIFIED:20161018T001009Z
UID:7756-1476819000-1476829800@19thstreetband.com
SUMMARY:Ireland's Four Provinces
DESCRIPTION:
URL:https://19thstreetband.com/event/irelands-four-provinces/
LOCATION:Ireland’s Four Provinces\, 105 W Broad St\, Ste 1\, Falls Church\, VA\, 22046\, United States
END:VEVENT
BEGIN:VEVENT
DTSTART;TZID=UTC:20160930T170000
DTEND;TZID=UTC:20160930T210000
DTSTAMP:20260423T232844
CREATED:20160915T142626Z
LAST-MODIFIED:20160917T134914Z
UID:7429-1475254800-1475269200@19thstreetband.com
SUMMARY:Secrets Jamaica
DESCRIPTION:Join us for some Friday fun at Seacrets Jamaica USA!
URL:https://19thstreetband.com/event/ocean-city-md/
LOCATION:Seacrets Jamaica USA\, 117 49th street\, Ocean City\, MD\, 21842\, United States
END:VEVENT
BEGIN:VEVENT
DTSTART;TZID=UTC:20160929T200000
DTEND;TZID=UTC:20160929T233000
DTSTAMP:20260423T232844
CREATED:20160915T142403Z
LAST-MODIFIED:20160917T134938Z
UID:7425-1475179200-1475191800@19thstreetband.com
SUMMARY:Growlers
DESCRIPTION:
URL:https://19thstreetband.com/event/gaithersburg-md/
LOCATION:Greene Growlers\, 227 E Diamond Ave\, Gaithersburg\, MD\, 20877\, United States
ATTACH;FMTTYPE=image/jpeg:https://19thstreetband.com/wp-content/uploads/2016/09/13726729_500112460184778_7644784346533511022_n.jpg
END:VEVENT
END:VCALENDAR