BEGIN:VCALENDAR
VERSION:2.0
PRODID:-//The 19th Street Band - ECPv6.15.20//NONSGML v1.0//EN
CALSCALE:GREGORIAN
METHOD:PUBLISH
X-WR-CALNAME:The 19th Street Band
X-ORIGINAL-URL:https://19thstreetband.com
X-WR-CALDESC:Events for The 19th Street Band
REFRESH-INTERVAL;VALUE=DURATION:PT1H
X-Robots-Tag:noindex
X-PUBLISHED-TTL:PT1H
BEGIN:VTIMEZONE
TZID:UTC
BEGIN:STANDARD
TZOFFSETFROM:+0000
TZOFFSETTO:+0000
TZNAME:UTC
DTSTART:20160101T000000
END:STANDARD
END:VTIMEZONE
BEGIN:VEVENT
DTSTART;TZID=UTC:20170312T120000
DTEND;TZID=UTC:20170312T160000
DTSTAMP:20260423T003049
CREATED:20170306T225621Z
LAST-MODIFIED:20170306T225621Z
UID:8300-1489320000-1489334400@19thstreetband.com
SUMMARY:Parade Party at Old Ebbitt Grill
DESCRIPTION:
URL:https://19thstreetband.com/event/parade-party-old-ebbitt-grill/
LOCATION:Old Ebbitt Grill\, 675 15th St NW\, Washington\, DC\, 20005\, United States
END:VEVENT
BEGIN:VEVENT
DTSTART;TZID=UTC:20170311T130000
DTEND;TZID=UTC:20170311T160000
DTSTAMP:20260423T003049
CREATED:20170121T023451Z
LAST-MODIFIED:20170121T023451Z
UID:8167-1489237200-1489248000@19thstreetband.com
SUMMARY:Seacrets
DESCRIPTION:Paddy’s Day Celebration at Seacrets in OC!
URL:https://19thstreetband.com/event/seacrets-4/
LOCATION:Seacrets Jamaica USA\, 117 49th street\, Ocean City\, MD\, 21842\, United States
ATTACH;FMTTYPE=image/jpeg:https://19thstreetband.com/wp-content/uploads/2016/10/seacrets-5.jpg
END:VEVENT
BEGIN:VEVENT
DTSTART;TZID=UTC:20170309T203000
DTEND;TZID=UTC:20170309T203000
DTSTAMP:20260423T003049
CREATED:20170216T113937Z
LAST-MODIFIED:20170216T113937Z
UID:8253-1489091400-1489091400@19thstreetband.com
SUMMARY:JV's
DESCRIPTION:
URL:https://19thstreetband.com/event/jvs-3/
LOCATION:JV’s Restaurant\, 6666  Arlington Blvd.\, Falls Church\, VA\, 22042\, United States
END:VEVENT
BEGIN:VEVENT
DTSTART;TZID=UTC:20170308T200000
DTEND;TZID=UTC:20170308T230000
DTSTAMP:20260423T003049
CREATED:20170216T113734Z
LAST-MODIFIED:20170216T113734Z
UID:8251-1489003200-1489014000@19thstreetband.com
SUMMARY:The Irish Inn
DESCRIPTION:
URL:https://19thstreetband.com/event/the-irish-inn-8/
LOCATION:Irish Inn\, 6119 Tulane Ave\, Glen Echo\, MD\, 20812\, United States
END:VEVENT
BEGIN:VEVENT
DTSTART;TZID=UTC:20170307T193000
DTEND;TZID=UTC:20170307T223000
DTSTAMP:20260423T003049
CREATED:20170216T113525Z
LAST-MODIFIED:20170216T113525Z
UID:8249-1488915000-1488925800@19thstreetband.com
SUMMARY:Ireland's Four Provinces
DESCRIPTION:
URL:https://19thstreetband.com/event/irelands-four-provinces-6/
LOCATION:Ireland’s Four Provinces\, 105 W Broad St\, Ste 1\, Falls Church\, VA\, 22046\, United States
END:VEVENT
BEGIN:VEVENT
DTSTART;TZID=UTC:20170304T160000
DTEND;TZID=UTC:20170304T200000
DTSTAMP:20260423T003049
CREATED:20170121T022548Z
LAST-MODIFIED:20170121T022548Z
UID:8163-1488643200-1488657600@19thstreetband.com
SUMMARY:Leprechaun Luau
DESCRIPTION:Leprechaun Luau 2017\nMarch 4th\, 2017 from 4-8 PM\nNo matter where you hail from\, everyone is Irish around St. Patricks Day!\n\nAnd who does not love a luau? Put them together\, and you have got a party like no other! \nAnd when it is all to benefit the Rotary Club of Fredericks signature service project\, Rotary Smiles\, it is an event not to be missed! \nPlease explore the site\, like us on Facebook and tell your friends\, and plan on attending this unique celebration of delicious food\, Flying Dog brew\, dancing and general merriment! \n\nGet your tickets early as this event will SELL OUT!\nEach General Admission Ticket includes a raffle ticket for a change to win the grand prize trip!
URL:https://19thstreetband.com/event/leprechaun-luau/
LOCATION:Frederick Community College Field House\, 7932 Opossumtown Pike\, Frederick\, MD\, 21702\, United States
END:VEVENT
BEGIN:VEVENT
DTSTART;TZID=UTC:20170303T223000
DTEND;TZID=UTC:20170303T223000
DTSTAMP:20260423T003049
CREATED:20170216T113354Z
LAST-MODIFIED:20170216T113354Z
UID:8247-1488580200-1488580200@19thstreetband.com
SUMMARY:The Hamilton LOFT
DESCRIPTION:
URL:https://19thstreetband.com/event/the-hamilton-loft-2/
LOCATION:The Hamilton\, 600 14th St NW\, Washington\, DC\, 20005\, United States
END:VEVENT
BEGIN:VEVENT
DTSTART;TZID=UTC:20170302T203000
DTEND;TZID=UTC:20170302T203000
DTSTAMP:20260423T003049
CREATED:20170216T113054Z
LAST-MODIFIED:20170216T113054Z
UID:8245-1488486600-1488486600@19thstreetband.com
SUMMARY:Finnegan's Wake
DESCRIPTION:
URL:https://19thstreetband.com/event/finnegans-wake-4/
LOCATION:Finnegan’s Wake\, 100 Gibbs Street\, Rockville\, MD\, 20850\, United States
END:VEVENT
BEGIN:VEVENT
DTSTART;TZID=UTC:20170301T200000
DTEND;TZID=UTC:20170301T230000
DTSTAMP:20260423T003049
CREATED:20170216T112913Z
LAST-MODIFIED:20170216T112913Z
UID:8243-1488398400-1488409200@19thstreetband.com
SUMMARY:Lahinch Tavern & Grill
DESCRIPTION:
URL:https://19thstreetband.com/event/lahinch-tavern-grill-7/
LOCATION:Lahinch Tavern & Grill\, 7747 Tuckerman Lane\, Potomac\, MD\, 20854\, United States
END:VEVENT
BEGIN:VEVENT
DTSTART;TZID=UTC:20170226T150000
DTEND;TZID=UTC:20170226T190000
DTSTAMP:20260423T003049
CREATED:20170212T030038Z
LAST-MODIFIED:20170216T122523Z
UID:8234-1488121200-1488135600@19thstreetband.com
SUMMARY:Tir na Nog - Baltimore Parade Pub Fundraiser
DESCRIPTION:
URL:https://19thstreetband.com/event/tir-na-nog/
LOCATION:Tir na Nog Irish Bar & Grill\,  201 E. PRATT ST.\, Baltimore\, MD\, 21202 \, United States
ATTACH;FMTTYPE=image/jpeg:https://19thstreetband.com/wp-content/uploads/2016/10/finnegans-live-2-2-scaled.jpg
END:VEVENT
BEGIN:VEVENT
DTSTART;TZID=UTC:20170225T170000
DTEND;TZID=UTC:20170225T210000
DTSTAMP:20260423T003049
CREATED:20170121T021038Z
LAST-MODIFIED:20170121T021038Z
UID:8161-1488042000-1488056400@19thstreetband.com
SUMMARY:Seacrets
DESCRIPTION:
URL:https://19thstreetband.com/event/seacrets-3/
LOCATION:Seacrets Jamaica USA\, 117 49th street\, Ocean City\, MD\, 21842\, United States
END:VEVENT
BEGIN:VEVENT
DTSTART;TZID=UTC:20170224T220000
DTEND;TZID=UTC:20170224T220000
DTSTAMP:20260423T003049
CREATED:20170121T020834Z
LAST-MODIFIED:20170212T021212Z
UID:8159-1487973600-1487973600@19thstreetband.com
SUMMARY:The Auld Shebeen
DESCRIPTION:
URL:https://19thstreetband.com/event/the-auld-shebeen-2/
LOCATION:The Auld Shebeen\, 3971 Chain Bridge Road\, Fairfax\, VA\, 22030\, United States
END:VEVENT
BEGIN:VEVENT
DTSTART;TZID=UTC:20170223T203000
DTEND;TZID=UTC:20170223T223000
DTSTAMP:20260423T003049
CREATED:20170212T023646Z
LAST-MODIFIED:20170212T023646Z
UID:8231-1487881800-1487889000@19thstreetband.com
SUMMARY:Hill Country BBQ
DESCRIPTION:
URL:https://19thstreetband.com/event/hill-country-bbq/
LOCATION:Hill Country BBQ\, 410 7th St NW\, Washington\, DC\, 20004\, United States
END:VEVENT
BEGIN:VEVENT
DTSTART;TZID=UTC:20170222T200000
DTEND;TZID=UTC:20170222T230000
DTSTAMP:20260423T003049
CREATED:20170121T020537Z
LAST-MODIFIED:20170121T020537Z
UID:8156-1487793600-1487804400@19thstreetband.com
SUMMARY:The Irish Inn
DESCRIPTION:
URL:https://19thstreetband.com/event/the-irish-inn-7/
LOCATION:Irish Inn\, 6119 Tulane Ave\, Glen Echo\, MD\, 20812\, United States
END:VEVENT
BEGIN:VEVENT
DTSTART;TZID=UTC:20170216T210000
DTEND;TZID=UTC:20170216T210000
DTSTAMP:20260423T003049
CREATED:20170121T020056Z
LAST-MODIFIED:20170212T021127Z
UID:8154-1487278800-1487278800@19thstreetband.com
SUMMARY:Samuel Beckett's
DESCRIPTION:
URL:https://19thstreetband.com/event/samuel-becketts-8/
LOCATION:Samuel Beckett’s\, 2800 S Randolph St #110\, Arlington\, VA\, 22206\, United States
END:VEVENT
BEGIN:VEVENT
DTSTART;TZID=UTC:20170215T200000
DTEND;TZID=UTC:20170215T230000
DTSTAMP:20260423T003049
CREATED:20170121T015606Z
LAST-MODIFIED:20170121T015606Z
UID:8151-1487188800-1487199600@19thstreetband.com
SUMMARY:Lahinch Tavern & Grill
DESCRIPTION:
URL:https://19thstreetband.com/event/lahinch-tavern-grill-6/
LOCATION:Lahinch Tavern & Grill\, 7747 Tuckerman Lane\, Potomac\, MD\, 20854\, United States
END:VEVENT
BEGIN:VEVENT
DTSTART;TZID=UTC:20170211T220000
DTEND;TZID=UTC:20170211T220000
DTSTAMP:20260423T003049
CREATED:20170121T015231Z
LAST-MODIFIED:20170212T020943Z
UID:8147-1486850400-1486850400@19thstreetband.com
SUMMARY:Bushwaller's
DESCRIPTION:
URL:https://19thstreetband.com/event/bushwallers/
LOCATION:Bushwaller’s\, 209 N. Market St\, Frederick\, MD\, United States
END:VEVENT
BEGIN:VEVENT
DTSTART;TZID=UTC:20170210T223000
DTEND;TZID=UTC:20170210T235500
DTSTAMP:20260423T003049
CREATED:20170121T014534Z
LAST-MODIFIED:20170121T014534Z
UID:8145-1486765800-1486770900@19thstreetband.com
SUMMARY:Hamilton LOFT
DESCRIPTION:
URL:https://19thstreetband.com/event/hamilton-loft-2/
LOCATION:The Hamilton\, 600 14th St NW\, Washington\, DC\, 20005\, United States
ATTACH;FMTTYPE=image/jpeg:https://19thstreetband.com/wp-content/uploads/2016/10/hamilton-1-scaled.jpg
END:VEVENT
BEGIN:VEVENT
DTSTART;TZID=UTC:20170209T203000
DTEND;TZID=UTC:20170209T235500
DTSTAMP:20260423T003049
CREATED:20170121T014357Z
LAST-MODIFIED:20170121T014357Z
UID:8143-1486672200-1486684500@19thstreetband.com
SUMMARY:JV's
DESCRIPTION:
URL:https://19thstreetband.com/event/jvs-2/
LOCATION:JV’s Restaurant\, 6666  Arlington Blvd.\, Falls Church\, VA\, 22042\, United States
ATTACH;FMTTYPE=image/jpeg:https://19thstreetband.com/wp-content/uploads/2016/10/jvs.jpg
END:VEVENT
BEGIN:VEVENT
DTSTART;TZID=UTC:20170208T200000
DTEND;TZID=UTC:20170208T230000
DTSTAMP:20260423T003049
CREATED:20170121T014209Z
LAST-MODIFIED:20170121T014209Z
UID:8141-1486584000-1486594800@19thstreetband.com
SUMMARY:The Irish Inn
DESCRIPTION:
URL:https://19thstreetband.com/event/the-irish-inn-6/
LOCATION:Irish Inn\, 6119 Tulane Ave\, Glen Echo\, MD\, 20812\, United States
END:VEVENT
BEGIN:VEVENT
DTSTART;TZID=UTC:20170207T193000
DTEND;TZID=UTC:20170207T223000
DTSTAMP:20260423T003049
CREATED:20170121T013504Z
LAST-MODIFIED:20170121T013504Z
UID:8139-1486495800-1486506600@19thstreetband.com
SUMMARY:Ireland's Four Provinces
DESCRIPTION:
URL:https://19thstreetband.com/event/irelands-four-provinces-5/
LOCATION:Ireland’s Four Provinces\, 105 W Broad St\, Ste 1\, Falls Church\, VA\, 22046\, United States
ATTACH;FMTTYPE=image/jpeg:https://19thstreetband.com/wp-content/uploads/2016/10/finnegans-live-2-2-scaled.jpg
END:VEVENT
BEGIN:VEVENT
DTSTART;TZID=UTC:20170204T213000
DTEND;TZID=UTC:20170204T235500
DTSTAMP:20260423T003049
CREATED:20170121T013244Z
LAST-MODIFIED:20170121T013244Z
UID:8136-1486243800-1486252500@19thstreetband.com
SUMMARY:Flanagan's Harp & Fiddle
DESCRIPTION:
URL:https://19thstreetband.com/event/flanagans-harp-fiddle-3/
LOCATION:Flanagan’s Harp & Fiddle\, 4844 Cordell Ave\, Bethesda\, MD\, 20814\, United States
END:VEVENT
BEGIN:VEVENT
DTSTART;TZID=UTC:20170203T213000
DTEND;TZID=UTC:20170203T235500
DTSTAMP:20260423T003049
CREATED:20170121T013029Z
LAST-MODIFIED:20170204T050820Z
UID:8132-1486157400-1486166100@19thstreetband.com
SUMMARY:O'Connell's in Alexandria
DESCRIPTION:
URL:https://19thstreetband.com/event/oconnells-in-alexandria/
LOCATION:Daniel O’Connell’s Restaurant & Bar\, 112 King St\, Alexandria\, VA\, 22314\, United States
END:VEVENT
BEGIN:VEVENT
DTSTART;TZID=UTC:20170202T210000
DTEND;TZID=UTC:20170202T235500
DTSTAMP:20260423T003049
CREATED:20170121T012712Z
LAST-MODIFIED:20170121T012712Z
UID:8130-1486069200-1486079700@19thstreetband.com
SUMMARY:Samuel Beckett's
DESCRIPTION:
URL:https://19thstreetband.com/event/samuel-becketts-7/
LOCATION:Samuel Beckett’s\, 2800 S Randolph St #110\, Arlington\, VA\, 22206\, United States
END:VEVENT
BEGIN:VEVENT
DTSTART;TZID=UTC:20170201T200000
DTEND;TZID=UTC:20170201T230000
DTSTAMP:20260423T003049
CREATED:20170121T012315Z
LAST-MODIFIED:20170121T012315Z
UID:8127-1485979200-1485990000@19thstreetband.com
SUMMARY:Lahinch Tavern & Grill
DESCRIPTION:
URL:https://19thstreetband.com/event/lahinch-tavern-grill-5/
LOCATION:Lahinch Tavern & Grill\, 7747 Tuckerman Lane\, Potomac\, MD\, 20854\, United States
END:VEVENT
BEGIN:VEVENT
DTSTART;TZID=UTC:20170128T190000
DTEND;TZID=UTC:20170128T235500
DTSTAMP:20260423T003049
CREATED:20161231T030909Z
LAST-MODIFIED:20161231T030909Z
UID:8101-1485630000-1485647700@19thstreetband.com
SUMMARY:TJ-JL Foundation Kick Off Band Party
DESCRIPTION:5th Annual Kick-Off Band Party & Youth Ambassador Introduction \nThis year’s theme is red & white casino night. Wear “Red & White” to show your support! \nProceeds benefit Diabetes Research & Awareness
URL:https://19thstreetband.com/event/tj-jl-foundation-kick-off-band-party/
LOCATION:Rock Creek Mansion\, 5417 W Cedar Ln\, Bethesda\, MD\, 20814\, United States
END:VEVENT
BEGIN:VEVENT
DTSTART;TZID=UTC:20170127T210000
DTEND;TZID=UTC:20170127T235500
DTSTAMP:20260423T003049
CREATED:20161231T024142Z
LAST-MODIFIED:20161231T024142Z
UID:8099-1485550800-1485561300@19thstreetband.com
SUMMARY:Growlers
DESCRIPTION:
URL:https://19thstreetband.com/event/growlers-2/
LOCATION:Greene Growlers\, 227 E Diamond Ave\, Gaithersburg\, MD\, 20877\, United States
END:VEVENT
BEGIN:VEVENT
DTSTART;TZID=UTC:20170126T200000
DTEND;TZID=UTC:20170126T230000
DTSTAMP:20260423T003049
CREATED:20161231T023334Z
LAST-MODIFIED:20161231T023334Z
UID:8097-1485460800-1485471600@19thstreetband.com
SUMMARY:The Limerick
DESCRIPTION:
URL:https://19thstreetband.com/event/the-limerick/
LOCATION:Limerick Pub\, 11301 Elkin Street\, Wheaton\, MD\, 20902\, United States
END:VEVENT
BEGIN:VEVENT
DTSTART;TZID=UTC:20170125T200000
DTEND;TZID=UTC:20170125T230000
DTSTAMP:20260423T003049
CREATED:20161231T023127Z
LAST-MODIFIED:20170121T030155Z
UID:8093-1485374400-1485385200@19thstreetband.com
SUMMARY:Gypsy Sally's
DESCRIPTION:Catch us at Gypsy Sally’s for a joint concert with The Plate Scrapers as part of their Grassuary series! Tickets available at the door! Doors open at 7pm.
URL:https://19thstreetband.com/event/gypsy-sallys/
LOCATION:Gypsy Sally’s\, 3401 K Street NW\, Washington\, DC\, 20007\, United States
END:VEVENT
BEGIN:VEVENT
DTSTART;TZID=UTC:20170121T213000
DTEND;TZID=UTC:20170121T235500
DTSTAMP:20260423T003049
CREATED:20161231T021403Z
LAST-MODIFIED:20161231T021403Z
UID:8091-1485034200-1485042900@19thstreetband.com
SUMMARY:Flanagan's Harp & Fiddle
DESCRIPTION:
URL:https://19thstreetband.com/event/flanagans-harp-fiddle-2/
LOCATION:Flanagan’s Harp & Fiddle\, 4844 Cordell Ave\, Bethesda\, MD\, 20814\, United States
ATTACH;FMTTYPE=image/jpeg:https://19thstreetband.com/wp-content/uploads/2015/09/14202711_516985191830838_2725271605558351288_n.jpg
END:VEVENT
END:VCALENDAR