BEGIN:VCALENDAR
VERSION:2.0
PRODID:-//The 19th Street Band - ECPv6.15.20//NONSGML v1.0//EN
CALSCALE:GREGORIAN
METHOD:PUBLISH
X-WR-CALNAME:The 19th Street Band
X-ORIGINAL-URL:https://19thstreetband.com
X-WR-CALDESC:Events for The 19th Street Band
REFRESH-INTERVAL;VALUE=DURATION:PT1H
X-Robots-Tag:noindex
X-PUBLISHED-TTL:PT1H
BEGIN:VTIMEZONE
TZID:UTC
BEGIN:STANDARD
TZOFFSETFROM:+0000
TZOFFSETTO:+0000
TZNAME:UTC
DTSTART:20160101T000000
END:STANDARD
END:VTIMEZONE
BEGIN:VEVENT
DTSTART;TZID=UTC:20170415T200000
DTEND;TZID=UTC:20170415T230000
DTSTAMP:20260422T230300
CREATED:20170121T024836Z
LAST-MODIFIED:20170121T024836Z
UID:8173-1492286400-1492297200@19thstreetband.com
SUMMARY:Keagan's Irish Pub & Restaurant
DESCRIPTION:
URL:https://19thstreetband.com/event/keagans-irish-pub-restaurant/
LOCATION:Keagan’s Irish Pub & Restaurant\, 244 MARKET STREET\, VIRGINIA BEACH\, VA\, 23462\, United States
END:VEVENT
BEGIN:VEVENT
DTSTART;TZID=UTC:20170414T210000
DTEND;TZID=UTC:20170414T235500
DTSTAMP:20260422T230300
CREATED:20170121T024307Z
LAST-MODIFIED:20170121T024307Z
UID:8169-1492203600-1492214100@19thstreetband.com
SUMMARY:Shaw Tavern
DESCRIPTION:
URL:https://19thstreetband.com/event/shaw-tavern/
LOCATION:Shaw’s Tavern\, 520 Florida Ave NW\, Washington\, DC\, 20001\, United States
ATTACH;FMTTYPE=image/jpeg:https://19thstreetband.com/wp-content/uploads/2015/09/14202711_516985191830838_2725271605558351288_n.jpg
END:VEVENT
BEGIN:VEVENT
DTSTART;TZID=UTC:20170413T203000
DTEND;TZID=UTC:20170414T003000
DTSTAMP:20260422T230300
CREATED:20170331T110533Z
LAST-MODIFIED:20170331T110533Z
UID:8484-1492115400-1492129800@19thstreetband.com
SUMMARY:JV's Restaurant
DESCRIPTION:
URL:https://19thstreetband.com/event/jvs-restaurant-2/
LOCATION:JV’s Restaurant\, 6666  Arlington Blvd.\, Falls Church\, VA\, 22042\, United States
END:VEVENT
BEGIN:VEVENT
DTSTART;TZID=UTC:20170412T200000
DTEND;TZID=UTC:20170412T230000
DTSTAMP:20260422T230300
CREATED:20170331T110434Z
LAST-MODIFIED:20170331T110434Z
UID:8482-1492027200-1492038000@19thstreetband.com
SUMMARY:Lahinch Tavern & Grill
DESCRIPTION:
URL:https://19thstreetband.com/event/lahinch-tavern-grill-9/
LOCATION:Lahinch Tavern & Grill\, 7747 Tuckerman Lane\, Potomac\, MD\, 20854\, United States
END:VEVENT
BEGIN:VEVENT
DTSTART;TZID=UTC:20170407T213000
DTEND;TZID=UTC:20170407T213000
DTSTAMP:20260422T230300
CREATED:20170313T040251Z
LAST-MODIFIED:20170313T040251Z
UID:8417-1491600600-1491600600@19thstreetband.com
SUMMARY:O'Connell's in Alexandria
DESCRIPTION:
URL:https://19thstreetband.com/event/oconnells-in-alexandria-2/
LOCATION:Daniel O’Connell’s Restaurant & Bar\, 112 King St\, Alexandria\, VA\, 22314\, United States
END:VEVENT
BEGIN:VEVENT
DTSTART;TZID=UTC:20170406T203000
DTEND;TZID=UTC:20170406T203000
DTSTAMP:20260422T230300
CREATED:20170313T035934Z
LAST-MODIFIED:20170313T035934Z
UID:8415-1491510600-1491510600@19thstreetband.com
SUMMARY:Finnegan's Wake
DESCRIPTION:
URL:https://19thstreetband.com/event/finnegans-wake-5/
LOCATION:Finnegan’s Wake\, 100 Gibbs Street\, Rockville\, MD\, 20850\, United States
END:VEVENT
BEGIN:VEVENT
DTSTART;TZID=UTC:20170405T200000
DTEND;TZID=UTC:20170405T230000
DTSTAMP:20260422T230300
CREATED:20170313T035741Z
LAST-MODIFIED:20170313T035741Z
UID:8413-1491422400-1491433200@19thstreetband.com
SUMMARY:Irish Inn
DESCRIPTION:
URL:https://19thstreetband.com/event/irish-inn/
LOCATION:Irish Inn\, 6119 Tulane Ave\, Glen Echo\, MD\, 20812\, United States
END:VEVENT
BEGIN:VEVENT
DTSTART;TZID=UTC:20170402T170000
DTEND;TZID=UTC:20170402T200000
DTSTAMP:20260422T230300
CREATED:20170326T024945Z
LAST-MODIFIED:20170326T024945Z
UID:8451-1491152400-1491163200@19thstreetband.com
SUMMARY:B & T's Unique Bar & Grill
DESCRIPTION:Grand Opening & Sunday Funday at B & T’s Unique Bar in Blue Ridge Summit\, PA!!
URL:https://19thstreetband.com/event/b-ts-unique-bar-grill/
LOCATION:B & T’s Unique Bar & Grill\, 13314 Monterey Ln\, Blue Ridge Summit\, PA\, 17214\, United States
END:VEVENT
BEGIN:VEVENT
DTSTART;TZID=UTC:20170401T220000
DTEND;TZID=UTC:20170401T220000
DTSTAMP:20260422T230300
CREATED:20170216T122103Z
LAST-MODIFIED:20170216T122103Z
UID:8280-1491084000-1491084000@19thstreetband.com
SUMMARY:Sauf Haus Bier Hall & Garten
DESCRIPTION:
URL:https://19thstreetband.com/event/sauf-haus-bier-hall-garten/
LOCATION:Sauf Haus Bier Hall & Garten\, 1216 18th St NW\, Washington\, DC\, 20036\, United States
END:VEVENT
BEGIN:VEVENT
DTSTART;TZID=UTC:20170331T183000
DTEND;TZID=UTC:20170331T203000
DTSTAMP:20260422T230300
CREATED:20170326T024528Z
LAST-MODIFIED:20170326T024528Z
UID:8449-1490985000-1490992200@19thstreetband.com
SUMMARY:Post-Game Party at The Bullpen!
DESCRIPTION:Baseball season is back and so is The Bullpen! Join us for the post-game party after the Nats game on Friday! Music from 6:30-8:30pm. Remember you don’t have to have tix to the game to enjoy The Bullpen festivities. See you there!
URL:https://19thstreetband.com/event/post-game-party-bullpen/
LOCATION:The Bullpen\, 1299 Half St. SE\, Washington\, DC\, 20003\, United States
END:VEVENT
BEGIN:VEVENT
DTSTART;TZID=UTC:20170330T203000
DTEND;TZID=UTC:20170330T223000
DTSTAMP:20260422T230300
CREATED:20170309T020825Z
LAST-MODIFIED:20170326T024207Z
UID:8305-1490905800-1490913000@19thstreetband.com
SUMMARY:CD Release Party @ Hill Country BBQ
DESCRIPTION:Don’t miss your first chance to get your hands on our new album. Our CD Release Party will be THURSDAY\, 3/30 at HILL COUNTRY BBQ in DC! New tunes will be debuted plus all your favorites. See you there!
URL:https://19thstreetband.com/event/hill-country-bbq-2/
LOCATION:Hill Country BBQ\, 410 7th St NW\, Washington\, DC\, 20004\, United States
END:VEVENT
BEGIN:VEVENT
DTSTART;TZID=UTC:20170329T200000
DTEND;TZID=UTC:20170329T230000
DTSTAMP:20260422T230300
CREATED:20170216T121357Z
LAST-MODIFIED:20170216T121357Z
UID:8274-1490817600-1490828400@19thstreetband.com
SUMMARY:Lahinch Tavern & Grill
DESCRIPTION:
URL:https://19thstreetband.com/event/lahinch-tavern-grill-8/
LOCATION:Lahinch Tavern & Grill\, 7747 Tuckerman Lane\, Potomac\, MD\, 20854\, United States
END:VEVENT
BEGIN:VEVENT
DTSTART;TZID=UTC:20170326T163000
DTEND;TZID=UTC:20170326T203000
DTSTAMP:20260422T230300
CREATED:20170216T121259Z
LAST-MODIFIED:20170216T121259Z
UID:8272-1490545800-1490560200@19thstreetband.com
SUMMARY:JV's
DESCRIPTION:
URL:https://19thstreetband.com/event/jvs-4/
LOCATION:JV’s Restaurant\, 6666  Arlington Blvd.\, Falls Church\, VA\, 22042\, United States
END:VEVENT
BEGIN:VEVENT
DTSTART;TZID=UTC:20170325T220000
DTEND;TZID=UTC:20170325T220000
DTSTAMP:20260422T230300
CREATED:20170216T120937Z
LAST-MODIFIED:20170216T120937Z
UID:8270-1490479200-1490479200@19thstreetband.com
SUMMARY:O'Connell's
DESCRIPTION:
URL:https://19thstreetband.com/event/oconnells/
LOCATION:VA
END:VEVENT
BEGIN:VEVENT
DTSTART;TZID=UTC:20170324T210000
DTEND;TZID=UTC:20170324T210000
DTSTAMP:20260422T230300
CREATED:20170216T120843Z
LAST-MODIFIED:20170216T120843Z
UID:8268-1490389200-1490389200@19thstreetband.com
SUMMARY:Growler's
DESCRIPTION:
URL:https://19thstreetband.com/event/growlers-3/
LOCATION:Greene Growlers\, 227 E Diamond Ave\, Gaithersburg\, MD\, 20877\, United States
END:VEVENT
BEGIN:VEVENT
DTSTART;TZID=UTC:20170323T200000
DTEND;TZID=UTC:20170323T230000
DTSTAMP:20260422T230300
CREATED:20170216T120559Z
LAST-MODIFIED:20170216T120559Z
UID:8266-1490299200-1490310000@19thstreetband.com
SUMMARY:The Limerick Pub
DESCRIPTION:
URL:https://19thstreetband.com/event/the-limerick-pub/
LOCATION:Limerick Pub\, 11301 Elkin Street\, Wheaton\, MD\, 20902\, United States
END:VEVENT
BEGIN:VEVENT
DTSTART;TZID=UTC:20170322T200000
DTEND;TZID=UTC:20170322T230000
DTSTAMP:20260422T230300
CREATED:20170216T120347Z
LAST-MODIFIED:20170216T120347Z
UID:8264-1490212800-1490223600@19thstreetband.com
SUMMARY:The Irish Inn
DESCRIPTION:
URL:https://19thstreetband.com/event/the-irish-inn-9/
LOCATION:Irish Inn\, 6119 Tulane Ave\, Glen Echo\, MD\, 20812\, United States
END:VEVENT
BEGIN:VEVENT
DTSTART;TZID=UTC:20170317T150000
DTEND;TZID=UTC:20170317T150000
DTSTAMP:20260422T230300
CREATED:20170216T120104Z
LAST-MODIFIED:20170216T120104Z
UID:8262-1489762800-1489762800@19thstreetband.com
SUMMARY:Paddy's Day @ Harp & Fiddle
DESCRIPTION:
URL:https://19thstreetband.com/event/paddys-day-harp-fiddle/
LOCATION:Flanagan’s Harp & Fiddle\, 4844 Cordell Ave\, Bethesda\, MD\, 20814\, United States
END:VEVENT
BEGIN:VEVENT
DTSTART;TZID=UTC:20170316T210000
DTEND;TZID=UTC:20170316T210000
DTSTAMP:20260422T230300
CREATED:20170216T115929Z
LAST-MODIFIED:20170216T115929Z
UID:8260-1489698000-1489698000@19thstreetband.com
SUMMARY:Samuel Beckett's
DESCRIPTION:
URL:https://19thstreetband.com/event/samuel-becketts-9/
LOCATION:Samuel Beckett’s\, 2800 S Randolph St #110\, Arlington\, VA\, 22206\, United States
END:VEVENT
BEGIN:VEVENT
DTSTART;TZID=UTC:20170315T210000
DTEND;TZID=UTC:20170315T233000
DTSTAMP:20260422T230300
CREATED:20170216T115817Z
LAST-MODIFIED:20170216T115817Z
UID:8257-1489611600-1489620600@19thstreetband.com
SUMMARY:American Ireland Fund Gala
DESCRIPTION:
URL:https://19thstreetband.com/event/american-ireland-fund-gala/
LOCATION:National Building Museum\, 401 F St NW\, Washington\, 20001\, United States
END:VEVENT
BEGIN:VEVENT
DTSTART;TZID=UTC:20170312T120000
DTEND;TZID=UTC:20170312T160000
DTSTAMP:20260422T230300
CREATED:20170306T225621Z
LAST-MODIFIED:20170306T225621Z
UID:8300-1489320000-1489334400@19thstreetband.com
SUMMARY:Parade Party at Old Ebbitt Grill
DESCRIPTION:
URL:https://19thstreetband.com/event/parade-party-old-ebbitt-grill/
LOCATION:Old Ebbitt Grill\, 675 15th St NW\, Washington\, DC\, 20005\, United States
END:VEVENT
BEGIN:VEVENT
DTSTART;TZID=UTC:20170311T130000
DTEND;TZID=UTC:20170311T160000
DTSTAMP:20260422T230300
CREATED:20170121T023451Z
LAST-MODIFIED:20170121T023451Z
UID:8167-1489237200-1489248000@19thstreetband.com
SUMMARY:Seacrets
DESCRIPTION:Paddy’s Day Celebration at Seacrets in OC!
URL:https://19thstreetband.com/event/seacrets-4/
LOCATION:Seacrets Jamaica USA\, 117 49th street\, Ocean City\, MD\, 21842\, United States
ATTACH;FMTTYPE=image/jpeg:https://19thstreetband.com/wp-content/uploads/2016/10/seacrets-5.jpg
END:VEVENT
BEGIN:VEVENT
DTSTART;TZID=UTC:20170309T203000
DTEND;TZID=UTC:20170309T203000
DTSTAMP:20260422T230300
CREATED:20170216T113937Z
LAST-MODIFIED:20170216T113937Z
UID:8253-1489091400-1489091400@19thstreetband.com
SUMMARY:JV's
DESCRIPTION:
URL:https://19thstreetband.com/event/jvs-3/
LOCATION:JV’s Restaurant\, 6666  Arlington Blvd.\, Falls Church\, VA\, 22042\, United States
END:VEVENT
BEGIN:VEVENT
DTSTART;TZID=UTC:20170308T200000
DTEND;TZID=UTC:20170308T230000
DTSTAMP:20260422T230300
CREATED:20170216T113734Z
LAST-MODIFIED:20170216T113734Z
UID:8251-1489003200-1489014000@19thstreetband.com
SUMMARY:The Irish Inn
DESCRIPTION:
URL:https://19thstreetband.com/event/the-irish-inn-8/
LOCATION:Irish Inn\, 6119 Tulane Ave\, Glen Echo\, MD\, 20812\, United States
END:VEVENT
BEGIN:VEVENT
DTSTART;TZID=UTC:20170307T193000
DTEND;TZID=UTC:20170307T223000
DTSTAMP:20260422T230300
CREATED:20170216T113525Z
LAST-MODIFIED:20170216T113525Z
UID:8249-1488915000-1488925800@19thstreetband.com
SUMMARY:Ireland's Four Provinces
DESCRIPTION:
URL:https://19thstreetband.com/event/irelands-four-provinces-6/
LOCATION:Ireland’s Four Provinces\, 105 W Broad St\, Ste 1\, Falls Church\, VA\, 22046\, United States
END:VEVENT
BEGIN:VEVENT
DTSTART;TZID=UTC:20170304T160000
DTEND;TZID=UTC:20170304T200000
DTSTAMP:20260422T230300
CREATED:20170121T022548Z
LAST-MODIFIED:20170121T022548Z
UID:8163-1488643200-1488657600@19thstreetband.com
SUMMARY:Leprechaun Luau
DESCRIPTION:Leprechaun Luau 2017\nMarch 4th\, 2017 from 4-8 PM\nNo matter where you hail from\, everyone is Irish around St. Patricks Day!\n\nAnd who does not love a luau? Put them together\, and you have got a party like no other! \nAnd when it is all to benefit the Rotary Club of Fredericks signature service project\, Rotary Smiles\, it is an event not to be missed! \nPlease explore the site\, like us on Facebook and tell your friends\, and plan on attending this unique celebration of delicious food\, Flying Dog brew\, dancing and general merriment! \n\nGet your tickets early as this event will SELL OUT!\nEach General Admission Ticket includes a raffle ticket for a change to win the grand prize trip!
URL:https://19thstreetband.com/event/leprechaun-luau/
LOCATION:Frederick Community College Field House\, 7932 Opossumtown Pike\, Frederick\, MD\, 21702\, United States
END:VEVENT
BEGIN:VEVENT
DTSTART;TZID=UTC:20170303T223000
DTEND;TZID=UTC:20170303T223000
DTSTAMP:20260422T230300
CREATED:20170216T113354Z
LAST-MODIFIED:20170216T113354Z
UID:8247-1488580200-1488580200@19thstreetband.com
SUMMARY:The Hamilton LOFT
DESCRIPTION:
URL:https://19thstreetband.com/event/the-hamilton-loft-2/
LOCATION:The Hamilton\, 600 14th St NW\, Washington\, DC\, 20005\, United States
END:VEVENT
BEGIN:VEVENT
DTSTART;TZID=UTC:20170302T203000
DTEND;TZID=UTC:20170302T203000
DTSTAMP:20260422T230300
CREATED:20170216T113054Z
LAST-MODIFIED:20170216T113054Z
UID:8245-1488486600-1488486600@19thstreetband.com
SUMMARY:Finnegan's Wake
DESCRIPTION:
URL:https://19thstreetband.com/event/finnegans-wake-4/
LOCATION:Finnegan’s Wake\, 100 Gibbs Street\, Rockville\, MD\, 20850\, United States
END:VEVENT
BEGIN:VEVENT
DTSTART;TZID=UTC:20170301T200000
DTEND;TZID=UTC:20170301T230000
DTSTAMP:20260422T230300
CREATED:20170216T112913Z
LAST-MODIFIED:20170216T112913Z
UID:8243-1488398400-1488409200@19thstreetband.com
SUMMARY:Lahinch Tavern & Grill
DESCRIPTION:
URL:https://19thstreetband.com/event/lahinch-tavern-grill-7/
LOCATION:Lahinch Tavern & Grill\, 7747 Tuckerman Lane\, Potomac\, MD\, 20854\, United States
END:VEVENT
BEGIN:VEVENT
DTSTART;TZID=UTC:20170226T150000
DTEND;TZID=UTC:20170226T190000
DTSTAMP:20260422T230300
CREATED:20170212T030038Z
LAST-MODIFIED:20170216T122523Z
UID:8234-1488121200-1488135600@19thstreetband.com
SUMMARY:Tir na Nog - Baltimore Parade Pub Fundraiser
DESCRIPTION:
URL:https://19thstreetband.com/event/tir-na-nog/
LOCATION:Tir na Nog Irish Bar & Grill\,  201 E. PRATT ST.\, Baltimore\, MD\, 21202 \, United States
ATTACH;FMTTYPE=image/jpeg:https://19thstreetband.com/wp-content/uploads/2016/10/finnegans-live-2-2-scaled.jpg
END:VEVENT
END:VCALENDAR