BEGIN:VCALENDAR
VERSION:2.0
PRODID:-//The 19th Street Band - ECPv6.15.20//NONSGML v1.0//EN
CALSCALE:GREGORIAN
METHOD:PUBLISH
X-WR-CALNAME:The 19th Street Band
X-ORIGINAL-URL:https://19thstreetband.com
X-WR-CALDESC:Events for The 19th Street Band
REFRESH-INTERVAL;VALUE=DURATION:PT1H
X-Robots-Tag:noindex
X-PUBLISHED-TTL:PT1H
BEGIN:VTIMEZONE
TZID:UTC
BEGIN:STANDARD
TZOFFSETFROM:+0000
TZOFFSETTO:+0000
TZNAME:UTC
DTSTART:20160101T000000
END:STANDARD
END:VTIMEZONE
BEGIN:VEVENT
DTSTART;TZID=UTC:20170923T213000
DTEND;TZID=UTC:20170923T220000
DTSTAMP:20260423T053326
CREATED:20170821T034402Z
LAST-MODIFIED:20220915T182952Z
UID:9024-1506202200-1506204000@19thstreetband.com
SUMMARY:Flanagan's Harp & Fiddle
DESCRIPTION:
URL:https://19thstreetband.com/event/flanagans-harp-fiddle-9/
LOCATION:Flanagan’s Harp & Fiddle\, 4844 Cordell Ave\, Bethesda\, MD\, 20814\, United States
ATTACH;FMTTYPE=image/png:https://19thstreetband.com/wp-content/uploads/2017/07/image1.png
END:VEVENT
BEGIN:VEVENT
DTSTART;TZID=UTC:20170921T210000
DTEND;TZID=UTC:20170921T220000
DTSTAMP:20260423T053326
CREATED:20170821T034207Z
LAST-MODIFIED:20220915T182209Z
UID:9022-1506027600-1506031200@19thstreetband.com
SUMMARY:Samuel Beckett's
DESCRIPTION:
URL:https://19thstreetband.com/event/samuel-becketts-13/
LOCATION:Samuel Beckett’s\, 2800 S Randolph St #110\, Arlington\, VA\, 22206\, United States
END:VEVENT
BEGIN:VEVENT
DTSTART;TZID=UTC:20170920T200000
DTEND;TZID=UTC:20170920T230000
DTSTAMP:20260423T053326
CREATED:20170821T034014Z
LAST-MODIFIED:20170821T034014Z
UID:9020-1505937600-1505948400@19thstreetband.com
SUMMARY:The Irish Inn
DESCRIPTION:
URL:https://19thstreetband.com/event/the-irish-inn-18/
LOCATION:Irish Inn\, 6119 Tulane Ave\, Glen Echo\, MD\, 20812\, United States
END:VEVENT
BEGIN:VEVENT
DTSTART;TZID=UTC:20170919T193000
DTEND;TZID=UTC:20170919T223000
DTSTAMP:20260423T053326
CREATED:20170821T033831Z
LAST-MODIFIED:20170821T033831Z
UID:9017-1505849400-1505860200@19thstreetband.com
SUMMARY:Ireland's Four Provinces
DESCRIPTION:
URL:https://19thstreetband.com/event/irelands-four-provinces-10/
LOCATION:Ireland’s Four Provinces\, 105 W Broad St\, Ste 1\, Falls Church\, VA\, 22046\, United States
END:VEVENT
BEGIN:VEVENT
DTSTART;TZID=UTC:20170916T180000
DTEND;TZID=UTC:20170916T220000
DTSTAMP:20260423T053326
CREATED:20170821T033013Z
LAST-MODIFIED:20170821T033013Z
UID:9013-1505584800-1505599200@19thstreetband.com
SUMMARY:7th Annual C&O Canal Park After Dark
DESCRIPTION:A magical night under the stars in the C&O Canal National Historical Park!\nPark After Dark is the only event of its kind to be held within the grounds of the C&O Canal National Historical Park. Guests will enjoy the natural splendor of the Great Falls area and the historic Tavern\, while learning more about the Trust and the Canal. \nThis year\, the C&O Canal Trust’s Seventh Annual Park After Dark fundraiser promises great food \, tasty libations\, and delectable desserts\, along with unique auction items\, a visit from the Canal’s mules\, and a roaring camp fire. \nThe attire for the evening is “Canal Chic.” \nMusic by the 19th Street BandFood by Corcoran Caterers \n\nTICKET OPTIONS\nReserved Seating\nGuarantees reserved seat(s) at a table under the tent. Includes buffet dinner and open bar.\nPlatinum Package for 8 People: $2\,000\nGold Package for Four People: $1\,000\nSilver Package for Two People: $500\nBronze Package for One Person: $250\n>> Download the Ticket Packet for complete details of package benefits \n\nEvent Tickets\nFor folks who do not need a seat\, preferring to drift between the bar\, cocktail tables\, picnic tables\, and campfire. Includes buffet dinner and open bar.\nEvent Ticket for 1 Person: $200 \n($50 of ticket price is not tax-deductible).\nAttendance is by ticket only. Tickets are limited and available on a first-come basis.\nThis is a rain or shine event. Tickets are non-refundable.
URL:https://19thstreetband.com/event/7th-annual-co-canal-park-dark/
LOCATION:Historic Great Falls Tavern\, 11710 MacArthur Blvd.\, Potomac\, MD\, 20854\, United States
END:VEVENT
BEGIN:VEVENT
DTSTART;TZID=UTC:20170916T120000
DTEND;TZID=UTC:20170916T150000
DTSTAMP:20260423T053326
CREATED:20170821T034636Z
LAST-MODIFIED:20170821T034636Z
UID:9026-1505563200-1505574000@19thstreetband.com
SUMMARY:Park Potomac Fall Festival
DESCRIPTION:Join us for FREE fun for the ENTIRE family! \nFeaturing a pop-up from URBNmarket\, Live music\, Squeals on Wheels petting zoo\, face painting\, balloon twisting\, My Gym activities\, Beer garden with wine from Wine Harvest\, food samples from our restaurants\, food trucks\, and MORE! \nThis year our partner is Children’s National Medical\, who will be onsite with Dr. Bear and kid-friendly activities. Donate $5 and recieve a pumpkin to paint.
URL:https://19thstreetband.com/event/park-potomac-fall-festival/
LOCATION:Park Potomac\, Park Potomac Ave\, Potomac\, MD\, 20854\, United States
END:VEVENT
BEGIN:VEVENT
DTSTART;TZID=UTC:20170915T080000
DTEND;TZID=UTC:20170915T170000
DTSTAMP:20260423T053326
CREATED:20170821T030009Z
LAST-MODIFIED:20170821T030009Z
UID:9010-1505462400-1505494800@19thstreetband.com
SUMMARY:DEFHR Kick Back\, Kick Off Concert Under the Stars
DESCRIPTION:We’re excited to be kicking off Days End Farm Horse Rescue’s Fall Festival for 2017!!! Join DEFHR and The 19th Street Band (https://19thstreetband.com/) in opening DEFHR’s Hops for Horses Beer Garden to help kick-off our annual Fall Festival! \nEquine Ambassadors\, Officer Barney\, and his deputy\, Nugget\, will be the event bouncers and available for photo ops\, while the smokey smells of the Lisbon Town Grill’s (http://www.towngrillfosters.com/) amazing BBQ will get your taste buds going. The Hops for Horses Beer Garden will be serving seasonal brews – paired perfectly to go with good music and good food. \nYou WILL NOT want to miss this concert under the stars at one of Maryland’s premier horse farms. \nAdmission is $5 per vehicle – parking is on site and 1st come 1st serve until lots are full. Music starts at 7pm. This is a community event and we want everyone to come out and enjoy good music\, good food\, good company and maybe a little bit of corn hole all for the horses! Brew\, Parking and a portion of Food proceeds go back to DEFHR’s rehabilitation fund. This is a cash only event – ATM will be on site. For more information visit: www.deflr.org \nMark Your Calendars – Looking forward to seeing everyone!
URL:https://19thstreetband.com/event/defhr-kick-back-kick-off-concert-stars/
LOCATION:Days End Farm Horse Rescue\, 1372 Woodbine Rd\, Woodbine\, MD\, 21797\, United States
END:VEVENT
BEGIN:VEVENT
DTSTART;TZID=UTC:20170914T203000
DTEND;TZID=UTC:20170914T223000
DTSTAMP:20260423T053326
CREATED:20170821T025006Z
LAST-MODIFIED:20220915T175948Z
UID:9008-1505421000-1505428200@19thstreetband.com
SUMMARY:JV's Restaurant
DESCRIPTION:
URL:https://19thstreetband.com/event/jvs-restaurant-4/
LOCATION:MD
END:VEVENT
BEGIN:VEVENT
DTSTART;TZID=UTC:20170913T180000
DTEND;TZID=UTC:20170913T210000
DTSTAMP:20260423T053326
CREATED:20170821T020636Z
LAST-MODIFIED:20170821T020636Z
UID:9002-1505325600-1505336400@19thstreetband.com
SUMMARY:Oyster Fest presented by Brewer's Alley
DESCRIPTION:Chef Joe Canlas teams up with regional oyster farmers\, Harris Seafood Co. (Kent Island\, MD)\, Rappahannock Oyster Co. (Topping\, MD)\, and True Chesapeake Oyster Co. (St. Jerome Creek\, MD)\, to offer a great selection of shucked oysters. Other featured dishes at this event include shrimp and crab cocktails\, mussels\, salmon\, prime rib\, roasted pig\, cajun wings and assorted sausages. Samplings of Brewer’s Alley craft beer and a selection of wines from around the world come bundled as a part of our all-inclusive ticket. Local musical favorites\, 19th Street Band\, are performing during the event. \nThis festival\, hosted in our new terrace dining room and on the rooftop patio\, will be a great event! Join us for this late-summer celebration of regionally-sourced foods\, locally brewed craft beer\, and a wide variety of delicious wines. \nAll-inclusive tickets are $85.00 per person (ticketing fees apply) and can be purchased via our Eventbrite link.
URL:https://19thstreetband.com/event/oyster-fest-presented-brewers-alley/
LOCATION:Brewer’s Alley\, 124 N. Market St.\, Frederick\, MD\, 21701\, United States
END:VEVENT
BEGIN:VEVENT
DTSTART;TZID=UTC:20170910T150000
DTEND;TZID=UTC:20170910T190000
DTSTAMP:20260423T053326
CREATED:20170821T020110Z
LAST-MODIFIED:20170821T020110Z
UID:9000-1505055600-1505070000@19thstreetband.com
SUMMARY:Irish Inn's Halfway to St. Patrick's Day Music Festival
DESCRIPTION:Join us for our Annual Irish Inn Outdoor Music Festival. \nTraditional Irish Music 3pm-5pm with the Irish Inn Mates and the Culkin Irish Dancers \n19th Street Band 5pm-7pm \nBrooks Tegler Jazz Trio in the Pub 7-9pm \nRain Date September 17th
URL:https://19thstreetband.com/event/irish-inns-halfway-st-patricks-day-music-festival/
LOCATION:Irish Inn\, 6119 Tulane Ave\, Glen Echo\, MD\, 20812\, United States
END:VEVENT
BEGIN:VEVENT
DTSTART;TZID=UTC:20170909T220000
DTEND;TZID=UTC:20170909T220000
DTSTAMP:20260423T053326
CREATED:20170907T004336Z
LAST-MODIFIED:20170907T004336Z
UID:9039-1504994400-1504994400@19thstreetband.com
SUMMARY:Shaw's Tavern
DESCRIPTION:
URL:https://19thstreetband.com/event/shaws-tavern/
LOCATION:Shaw’s Tavern\, 520 Florida Ave NW\, Washington\, DC\, 20001\, United States
ATTACH;FMTTYPE=image/png:https://19thstreetband.com/wp-content/uploads/2017/07/image1.png
END:VEVENT
BEGIN:VEVENT
DTSTART;TZID=UTC:20170909T133000
DTEND;TZID=UTC:20170909T143000
DTSTAMP:20260423T053326
CREATED:20170824T000301Z
LAST-MODIFIED:20170824T000301Z
UID:8998-1504963800-1504967400@19thstreetband.com
SUMMARY:Frederick's In the Street Festival
DESCRIPTION:For over 30 years\, In The Street has been a proud Frederick tradition held along Market Street and Carroll Creek Urban Park.  In 2017\, we thank our locally owned and operated DARCARS Toyota of Frederick for their support of our annual event. \nThe festival began in 1983 after major renovations closed Market Street for several months.  When the dust settled Mayor Ron Young decided to hold a festival for the entire community to encourage reinvestment in downtown.  The Festival was held in the street\, so the naming of the event was simple. That first In The Street festival boasted 10\,000 in attendance.  Today\, In The Street attracts crowds of over 75\,000. \nIn The Street continues to invite attendees to explore historic downtown Frederick\, while offering a sampling of the diverse food\, entertainment\, art and non-profit resources that thrive in Frederick County. \nIn The Streets
URL:https://19thstreetband.com/event/fredericks-street-festival/
LOCATION:Carroll Creek Outdoor Amphitheater\, CH7R+3F Frederick\, Maryland\, Frederick\, MD\, 21701\, United States
END:VEVENT
BEGIN:VEVENT
DTSTART;TZID=UTC:20170906T200000
DTEND;TZID=UTC:20170906T230000
DTSTAMP:20260423T053326
CREATED:20170821T013133Z
LAST-MODIFIED:20170821T013133Z
UID:8996-1504728000-1504738800@19thstreetband.com
SUMMARY:The Irish Inn
DESCRIPTION:
URL:https://19thstreetband.com/event/the-irish-inn-17/
LOCATION:Irish Inn\, 6119 Tulane Ave\, Glen Echo\, MD\, 20812\, United States
ATTACH;FMTTYPE=image/jpeg:https://19thstreetband.com/wp-content/uploads/2016/10/finnegans-live-2-2-scaled.jpg
END:VEVENT
BEGIN:VEVENT
DTSTART;TZID=UTC:20170903T180000
DTEND;TZID=UTC:20170903T220000
DTSTAMP:20260423T053326
CREATED:20170821T011813Z
LAST-MODIFIED:20170821T011813Z
UID:8992-1504461600-1504476000@19thstreetband.com
SUMMARY:Castaways - Jackspot Waterfront Tiki Bar
DESCRIPTION:What could be better than a warm summer day\, a cool bay breeze\, and a round with friends at the Jackspot Tiki Bar? Located in the Castaways RV Resort & Campground in Berlin\, MD. OPEN TO THE PUBLIC. Join us for a special Labor Day Weekend performance! \nWe offer refreshing cocktails that you can only get at Castaways. Our top secret recipes are sure to leave you wanting more! Our Rum Runner\, Pina Colada\, and other signature cocktails are a must have on a hot day. \nDuring the day you will find a laid back atmosphere with soothing tunes and our friendly bar staff. Wade into the bay with your frozen concoction and enjoy the refreshing bay while soaking in the sun. Most nights you will find live entertainment from some of the shore’s most popular artists\, while other nights you will find a mix of bands and musicians to fit in with your beach vacation. Our bar staff is well trained and knows what it takes to make your vacation one to remember! \nPlease be advised that we do require I.D. for all patrons\, so please be prepared to present a valid form of I.D. to enter the Jackspot Tiki Bar. See you at the Jackspot!
URL:https://19thstreetband.com/event/castaways-jackspot-waterfront-tiki-bar/
LOCATION:Castaways\, 12550 Eagles Nest Rd\, Berlin\, MD\, 21811\, United States
ATTACH;FMTTYPE=image/jpeg:https://19thstreetband.com/wp-content/uploads/2016/10/seacrets-4.jpg
END:VEVENT
BEGIN:VEVENT
DTSTART;TZID=UTC:20170902T213000
DTEND;TZID=UTC:20170902T233000
DTSTAMP:20260423T053326
CREATED:20170821T002240Z
LAST-MODIFIED:20170821T002240Z
UID:8989-1504387800-1504395000@19thstreetband.com
SUMMARY:Mangos Bethany Beach
DESCRIPTION:
URL:https://19thstreetband.com/event/mangos-bethany-beach-3/
LOCATION:Mango’s Bethany Beach\, 97 Garfield Pkwy\, Bethany Beach\, DE\, 19930\, United States
ATTACH;FMTTYPE=image/jpeg:https://19thstreetband.com/wp-content/uploads/2015/09/13880291_507372119458812_8437179921157426489_n.jpg
END:VEVENT
BEGIN:VEVENT
DTSTART;TZID=UTC:20170901T203000
DTEND;TZID=UTC:20170901T233000
DTSTAMP:20260423T053326
CREATED:20170821T002049Z
LAST-MODIFIED:20170821T002049Z
UID:8986-1504297800-1504308600@19thstreetband.com
SUMMARY:Bethany Blues Lewes
DESCRIPTION:
URL:https://19thstreetband.com/event/bethany-blues-lewes/
LOCATION:Bethany Blues Lewes\, 18385 Coastal Highway\, Lewes\, DE\, 19958\, United States
ATTACH;FMTTYPE=image/png:https://19thstreetband.com/wp-content/uploads/2017/07/banner-19th-street-july2017-1.png
END:VEVENT
BEGIN:VEVENT
DTSTART;TZID=UTC:20170830T200000
DTEND;TZID=UTC:20170830T230000
DTSTAMP:20260423T053326
CREATED:20170810T224007Z
LAST-MODIFIED:20170810T224007Z
UID:8980-1504123200-1504134000@19thstreetband.com
SUMMARY:Lahinch Tavern & Grill
DESCRIPTION:
URL:https://19thstreetband.com/event/lahinch-tavern-grill-16/
LOCATION:Lahinch Tavern & Grill\, 7747 Tuckerman Lane\, Potomac\, MD\, 20854\, United States
END:VEVENT
BEGIN:VEVENT
DTSTART;TZID=UTC:20170827T140000
DTEND;TZID=UTC:20170827T173000
DTSTAMP:20260423T053326
CREATED:20170810T223823Z
LAST-MODIFIED:20170810T223823Z
UID:8978-1503842400-1503855000@19thstreetband.com
SUMMARY:The Starboard - Dewey
DESCRIPTION:
URL:https://19thstreetband.com/event/the-starboard-dewey/
LOCATION:The Starboard\, 2009 Coastal Hwy\, Dewey Beach\, DE\, 19971\, United States
END:VEVENT
BEGIN:VEVENT
DTSTART;TZID=UTC:20170826T213000
DTEND;TZID=UTC:20170826T213000
DTSTAMP:20260423T053326
CREATED:20170810T223630Z
LAST-MODIFIED:20170810T223630Z
UID:8976-1503783000-1503783000@19thstreetband.com
SUMMARY:Mango's in Bethany
DESCRIPTION:
URL:https://19thstreetband.com/event/mangos-in-bethany/
LOCATION:Mango’s Bethany Beach\, 97 Garfield Pkwy\, Bethany Beach\, DE\, 19930\, United States
END:VEVENT
BEGIN:VEVENT
DTSTART;TZID=UTC:20170825T183000
DTEND;TZID=UTC:20170825T203000
DTSTAMP:20260423T053326
CREATED:20170609T021154Z
LAST-MODIFIED:20170609T021154Z
UID:8841-1503685800-1503693000@19thstreetband.com
SUMMARY:Yards Park
DESCRIPTION:
URL:https://19thstreetband.com/event/yards-park/
LOCATION:Yards Park\, 355 Water St SE\, Washington\, DC\, 20003\, United States
END:VEVENT
BEGIN:VEVENT
DTSTART;TZID=UTC:20170824T210000
DTEND;TZID=UTC:20170824T210000
DTSTAMP:20260423T053326
CREATED:20170810T223358Z
LAST-MODIFIED:20170810T223358Z
UID:8974-1503608400-1503608400@19thstreetband.com
SUMMARY:Samuel Beckett's
DESCRIPTION:
URL:https://19thstreetband.com/event/samuel-becketts-12/
LOCATION:Samuel Beckett’s\, 2800 S Randolph St #110\, Arlington\, VA\, 22206\, United States
END:VEVENT
BEGIN:VEVENT
DTSTART;TZID=UTC:20170823T200000
DTEND;TZID=UTC:20170823T230000
DTSTAMP:20260423T053326
CREATED:20170810T223200Z
LAST-MODIFIED:20170810T223200Z
UID:8972-1503518400-1503529200@19thstreetband.com
SUMMARY:The Irish Inn
DESCRIPTION:
URL:https://19thstreetband.com/event/the-irish-inn-16/
LOCATION:Irish Inn\, 6119 Tulane Ave\, Glen Echo\, MD\, 20812\, United States
ATTACH;FMTTYPE=image/jpeg:https://19thstreetband.com/wp-content/uploads/2015/09/14202711_516985191830838_2725271605558351288_n.jpg
END:VEVENT
BEGIN:VEVENT
DTSTART;TZID=UTC:20170819T213000
DTEND;TZID=UTC:20170819T213000
DTSTAMP:20260423T053326
CREATED:20170810T222845Z
LAST-MODIFIED:20170810T222845Z
UID:8970-1503178200-1503178200@19thstreetband.com
SUMMARY:Flanagan's Harp & Fiddle
DESCRIPTION:
URL:https://19thstreetband.com/event/flanagans-harp-fiddle-8/
LOCATION:Flanagan’s Harp & Fiddle\, 4844 Cordell Ave\, Bethesda\, MD\, 20814\, United States
ATTACH;FMTTYPE=image/png:https://19thstreetband.com/wp-content/uploads/2017/07/image1.png
END:VEVENT
BEGIN:VEVENT
DTSTART;TZID=UTC:20170819T140000
DTEND;TZID=UTC:20170819T180000
DTSTAMP:20260423T053326
CREATED:20170810T221604Z
LAST-MODIFIED:20170810T221604Z
UID:8967-1503151200-1503165600@19thstreetband.com
SUMMARY:Capital Chili Cook-Off & DMV Beer Festival
DESCRIPTION:1st Annual Capital Chili Cookoff and Local Beer Festival\nSaturday August 19\, 2017\nNothing is better than Chili\, local craft beer\, and music…\nAdmission includes:\n– UNLIMITED beer samples from the best local breweries in DC\, MARYLAND\, and VIRGINIA\n– Free chili samples from the best chili cooks in the region with the opportunity to vote for the winner in the all important “People’s Choice” category \n2 options for Entry:\nGeneral Admission – 3:00pm – 6:00pm\nVIP Admission 2:00pm – 6:00pm \nLive music from some of the best DC area bands will keep the party going.\nSample of Participating breweries will be DC Brau\, 3 Stars\, Atlas\, Right Proper\, Ox Hill\, Burley Oak\, RAR\, Union\, Manor Hill\, Brewer’s Art\, and many more…\n** including multiple limited release beers ** \nLocated at DC’s best outdoor venue: The Bullpen at Half Street Fairgrounds…Steps from Navy Yard Metro and Nationals Park.\nTicket prices will escalate as the event nears\, so buy soon! No refunds available — but tickets purchased are transferrable at any time.\nGet more details at www.capitalchilicookoff.com \nCapital Chili Cook-Off and Beer Festival is 21+ only\, no exceptions. No re-entry. Admission is limited and will sell out in advance. No Refunds. Tickets can be transferred at any time to a new person using these instructions.
URL:https://19thstreetband.com/event/capital-chili-cook-off-dmv-beer-festival/
LOCATION:The Bullpen\, 1299 Half St. SE\, Washington\, DC\, 20003\, United States
END:VEVENT
BEGIN:VEVENT
DTSTART;TZID=UTC:20170818T223000
DTEND;TZID=UTC:20170819T013000
DTSTAMP:20260423T053326
CREATED:20170609T020123Z
LAST-MODIFIED:20170609T020123Z
UID:8839-1503095400-1503106200@19thstreetband.com
SUMMARY:The Hamilton LOFT
DESCRIPTION:
URL:https://19thstreetband.com/event/the-hamilton-loft-4/
LOCATION:The Hamilton\, 600 14th St NW\, Washington\, DC\, 20005\, United States
ATTACH;FMTTYPE=image/jpeg:https://19thstreetband.com/wp-content/uploads/2016/10/hamilton-1-scaled.jpg
END:VEVENT
BEGIN:VEVENT
DTSTART;TZID=UTC:20170817T170000
DTEND;TZID=UTC:20170817T210000
DTSTAMP:20260423T053326
CREATED:20170810T214410Z
LAST-MODIFIED:20170810T220754Z
UID:8963-1502989200-1503003600@19thstreetband.com
SUMMARY:Buy A Lady A Drink Concert Series @ 201 Bar
DESCRIPTION:On Tap is pleased to present the Buy a Lady a Drink Summer Concert Series with Stella Artois at 201 Bar. Join us for the final FREE show on August 17\, featuring The 19th Street Band. Help us raise money for women in underdeveloped countries\, and provide clean water to a woman in need by seeing the show and buying a special edition chalice. For three nights — July 20\, August 3 and August 17 — 201 Bar will showcase a different band and a different country — Brazil\, Cambodia and Uganda — served by water.org. There is no cover charge\, however donations are encouraged. Your $20 donation includes your chalice\, your first Stella Artois and admission to the show! Doors open at 5\, the concerts run from 6 to 9 pm. Light fare and drink specials will be offered. Want a VIP experience with all the fare and beverages you can handle? For just $60\, get unlimited food and drink for the evening and a signature chalice. Each of these DC-favorite bands features an amazing female vocalist\, so come out to see a great show for a great cause!
URL:https://19thstreetband.com/event/buy-lady-drink-concert-series-201-bar/
LOCATION:201 Bar\, 201 Massachusetts Ave NE\, Washington\, DC\, 20002\, United States
ATTACH;FMTTYPE=image/png:https://19thstreetband.com/wp-content/uploads/2017/07/image1.png
END:VEVENT
BEGIN:VEVENT
DTSTART;TZID=UTC:20170816T200000
DTEND;TZID=UTC:20170816T230000
DTSTAMP:20260423T053326
CREATED:20170810T213048Z
LAST-MODIFIED:20170810T213048Z
UID:8960-1502913600-1502924400@19thstreetband.com
SUMMARY:Lahinch Tavern & Grill
DESCRIPTION:
URL:https://19thstreetband.com/event/lahinch-tavern-grill-15/
LOCATION:Lahinch Tavern & Grill\, 7747 Tuckerman Lane\, Potomac\, MD\, 20854\, United States
END:VEVENT
BEGIN:VEVENT
DTSTART;TZID=UTC:20170815T193000
DTEND;TZID=UTC:20170815T223000
DTSTAMP:20260423T053326
CREATED:20170810T212619Z
LAST-MODIFIED:20170810T212619Z
UID:8958-1502825400-1502836200@19thstreetband.com
SUMMARY:Ireland's Four Provinces
DESCRIPTION:
URL:https://19thstreetband.com/event/irelands-four-provinces-9/
LOCATION:Ireland’s Four Provinces\, 105 W Broad St\, Ste 1\, Falls Church\, VA\, 22046\, United States
END:VEVENT
BEGIN:VEVENT
DTSTART;VALUE=DATE:20170811
DTEND;VALUE=DATE:20170813
DTSTAMP:20260423T053326
CREATED:20170121T025900Z
LAST-MODIFIED:20170121T025900Z
UID:8181-1502424000-1502510399@19thstreetband.com
SUMMARY:West Virginia Cares Festival
DESCRIPTION:West Virginia Cares Festival is a new regional event celebrating all that we CARE about this great Mountain State. \nWE CARE about our people\, our veterans\, our culture\, our environment\, our history\, our talent and our future. \nThe event highlights Appalachian music\, dance\, arts\, crafts\, foods and the hospitality of mountain folk. \nThe event will benefit the West Virginia Chapter of the Combat Veterans Motorcycle Association\, a group of combat veterans who raise funds for other veteran programs and their national amputee program and Friends of the Cheat\, a non-profit founded in 1995 to restore\, preserve and promote the natural qualities of the Cheat River watershed. \nThe two-day event features nearly a dozen music groups\, arts and crafts\, food vendors\, a motorcycle show and many other activities. \nA Bike Photo competition\, sponsored by Triple S Harley Davidson in Morgantown\, includes a ride through the region and culminates at the festival grounds on Saturday. \n8/11: 7:00 – 8:30pm The 19th Street Band
URL:https://19thstreetband.com/event/west-virginia-cares-festival/
LOCATION:Pegasus Farm Campground\, 480 Arnold Hill Road\, Elkins\, WV\, 26241 \, United States
END:VEVENT
BEGIN:VEVENT
DTSTART;TZID=UTC:20170809T200000
DTEND;TZID=UTC:20170809T230000
DTSTAMP:20260423T053326
CREATED:20170609T015512Z
LAST-MODIFIED:20170609T015512Z
UID:8832-1502308800-1502319600@19thstreetband.com
SUMMARY:The Irish Inn
DESCRIPTION:
URL:https://19thstreetband.com/event/the-irish-inn-15/
LOCATION:Irish Inn\, 6119 Tulane Ave\, Glen Echo\, MD\, 20812\, United States
END:VEVENT
END:VCALENDAR