BEGIN:VCALENDAR
VERSION:2.0
PRODID:-//The 19th Street Band - ECPv6.15.20//NONSGML v1.0//EN
CALSCALE:GREGORIAN
METHOD:PUBLISH
X-WR-CALNAME:The 19th Street Band
X-ORIGINAL-URL:https://19thstreetband.com
X-WR-CALDESC:Events for The 19th Street Band
REFRESH-INTERVAL;VALUE=DURATION:PT1H
X-Robots-Tag:noindex
X-PUBLISHED-TTL:PT1H
BEGIN:VTIMEZONE
TZID:UTC
BEGIN:STANDARD
TZOFFSETFROM:+0000
TZOFFSETTO:+0000
TZNAME:UTC
DTSTART:20160101T000000
END:STANDARD
END:VTIMEZONE
BEGIN:VEVENT
DTSTART;TZID=UTC:20170722T213000
DTEND;TZID=UTC:20170723T010000
DTSTAMP:20260423T133000
CREATED:20170609T003845Z
LAST-MODIFIED:20170609T003845Z
UID:8808-1500759000-1500771600@19thstreetband.com
SUMMARY:Flanagan's Harp & Fiddle
DESCRIPTION:
URL:https://19thstreetband.com/event/flanagans-harp-fiddle-7/
LOCATION:Flanagan’s Harp & Fiddle\, 4844 Cordell Ave\, Bethesda\, MD\, 20814\, United States
ATTACH;FMTTYPE=image/jpeg:https://19thstreetband.com/wp-content/uploads/2017/04/harp.jpg
END:VEVENT
BEGIN:VEVENT
DTSTART;TZID=UTC:20170721T213000
DTEND;TZID=UTC:20170722T013000
DTSTAMP:20260423T133000
CREATED:20170609T004122Z
LAST-MODIFIED:20170609T004122Z
UID:8810-1500672600-1500687000@19thstreetband.com
SUMMARY:O'Connell's in Alexandria
DESCRIPTION:
URL:https://19thstreetband.com/event/oconnells-in-alexandria-3/
LOCATION:Daniel O’Connell’s Restaurant & Bar\, 112 King St\, Alexandria\, VA\, 22314\, United States
END:VEVENT
BEGIN:VEVENT
DTSTART;TZID=UTC:20170720T183000
DTEND;TZID=UTC:20170720T203000
DTSTAMP:20260423T133000
CREATED:20170609T003240Z
LAST-MODIFIED:20170609T003240Z
UID:8805-1500575400-1500582600@19thstreetband.com
SUMMARY:Shirlala Music Festival
DESCRIPTION:Mark your calendars! Join Shirlie for live music every Thursday evening on the plaza from 6:30 pm – 8:30 pm from June 15th – August 24th! Catch The 19th Street Band on July 20th!
URL:https://19thstreetband.com/event/shirlala-music-festival/
LOCATION:The Village at Shirlington Plaza\, 4200 Campbell Avenue\, Arlington\, VA\, 22206\, United States
END:VEVENT
BEGIN:VEVENT
DTSTART;TZID=UTC:20170719T200000
DTEND;TZID=UTC:20170719T230000
DTSTAMP:20260423T133000
CREATED:20170609T002518Z
LAST-MODIFIED:20170609T002518Z
UID:8803-1500494400-1500505200@19thstreetband.com
SUMMARY:Lahinch Tavern & Grill
DESCRIPTION:
URL:https://19thstreetband.com/event/lahinch-tavern-grill-14/
LOCATION:Lahinch Tavern & Grill\, 7747 Tuckerman Lane\, Potomac\, MD\, 20854\, United States
END:VEVENT
BEGIN:VEVENT
DTSTART;TZID=UTC:20170718T193000
DTEND;TZID=UTC:20170718T223000
DTSTAMP:20260423T133000
CREATED:20170609T002408Z
LAST-MODIFIED:20170609T002408Z
UID:8801-1500406200-1500417000@19thstreetband.com
SUMMARY:Ireland's 4 Provinces
DESCRIPTION:
URL:https://19thstreetband.com/event/irelands-4-provinces-2/
LOCATION:Ireland’s Four Provinces\, 105 W Broad St\, Ste 1\, Falls Church\, VA\, 22046\, United States
END:VEVENT
BEGIN:VEVENT
DTSTART;TZID=UTC:20170715T120000
DTEND;TZID=UTC:20170715T233000
DTSTAMP:20260423T133000
CREATED:20170609T002209Z
LAST-MODIFIED:20170609T002246Z
UID:8798-1500120000-1500161400@19thstreetband.com
SUMMARY:Pegasus Farm Birthday Bash
DESCRIPTION:We’re Going Little in a Big Way!\nHome of the High Land Jam\, the Pegasus Farm Campground grew into a bonafide Camp and Music Resort in 2007.\nComplete with full-hookup sites and state-of-the-art bathhouse\, Pegasus Farm became that year\, what it is today. \nThis July we celebrate 10 years of awesome camping\, music\, friends and family!\nStandard camping prices apply\, no extra charge for music. \nBand Line-Up — Saturday only:\nDr. Slothclaw\nZEN.band\nBones Weedsley\n19th Street Band\nMink’s Miracle Medicine \nFriday night is jam night around the fire with Leaf — Whiskey ‘Stache!\nNo frills\, no fuss… just uproarous fun. \nTent camping: $20 per person per night.\nStandard RV rates apply. See web site.\nhttp://pegasusfarmcampground.com/\nGate opens Friday at noon. Closes Sunday at noon.
URL:https://19thstreetband.com/event/pegasus-farm-birthday-bash/
LOCATION:Pegasus Farm Campground\, 480 Arnold Hill Road\, Elkins\, WV\, 26241 \, United States
END:VEVENT
BEGIN:VEVENT
DTSTART;TZID=UTC:20170714T190000
DTEND;TZID=UTC:20170714T220000
DTSTAMP:20260423T133000
CREATED:20170609T000901Z
LAST-MODIFIED:20170609T000901Z
UID:8795-1500058800-1500069600@19thstreetband.com
SUMMARY:Brewstel
DESCRIPTION:
URL:https://19thstreetband.com/event/brewstel/
LOCATION:Brewstel\, 120 Davis Avenue\, Elkins\, WV\, 26241\, United States
END:VEVENT
BEGIN:VEVENT
DTSTART;TZID=UTC:20170713T203000
DTEND;TZID=UTC:20170714T000000
DTSTAMP:20260423T133000
CREATED:20170609T000225Z
LAST-MODIFIED:20170609T000225Z
UID:8793-1499977800-1499990400@19thstreetband.com
SUMMARY:JV's
DESCRIPTION:
URL:https://19thstreetband.com/event/jvs-6/
LOCATION:JV’s Restaurant\, 6666  Arlington Blvd.\, Falls Church\, VA\, 22042\, United States
ATTACH;FMTTYPE=image/jpeg:https://19thstreetband.com/wp-content/uploads/2016/10/hamilton-1-scaled.jpg
END:VEVENT
BEGIN:VEVENT
DTSTART;TZID=UTC:20170712T200000
DTEND;TZID=UTC:20170712T230000
DTSTAMP:20260423T133000
CREATED:20170609T000025Z
LAST-MODIFIED:20170609T000025Z
UID:8791-1499889600-1499900400@19thstreetband.com
SUMMARY:The Irish Inn
DESCRIPTION:
URL:https://19thstreetband.com/event/the-irish-inn-14/
LOCATION:Irish Inn\, 6119 Tulane Ave\, Glen Echo\, MD\, 20812\, United States
END:VEVENT
BEGIN:VEVENT
DTSTART;TZID=UTC:20170709T173000
DTEND;TZID=UTC:20170709T203000
DTSTAMP:20260423T133000
CREATED:20170608T235840Z
LAST-MODIFIED:20170608T235840Z
UID:8789-1499621400-1499632200@19thstreetband.com
SUMMARY:Smokin' Tuna Saloon
DESCRIPTION:
URL:https://19thstreetband.com/event/smokin-tuna-saloon-3/
LOCATION:Smokin’ Tuna Saloon\, 4 Charles St\, Key West\, FL\, 33040\, United States
END:VEVENT
BEGIN:VEVENT
DTSTART;TZID=UTC:20170708T173000
DTEND;TZID=UTC:20170708T203000
DTSTAMP:20260423T133000
CREATED:20170608T235614Z
LAST-MODIFIED:20170608T235614Z
UID:8787-1499535000-1499545800@19thstreetband.com
SUMMARY:Smokin' Tuna Saloon
DESCRIPTION:
URL:https://19thstreetband.com/event/smokin-tuna-saloon-2/
LOCATION:Smokin’ Tuna Saloon\, 4 Charles St\, Key West\, FL\, 33040\, United States
END:VEVENT
BEGIN:VEVENT
DTSTART;TZID=UTC:20170707T173000
DTEND;TZID=UTC:20170707T203000
DTSTAMP:20260423T133000
CREATED:20170608T235453Z
LAST-MODIFIED:20170608T235453Z
UID:8785-1499448600-1499459400@19thstreetband.com
SUMMARY:Smokin' Tuna Saloon
DESCRIPTION:
URL:https://19thstreetband.com/event/smokin-tuna-saloon/
LOCATION:Smokin’ Tuna Saloon\, 4 Charles St\, Key West\, FL\, 33040\, United States
END:VEVENT
BEGIN:VEVENT
DTSTART;TZID=UTC:20170706T173000
DTEND;TZID=UTC:20170706T203000
DTSTAMP:20260423T133000
CREATED:20170608T235349Z
LAST-MODIFIED:20170608T235349Z
UID:8782-1499362200-1499373000@19thstreetband.com
SUMMARY:Smokin' Tuna Saloon Key West
DESCRIPTION:
URL:https://19thstreetband.com/event/smokin-tuna-saloon-key-west/
LOCATION:Smokin’ Tuna Saloon\, 4 Charles St\, Key West\, FL\, 33040\, United States
END:VEVENT
BEGIN:VEVENT
DTSTART;TZID=UTC:20170702T140000
DTEND;TZID=UTC:20170702T173000
DTSTAMP:20260423T133000
CREATED:20170608T234831Z
LAST-MODIFIED:20170608T234831Z
UID:8778-1499004000-1499016600@19thstreetband.com
SUMMARY:Starboard in Dewey
DESCRIPTION:Sunday Funday on the deck!
URL:https://19thstreetband.com/event/starboard-in-dewey/
LOCATION:The Starboard\, 2009 Coastal Hwy\, Dewey Beach\, DE\, 19971\, United States
END:VEVENT
BEGIN:VEVENT
DTSTART;TZID=UTC:20170701T213000
DTEND;TZID=UTC:20170701T233000
DTSTAMP:20260423T133000
CREATED:20170608T234224Z
LAST-MODIFIED:20170608T234224Z
UID:8776-1498944600-1498951800@19thstreetband.com
SUMMARY:Mango's Bethany Beach
DESCRIPTION:
URL:https://19thstreetband.com/event/mangos-bethany-beach-2/
LOCATION:Mango’s Bethany Beach\, 97 Garfield Pkwy\, Bethany Beach\, DE\, 19930\, United States
ATTACH;FMTTYPE=image/jpeg:https://19thstreetband.com/wp-content/uploads/2015/09/13880291_507372119458812_8437179921157426489_n.jpg
END:VEVENT
BEGIN:VEVENT
DTSTART;TZID=UTC:20170630T180000
DTEND;TZID=UTC:20170630T213000
DTSTAMP:20260423T133000
CREATED:20170608T234020Z
LAST-MODIFIED:20170608T234020Z
UID:8772-1498845600-1498858200@19thstreetband.com
SUMMARY:Red\, White\, & Brews Festival
DESCRIPTION:This is going to be an amazing event! Come enjoy some libations from the lauded Barley and Hops (head brewer is our own Eric Gleason!) and Rocklands Farm winery. \nInflatables for the kiddos\, food trucks\, vendors\, local libations\, and awesome live music! \nMindy Miller and Friends will be playing at the beer tent at 6 and then we welcome the multi-year Best of Bethesda winning 19th Street Band to Poolesville for the first time at 7:30. You’ll be pulling moves you didn’t even know you had dancing to their fun\, folky jams! \nAnd at the end of an amazing evening\, you can pat yourself on the back for your selfless philanthropy as proceeds benefit the Historic Medley District\, Inc.!
URL:https://19thstreetband.com/event/red-white-brews-festival/
LOCATION:Whalen Commons\, 19701 Fisher Ave\, Poolesville\, MD\, 20837\, United States
END:VEVENT
BEGIN:VEVENT
DTSTART;TZID=UTC:20170629T183000
DTEND;TZID=UTC:20170629T203000
DTSTAMP:20260423T133000
CREATED:20170608T232336Z
LAST-MODIFIED:20170608T232336Z
UID:8770-1498761000-1498768200@19thstreetband.com
SUMMARY:The Bullpen Post-Game
DESCRIPTION:We’ve got the music or you to party both pre-game & POST-game! See you at the Bullpen after the Nats game on 6/29! \n6:30-8:30pm
URL:https://19thstreetband.com/event/bullpen-post-game/
LOCATION:The Bullpen\, 1299 Half St. SE\, Washington\, DC\, 20003\, United States
END:VEVENT
BEGIN:VEVENT
DTSTART;TZID=UTC:20170629T143000
DTEND;TZID=UTC:20170629T163000
DTSTAMP:20260423T133000
CREATED:20170608T232116Z
LAST-MODIFIED:20170608T232116Z
UID:8768-1498746600-1498753800@19thstreetband.com
SUMMARY:The Bullpen Pre-Game
DESCRIPTION:Join us outside Nats Stadium for a pre-game party on 6/29! \n2:30-4:30pm
URL:https://19thstreetband.com/event/bullpen-pre-game/
LOCATION:The Bullpen\, 1299 Half St. SE\, Washington\, DC\, 20003\, United States
END:VEVENT
BEGIN:VEVENT
DTSTART;TZID=UTC:20170628T200000
DTEND;TZID=UTC:20170628T230000
DTSTAMP:20260423T133000
CREATED:20170608T231845Z
LAST-MODIFIED:20170608T231845Z
UID:8766-1498680000-1498690800@19thstreetband.com
SUMMARY:The Irish Inn
DESCRIPTION:
URL:https://19thstreetband.com/event/the-irish-inn-13/
LOCATION:Irish Inn\, 6119 Tulane Ave\, Glen Echo\, MD\, 20812\, United States
END:VEVENT
BEGIN:VEVENT
DTSTART;TZID=UTC:20170627T193000
DTEND;TZID=UTC:20170627T223000
DTSTAMP:20260423T133000
CREATED:20170608T231624Z
LAST-MODIFIED:20170608T231624Z
UID:8763-1498591800-1498602600@19thstreetband.com
SUMMARY:Ireland's 4 Provinces
DESCRIPTION:
URL:https://19thstreetband.com/event/irelands-4-provinces/
LOCATION:Ireland’s Four Provinces\, 105 W Broad St\, Ste 1\, Falls Church\, VA\, 22046\, United States
END:VEVENT
BEGIN:VEVENT
DTSTART;TZID=UTC:20170625T130000
DTEND;TZID=UTC:20170625T160000
DTSTAMP:20260423T133000
CREATED:20170608T231358Z
LAST-MODIFIED:20170608T231358Z
UID:8760-1498395600-1498406400@19thstreetband.com
SUMMARY:Midlands Beer Garden
DESCRIPTION:
URL:https://19thstreetband.com/event/midlands-beer-garden/
LOCATION:Midlands Beer Garden\, 3333 Georgia Ave NW\, Washington\, DC\, 20010\, United States
END:VEVENT
BEGIN:VEVENT
DTSTART;TZID=UTC:20170624T170000
DTEND;TZID=UTC:20170624T230000
DTSTAMP:20260423T133000
CREATED:20170608T212626Z
LAST-MODIFIED:20170608T212626Z
UID:8740-1498323600-1498345200@19thstreetband.com
SUMMARY:Woodstock Maryland Music Festival
DESCRIPTION:Woodstock Music Festival is pleased to present some of Maryland’s most talented artists. Shelby Blondell Band\, 19th Street Band\, and Misspent Youth with special guest Dave DeMarco will entertain and delight you. Join us for a fabulous evening under a canopy of stars. Your support will help to feed over 100 homeless men daily and provide educational opportunities for disadvantaged children. \nTickets (adult only) purchased prior to June 10\, 2017 receive $5 food concession voucher. Vouchers available at the gate. \nhttps://www.eventbrite.com/e/woodstock-music-fest-tickets-34919092947
URL:https://19thstreetband.com/event/woodstock-maryland-music-festival/
LOCATION:Woodstock Maryland Music Festival\, 10800 Old Court Road\, Woodstock\, MD\, 21163\, United States
END:VEVENT
BEGIN:VEVENT
DTSTART;TZID=UTC:20170623T190000
DTEND;TZID=UTC:20170623T220000
DTSTAMP:20260423T133000
CREATED:20170608T230810Z
LAST-MODIFIED:20170608T230810Z
UID:8757-1498244400-1498255200@19thstreetband.com
SUMMARY:HomeSpun CoffeeHouse
DESCRIPTION:The Southern Maryland Traditional Music and Dance HomeSpun Coffee House will sponsor a concert at the Christ Church Parish Hall\, 37497 Zach Fowler Road\, Chaptico\, MD featuring the 19th Street Band. http://19thstreetband.com/ The doors open at 7:00 PM\, and the music starts at 7:30. Visit www.smtmd.org for directions and more information.
URL:https://19thstreetband.com/event/homespun-coffeehouse/
LOCATION:HomeSpun CoffeeHouse\, 37497 Zach Fowler Road\, Chaptico\, MD\, 20659\, United States
ATTACH;FMTTYPE=image/jpeg:https://19thstreetband.com/wp-content/uploads/2015/05/square-cover.jpg
END:VEVENT
BEGIN:VEVENT
DTSTART;TZID=UTC:20170622T170000
DTEND;TZID=UTC:20170622T200000
DTSTAMP:20260423T133000
CREATED:20170608T230153Z
LAST-MODIFIED:20170608T230153Z
UID:8754-1498150800-1498161600@19thstreetband.com
SUMMARY:Alive at 5
DESCRIPTION:Join us from 5-8PM every Thursday\, May 11 through September 21\, for 20 rockin’ happy hours at the Carroll Creek Amphitheater! Featuring great live music\, cold beer\, wine and local food\, Alive @ Five is the networking event that you don’t want to miss. \nAdmission is $5 (paid at the gate) and all events are 21+ only. \nEnjoy some rock n’ roll this week with the 19th Street Band! The 19th Street Band tends to captivate audiences just by being themselves. Having good\, simple fun. Making sweet\, simple rock and roll. They combine their instrumental talents with strong harmonies and high energy\, bringing genuine joy to the show and instantly connecting to every audience. See you on the Creek! \nAlive @ Five 2017 is a summer-long fundraiser for Downtown Frederick Partnership\, presented by DARCARS Toyota of Frederick. These events are made possible by a wonderful team of sponsors. All proceeds from Alive @ Five are reinvested into the Downtown Frederick community. \nEach morning before Alive @ Five\, start your day with free yoga in the amphitheater from 7-8AM\, led by Sol Yoga.
URL:https://19thstreetband.com/event/alive-at-5/
LOCATION:Carroll Creek Outdoor Amphitheater\, CH7R+3F Frederick\, Maryland\, Frederick\, MD\, 21701\, United States
END:VEVENT
BEGIN:VEVENT
DTSTART;TZID=UTC:20170621T200000
DTEND;TZID=UTC:20170621T230000
DTSTAMP:20260423T133000
CREATED:20170608T224637Z
LAST-MODIFIED:20170608T224637Z
UID:8752-1498075200-1498086000@19thstreetband.com
SUMMARY:Lahinch Tavern & Grill
DESCRIPTION:
URL:https://19thstreetband.com/event/lahinch-tavern-grill-13/
LOCATION:Lahinch Tavern & Grill\, 7747 Tuckerman Lane\, Potomac\, MD\, 20854\, United States
END:VEVENT
BEGIN:VEVENT
DTSTART;TZID=UTC:20170617T213000
DTEND;TZID=UTC:20170617T233000
DTSTAMP:20260423T133000
CREATED:20170608T224529Z
LAST-MODIFIED:20170608T224529Z
UID:8750-1497735000-1497742200@19thstreetband.com
SUMMARY:Mango's Bethany Beach
DESCRIPTION:
URL:https://19thstreetband.com/event/mangos-bethany-beach/
LOCATION:Mango’s Bethany Beach\, 97 Garfield Pkwy\, Bethany Beach\, DE\, 19930\, United States
ATTACH;FMTTYPE=image/jpeg:https://19thstreetband.com/wp-content/uploads/2015/09/13880291_507372119458812_8437179921157426489_n.jpg
END:VEVENT
BEGIN:VEVENT
DTSTART;TZID=UTC:20170615T180000
DTEND;TZID=UTC:20170615T200000
DTSTAMP:20260423T133000
CREATED:20170608T224321Z
LAST-MODIFIED:20170608T224321Z
UID:8746-1497549600-1497556800@19thstreetband.com
SUMMARY:Rosslyn Rocks! Concert Series
DESCRIPTION:Rosslyn Rocks! will feature a different cover band every Thursday in June in Central Place Plaza. Join us on 6/15 @ 1800 N Lynn St!\nhttp://www.arlnow.com/2017/05/25/rosslyn-rocks-concerts-debut-next-week-in-central-place-plaza/ \nhttp://www.rosslynva.org/do/rosslyn-rocks-concert-series
URL:https://19thstreetband.com/event/rosslyn-rocks-concert-series/
LOCATION:Central Place Plaza\, 1800 N Lynn St\, Arlington\, VA\, 22209\, United States
END:VEVENT
BEGIN:VEVENT
DTSTART;TZID=UTC:20170614T200000
DTEND;TZID=UTC:20170614T230000
DTSTAMP:20260423T133000
CREATED:20170608T223542Z
LAST-MODIFIED:20170608T223542Z
UID:8744-1497470400-1497481200@19thstreetband.com
SUMMARY:The Irish Inn
DESCRIPTION:
URL:https://19thstreetband.com/event/the-irish-inn-12/
LOCATION:Irish Inn\, 6119 Tulane Ave\, Glen Echo\, MD\, 20812\, United States
END:VEVENT
BEGIN:VEVENT
DTSTART;TZID=UTC:20170611T170000
DTEND;TZID=UTC:20170611T210000
DTSTAMP:20260423T133000
CREATED:20170606T075715Z
LAST-MODIFIED:20170606T075715Z
UID:8731-1497200400-1497214800@19thstreetband.com
SUMMARY:Seacrets
DESCRIPTION:
URL:https://19thstreetband.com/event/seacrets-6/
LOCATION:Seacrets Jamaica USA\, 117 49th street\, Ocean City\, MD\, 21842\, United States
END:VEVENT
BEGIN:VEVENT
DTSTART;TZID=UTC:20170609T213000
DTEND;TZID=UTC:20170609T220000
DTSTAMP:20260423T133000
CREATED:20170606T075611Z
LAST-MODIFIED:20220915T180816Z
UID:8729-1497043800-1497045600@19thstreetband.com
SUMMARY:Flanagan's Harp & Fiddle
DESCRIPTION:
URL:https://19thstreetband.com/event/flanagans-harp-fiddle-6/
LOCATION:Flanagan’s Harp & Fiddle\, 4844 Cordell Ave\, Bethesda\, MD\, 20814\, United States
ATTACH;FMTTYPE=image/jpeg:https://19thstreetband.com/wp-content/uploads/2017/04/harp.jpg
END:VEVENT
END:VCALENDAR