BEGIN:VCALENDAR
VERSION:2.0
PRODID:-//The 19th Street Band - ECPv6.15.20//NONSGML v1.0//EN
CALSCALE:GREGORIAN
METHOD:PUBLISH
X-WR-CALNAME:The 19th Street Band
X-ORIGINAL-URL:https://19thstreetband.com
X-WR-CALDESC:Events for The 19th Street Band
REFRESH-INTERVAL;VALUE=DURATION:PT1H
X-Robots-Tag:noindex
X-PUBLISHED-TTL:PT1H
BEGIN:VTIMEZONE
TZID:UTC
BEGIN:STANDARD
TZOFFSETFROM:+0000
TZOFFSETTO:+0000
TZNAME:UTC
DTSTART:20160101T000000
END:STANDARD
END:VTIMEZONE
BEGIN:VEVENT
DTSTART;TZID=UTC:20171110T200000
DTEND;TZID=UTC:20171110T220000
DTSTAMP:20260423T044240
CREATED:20170926T062011Z
LAST-MODIFIED:20170926T062011Z
UID:9092-1510344000-1510351200@19thstreetband.com
SUMMARY:Maryland Irish Festival
DESCRIPTION:
URL:https://19thstreetband.com/event/maryland-irish-festival-2/
LOCATION:Maryland State Fairgrounds\, 2200 York Rd\, Lutherville-Timonium\, MD\, 21093\, United States
ATTACH;FMTTYPE=image/png:https://19thstreetband.com/wp-content/uploads/2017/07/image1.png
END:VEVENT
BEGIN:VEVENT
DTSTART;TZID=UTC:20171109T203000
DTEND;TZID=UTC:20171109T203000
DTSTAMP:20260423T044240
CREATED:20170926T061018Z
LAST-MODIFIED:20171030T221641Z
UID:9085-1510259400-1510259400@19thstreetband.com
SUMMARY:JV's Restaurant 70th Anniversary Party
DESCRIPTION:Celebrate JV’s 70th Anniversary with us!!!
URL:https://19thstreetband.com/event/jvs-restaurant-6/
LOCATION:JV’s Restaurant\, 6666  Arlington Blvd.\, Falls Church\, VA\, 22042\, United States
ATTACH;FMTTYPE=image/jpeg:https://19thstreetband.com/wp-content/uploads/2017/09/jvs-2-scaled.jpg
END:VEVENT
BEGIN:VEVENT
DTSTART;TZID=UTC:20171108T200000
DTEND;TZID=UTC:20171108T230000
DTSTAMP:20260423T044240
CREATED:20170926T060748Z
LAST-MODIFIED:20170926T060748Z
UID:9083-1510171200-1510182000@19thstreetband.com
SUMMARY:Lahinch Tavern & Grill
DESCRIPTION:
URL:https://19thstreetband.com/event/lahinch-tavern-grill-19/
LOCATION:Lahinch Tavern & Grill\, 7747 Tuckerman Lane\, Potomac\, MD\, 20854\, United States
END:VEVENT
BEGIN:VEVENT
DTSTART;TZID=UTC:20171102T210000
DTEND;TZID=UTC:20171102T210000
DTSTAMP:20260423T044240
CREATED:20170926T060618Z
LAST-MODIFIED:20170926T060618Z
UID:9080-1509656400-1509656400@19thstreetband.com
SUMMARY:Samuel Beckett's
DESCRIPTION:
URL:https://19thstreetband.com/event/samuel-becketts-16/
LOCATION:Samuel Beckett’s\, 2800 S Randolph St #110\, Arlington\, VA\, 22206\, United States
ATTACH;FMTTYPE=image/png:https://19thstreetband.com/wp-content/uploads/2017/04/19th-street-things-that-matter-1.png
END:VEVENT
BEGIN:VEVENT
DTSTART;TZID=UTC:20171101T200000
DTEND;TZID=UTC:20171101T230000
DTSTAMP:20260423T044240
CREATED:20170926T060408Z
LAST-MODIFIED:20170926T060408Z
UID:9078-1509566400-1509577200@19thstreetband.com
SUMMARY:The Irish Inn
DESCRIPTION:
URL:https://19thstreetband.com/event/the-irish-inn-21/
LOCATION:Irish Inn\, 6119 Tulane Ave\, Glen Echo\, MD\, 20812\, United States
ATTACH;FMTTYPE=image/jpeg:https://19thstreetband.com/wp-content/uploads/2017/09/irish-inn-greg.jpg
END:VEVENT
BEGIN:VEVENT
DTSTART;TZID=UTC:20171031T193000
DTEND;TZID=UTC:20171031T223000
DTSTAMP:20260423T044240
CREATED:20170926T060223Z
LAST-MODIFIED:20170926T060223Z
UID:9076-1509478200-1509489000@19thstreetband.com
SUMMARY:Ireland's Four Provinces
DESCRIPTION:Celebrate Halloween with us at the 4P’s in Falls Church\, VA!
URL:https://19thstreetband.com/event/irelands-four-provinces-11/
LOCATION:Ireland’s Four Provinces\, 105 W Broad St\, Ste 1\, Falls Church\, VA\, 22046\, United States
END:VEVENT
BEGIN:VEVENT
DTSTART;TZID=UTC:20171019T210000
DTEND;TZID=UTC:20171019T210000
DTSTAMP:20260423T044240
CREATED:20170926T055839Z
LAST-MODIFIED:20170926T055839Z
UID:9074-1508446800-1508446800@19thstreetband.com
SUMMARY:Samuel Beckett's
DESCRIPTION:
URL:https://19thstreetband.com/event/samuel-becketts-15/
LOCATION:Samuel Beckett’s\, 2800 S Randolph St #110\, Arlington\, VA\, 22206\, United States
ATTACH;FMTTYPE=image/png:https://19thstreetband.com/wp-content/uploads/2017/03/Screen-Shot-2017-03-29-at-04.42.09.png
END:VEVENT
BEGIN:VEVENT
DTSTART;TZID=UTC:20171018T080000
DTEND;TZID=UTC:20171018T170000
DTSTAMP:20260423T044240
CREATED:20170926T055508Z
LAST-MODIFIED:20170926T055508Z
UID:9071-1508313600-1508346000@19thstreetband.com
SUMMARY:The Irish Inn
DESCRIPTION:
URL:https://19thstreetband.com/event/the-irish-inn-20/
LOCATION:Irish Inn\, 6119 Tulane Ave\, Glen Echo\, MD\, 20812\, United States
ATTACH;FMTTYPE=image/jpeg:https://19thstreetband.com/wp-content/uploads/2017/09/irish-inn-greg.jpg
END:VEVENT
BEGIN:VEVENT
DTSTART;TZID=UTC:20171015T133000
DTEND;TZID=UTC:20171015T163000
DTSTAMP:20260423T044240
CREATED:20170926T055325Z
LAST-MODIFIED:20171010T021829Z
UID:9067-1508074200-1508085000@19thstreetband.com
SUMMARY:Bethesda Row Arts Festival
DESCRIPTION:Join us for the Bethesda Row Arts Festival on the corner of Elm St & Woodmont Ave! \n1:30-4:30pm \nBethesda Row Arts Festival – September 12-13\, 2026
URL:https://19thstreetband.com/event/bethesda-row-arts-festival/
LOCATION:Bethesda Row\, 4841 Bethesda Ave\, Bethesda\, MD\, 20814\, United States
ATTACH;FMTTYPE=image/jpeg:https://19thstreetband.com/wp-content/uploads/2017/10/canal-pic.jpg
END:VEVENT
BEGIN:VEVENT
DTSTART;TZID=UTC:20171014T180000
DTEND;TZID=UTC:20171014T220000
DTSTAMP:20260423T044240
CREATED:20170926T054454Z
LAST-MODIFIED:20170926T054454Z
UID:9065-1508004000-1508018400@19thstreetband.com
SUMMARY:Castaways Tiki Bar
DESCRIPTION:
URL:https://19thstreetband.com/event/castaways-tiki-bar/
LOCATION:Castaways\, 12550 Eagles Nest Rd\, Berlin\, MD\, 21811\, United States
ATTACH;FMTTYPE=image/jpeg:https://19thstreetband.com/wp-content/uploads/2017/08/smokin-tuna-pic.jpg
END:VEVENT
BEGIN:VEVENT
DTSTART;TZID=UTC:20171013T170000
DTEND;TZID=UTC:20171013T210000
DTSTAMP:20260423T044240
CREATED:20170926T054314Z
LAST-MODIFIED:20170926T054314Z
UID:9063-1507914000-1507928400@19thstreetband.com
SUMMARY:Seacrets\, OC
DESCRIPTION:
URL:https://19thstreetband.com/event/seacrets-oc-2/
LOCATION:Seacrets Jamaica USA\, 117 49th street\, Ocean City\, MD\, 21842\, United States
ATTACH;FMTTYPE=image/jpeg:https://19thstreetband.com/wp-content/uploads/2016/10/seacrets-4.jpg
END:VEVENT
BEGIN:VEVENT
DTSTART;TZID=UTC:20171012T203000
DTEND;TZID=UTC:20171012T203000
DTSTAMP:20260423T044240
CREATED:20170926T054158Z
LAST-MODIFIED:20170926T054158Z
UID:9061-1507840200-1507840200@19thstreetband.com
SUMMARY:JV's Restaurant
DESCRIPTION:
URL:https://19thstreetband.com/event/jvs-restaurant-5/
LOCATION:JV’s Restaurant\, 6666  Arlington Blvd.\, Falls Church\, VA\, 22042\, United States
END:VEVENT
BEGIN:VEVENT
DTSTART;TZID=UTC:20171011T200000
DTEND;TZID=UTC:20171011T230000
DTSTAMP:20260423T044240
CREATED:20170926T054029Z
LAST-MODIFIED:20170926T054029Z
UID:9059-1507752000-1507762800@19thstreetband.com
SUMMARY:Lahinch Tavern & Grill
DESCRIPTION:
URL:https://19thstreetband.com/event/lahinch-tavern-grill-18/
LOCATION:Lahinch Tavern & Grill\, 7747 Tuckerman Lane\, Potomac\, MD\, 20854\, United States
END:VEVENT
BEGIN:VEVENT
DTSTART;TZID=UTC:20171007T213000
DTEND;TZID=UTC:20171007T213000
DTSTAMP:20260423T044240
CREATED:20170926T053727Z
LAST-MODIFIED:20170926T053727Z
UID:9057-1507411800-1507411800@19thstreetband.com
SUMMARY:O'Connell's in Alexandria
DESCRIPTION:
URL:https://19thstreetband.com/event/oconnells-in-alexandria-4/
LOCATION:Daniel O’Connell’s Restaurant & Bar\, 112 King St\, Alexandria\, VA\, 22314\, United States
END:VEVENT
BEGIN:VEVENT
DTSTART;TZID=UTC:20171006T213000
DTEND;TZID=UTC:20171006T213000
DTSTAMP:20260423T044240
CREATED:20170926T053500Z
LAST-MODIFIED:20170926T053500Z
UID:9055-1507325400-1507325400@19thstreetband.com
SUMMARY:Flanagan's Harp & Fiddle
DESCRIPTION:
URL:https://19thstreetband.com/event/flanagans-harp-fiddle-10/
LOCATION:Flanagan’s Harp & Fiddle\, 4844 Cordell Ave\, Bethesda\, MD\, 20814\, United States
ATTACH;FMTTYPE=image/png:https://19thstreetband.com/wp-content/uploads/2017/07/image1.png
END:VEVENT
BEGIN:VEVENT
DTSTART;TZID=UTC:20171005T210000
DTEND;TZID=UTC:20171005T220000
DTSTAMP:20260423T044240
CREATED:20170926T053201Z
LAST-MODIFIED:20220923T202005Z
UID:9053-1507237200-1507240800@19thstreetband.com
SUMMARY:Samuel Beckett's
DESCRIPTION:
URL:https://19thstreetband.com/event/samuel-becketts-14/
LOCATION:Samuel Beckett’s\, 2800 S Randolph St #110\, Arlington\, VA\, 22206\, United States
ATTACH;FMTTYPE=image/png:https://19thstreetband.com/wp-content/uploads/2017/07/banner-19th-street-july2017-2.png
END:VEVENT
BEGIN:VEVENT
DTSTART;TZID=UTC:20171004T200000
DTEND;TZID=UTC:20171004T230000
DTSTAMP:20260423T044240
CREATED:20170926T053020Z
LAST-MODIFIED:20170926T053020Z
UID:9051-1507147200-1507158000@19thstreetband.com
SUMMARY:The Irish Inn
DESCRIPTION:
URL:https://19thstreetband.com/event/the-irish-inn-19/
LOCATION:Irish Inn\, 6119 Tulane Ave\, Glen Echo\, MD\, 20812\, United States
END:VEVENT
BEGIN:VEVENT
DTSTART;TZID=UTC:20170929T170000
DTEND;TZID=UTC:20170929T210000
DTSTAMP:20260423T044240
CREATED:20170926T035011Z
LAST-MODIFIED:20170926T035011Z
UID:9047-1506704400-1506718800@19thstreetband.com
SUMMARY:Seacrets
DESCRIPTION:
URL:https://19thstreetband.com/event/seacrets-7/
LOCATION:Seacrets Jamaica USA\, 117 49th street\, Ocean City\, MD\, 21842\, United States
ATTACH;FMTTYPE=image/jpeg:https://19thstreetband.com/wp-content/uploads/2016/10/seacrets-5.jpg
END:VEVENT
BEGIN:VEVENT
DTSTART;TZID=UTC:20170928T173000
DTEND;TZID=UTC:20170928T193000
DTSTAMP:20260423T044240
CREATED:20170926T034447Z
LAST-MODIFIED:20170926T034447Z
UID:9045-1506619800-1506627000@19thstreetband.com
SUMMARY:The Bullpen pre-game
DESCRIPTION:
URL:https://19thstreetband.com/event/bullpen-pre-game-2/
LOCATION:The Bullpen\, 1299 Half St. SE\, Washington\, DC\, 20003\, United States
END:VEVENT
BEGIN:VEVENT
DTSTART;TZID=UTC:20170927T200000
DTEND;TZID=UTC:20170927T230000
DTSTAMP:20260423T044240
CREATED:20170926T034010Z
LAST-MODIFIED:20170926T034010Z
UID:9043-1506542400-1506553200@19thstreetband.com
SUMMARY:Lahinch Tavern & Grill
DESCRIPTION:
URL:https://19thstreetband.com/event/lahinch-tavern-grill-17/
LOCATION:Lahinch Tavern & Grill\, 7747 Tuckerman Lane\, Potomac\, MD\, 20854\, United States
END:VEVENT
BEGIN:VEVENT
DTSTART;TZID=UTC:20170923T213000
DTEND;TZID=UTC:20170923T220000
DTSTAMP:20260423T044240
CREATED:20170821T034402Z
LAST-MODIFIED:20220915T182952Z
UID:9024-1506202200-1506204000@19thstreetband.com
SUMMARY:Flanagan's Harp & Fiddle
DESCRIPTION:
URL:https://19thstreetband.com/event/flanagans-harp-fiddle-9/
LOCATION:Flanagan’s Harp & Fiddle\, 4844 Cordell Ave\, Bethesda\, MD\, 20814\, United States
ATTACH;FMTTYPE=image/png:https://19thstreetband.com/wp-content/uploads/2017/07/image1.png
END:VEVENT
BEGIN:VEVENT
DTSTART;TZID=UTC:20170921T210000
DTEND;TZID=UTC:20170921T220000
DTSTAMP:20260423T044240
CREATED:20170821T034207Z
LAST-MODIFIED:20220915T182209Z
UID:9022-1506027600-1506031200@19thstreetband.com
SUMMARY:Samuel Beckett's
DESCRIPTION:
URL:https://19thstreetband.com/event/samuel-becketts-13/
LOCATION:Samuel Beckett’s\, 2800 S Randolph St #110\, Arlington\, VA\, 22206\, United States
END:VEVENT
BEGIN:VEVENT
DTSTART;TZID=UTC:20170920T200000
DTEND;TZID=UTC:20170920T230000
DTSTAMP:20260423T044240
CREATED:20170821T034014Z
LAST-MODIFIED:20170821T034014Z
UID:9020-1505937600-1505948400@19thstreetband.com
SUMMARY:The Irish Inn
DESCRIPTION:
URL:https://19thstreetband.com/event/the-irish-inn-18/
LOCATION:Irish Inn\, 6119 Tulane Ave\, Glen Echo\, MD\, 20812\, United States
END:VEVENT
BEGIN:VEVENT
DTSTART;TZID=UTC:20170919T193000
DTEND;TZID=UTC:20170919T223000
DTSTAMP:20260423T044240
CREATED:20170821T033831Z
LAST-MODIFIED:20170821T033831Z
UID:9017-1505849400-1505860200@19thstreetband.com
SUMMARY:Ireland's Four Provinces
DESCRIPTION:
URL:https://19thstreetband.com/event/irelands-four-provinces-10/
LOCATION:Ireland’s Four Provinces\, 105 W Broad St\, Ste 1\, Falls Church\, VA\, 22046\, United States
END:VEVENT
BEGIN:VEVENT
DTSTART;TZID=UTC:20170916T180000
DTEND;TZID=UTC:20170916T220000
DTSTAMP:20260423T044240
CREATED:20170821T033013Z
LAST-MODIFIED:20170821T033013Z
UID:9013-1505584800-1505599200@19thstreetband.com
SUMMARY:7th Annual C&O Canal Park After Dark
DESCRIPTION:A magical night under the stars in the C&O Canal National Historical Park!\nPark After Dark is the only event of its kind to be held within the grounds of the C&O Canal National Historical Park. Guests will enjoy the natural splendor of the Great Falls area and the historic Tavern\, while learning more about the Trust and the Canal. \nThis year\, the C&O Canal Trust’s Seventh Annual Park After Dark fundraiser promises great food \, tasty libations\, and delectable desserts\, along with unique auction items\, a visit from the Canal’s mules\, and a roaring camp fire. \nThe attire for the evening is “Canal Chic.” \nMusic by the 19th Street BandFood by Corcoran Caterers \n\nTICKET OPTIONS\nReserved Seating\nGuarantees reserved seat(s) at a table under the tent. Includes buffet dinner and open bar.\nPlatinum Package for 8 People: $2\,000\nGold Package for Four People: $1\,000\nSilver Package for Two People: $500\nBronze Package for One Person: $250\n>> Download the Ticket Packet for complete details of package benefits \n\nEvent Tickets\nFor folks who do not need a seat\, preferring to drift between the bar\, cocktail tables\, picnic tables\, and campfire. Includes buffet dinner and open bar.\nEvent Ticket for 1 Person: $200 \n($50 of ticket price is not tax-deductible).\nAttendance is by ticket only. Tickets are limited and available on a first-come basis.\nThis is a rain or shine event. Tickets are non-refundable.
URL:https://19thstreetband.com/event/7th-annual-co-canal-park-dark/
LOCATION:Historic Great Falls Tavern\, 11710 MacArthur Blvd.\, Potomac\, MD\, 20854\, United States
END:VEVENT
BEGIN:VEVENT
DTSTART;TZID=UTC:20170916T120000
DTEND;TZID=UTC:20170916T150000
DTSTAMP:20260423T044240
CREATED:20170821T034636Z
LAST-MODIFIED:20170821T034636Z
UID:9026-1505563200-1505574000@19thstreetband.com
SUMMARY:Park Potomac Fall Festival
DESCRIPTION:Join us for FREE fun for the ENTIRE family! \nFeaturing a pop-up from URBNmarket\, Live music\, Squeals on Wheels petting zoo\, face painting\, balloon twisting\, My Gym activities\, Beer garden with wine from Wine Harvest\, food samples from our restaurants\, food trucks\, and MORE! \nThis year our partner is Children’s National Medical\, who will be onsite with Dr. Bear and kid-friendly activities. Donate $5 and recieve a pumpkin to paint.
URL:https://19thstreetband.com/event/park-potomac-fall-festival/
LOCATION:Park Potomac\, Park Potomac Ave\, Potomac\, MD\, 20854\, United States
END:VEVENT
BEGIN:VEVENT
DTSTART;TZID=UTC:20170915T080000
DTEND;TZID=UTC:20170915T170000
DTSTAMP:20260423T044240
CREATED:20170821T030009Z
LAST-MODIFIED:20170821T030009Z
UID:9010-1505462400-1505494800@19thstreetband.com
SUMMARY:DEFHR Kick Back\, Kick Off Concert Under the Stars
DESCRIPTION:We’re excited to be kicking off Days End Farm Horse Rescue’s Fall Festival for 2017!!! Join DEFHR and The 19th Street Band (https://19thstreetband.com/) in opening DEFHR’s Hops for Horses Beer Garden to help kick-off our annual Fall Festival! \nEquine Ambassadors\, Officer Barney\, and his deputy\, Nugget\, will be the event bouncers and available for photo ops\, while the smokey smells of the Lisbon Town Grill’s (http://www.towngrillfosters.com/) amazing BBQ will get your taste buds going. The Hops for Horses Beer Garden will be serving seasonal brews – paired perfectly to go with good music and good food. \nYou WILL NOT want to miss this concert under the stars at one of Maryland’s premier horse farms. \nAdmission is $5 per vehicle – parking is on site and 1st come 1st serve until lots are full. Music starts at 7pm. This is a community event and we want everyone to come out and enjoy good music\, good food\, good company and maybe a little bit of corn hole all for the horses! Brew\, Parking and a portion of Food proceeds go back to DEFHR’s rehabilitation fund. This is a cash only event – ATM will be on site. For more information visit: www.deflr.org \nMark Your Calendars – Looking forward to seeing everyone!
URL:https://19thstreetband.com/event/defhr-kick-back-kick-off-concert-stars/
LOCATION:Days End Farm Horse Rescue\, 1372 Woodbine Rd\, Woodbine\, MD\, 21797\, United States
END:VEVENT
BEGIN:VEVENT
DTSTART;TZID=UTC:20170914T203000
DTEND;TZID=UTC:20170914T223000
DTSTAMP:20260423T044240
CREATED:20170821T025006Z
LAST-MODIFIED:20220915T175948Z
UID:9008-1505421000-1505428200@19thstreetband.com
SUMMARY:JV's Restaurant
DESCRIPTION:
URL:https://19thstreetband.com/event/jvs-restaurant-4/
LOCATION:MD
END:VEVENT
BEGIN:VEVENT
DTSTART;TZID=UTC:20170913T180000
DTEND;TZID=UTC:20170913T210000
DTSTAMP:20260423T044240
CREATED:20170821T020636Z
LAST-MODIFIED:20170821T020636Z
UID:9002-1505325600-1505336400@19thstreetband.com
SUMMARY:Oyster Fest presented by Brewer's Alley
DESCRIPTION:Chef Joe Canlas teams up with regional oyster farmers\, Harris Seafood Co. (Kent Island\, MD)\, Rappahannock Oyster Co. (Topping\, MD)\, and True Chesapeake Oyster Co. (St. Jerome Creek\, MD)\, to offer a great selection of shucked oysters. Other featured dishes at this event include shrimp and crab cocktails\, mussels\, salmon\, prime rib\, roasted pig\, cajun wings and assorted sausages. Samplings of Brewer’s Alley craft beer and a selection of wines from around the world come bundled as a part of our all-inclusive ticket. Local musical favorites\, 19th Street Band\, are performing during the event. \nThis festival\, hosted in our new terrace dining room and on the rooftop patio\, will be a great event! Join us for this late-summer celebration of regionally-sourced foods\, locally brewed craft beer\, and a wide variety of delicious wines. \nAll-inclusive tickets are $85.00 per person (ticketing fees apply) and can be purchased via our Eventbrite link.
URL:https://19thstreetband.com/event/oyster-fest-presented-brewers-alley/
LOCATION:Brewer’s Alley\, 124 N. Market St.\, Frederick\, MD\, 21701\, United States
END:VEVENT
BEGIN:VEVENT
DTSTART;TZID=UTC:20170910T150000
DTEND;TZID=UTC:20170910T190000
DTSTAMP:20260423T044240
CREATED:20170821T020110Z
LAST-MODIFIED:20170821T020110Z
UID:9000-1505055600-1505070000@19thstreetband.com
SUMMARY:Irish Inn's Halfway to St. Patrick's Day Music Festival
DESCRIPTION:Join us for our Annual Irish Inn Outdoor Music Festival. \nTraditional Irish Music 3pm-5pm with the Irish Inn Mates and the Culkin Irish Dancers \n19th Street Band 5pm-7pm \nBrooks Tegler Jazz Trio in the Pub 7-9pm \nRain Date September 17th
URL:https://19thstreetband.com/event/irish-inns-halfway-st-patricks-day-music-festival/
LOCATION:Irish Inn\, 6119 Tulane Ave\, Glen Echo\, MD\, 20812\, United States
END:VEVENT
END:VCALENDAR