BEGIN:VCALENDAR
VERSION:2.0
PRODID:-//The 19th Street Band - ECPv6.15.20//NONSGML v1.0//EN
CALSCALE:GREGORIAN
METHOD:PUBLISH
X-WR-CALNAME:The 19th Street Band
X-ORIGINAL-URL:https://19thstreetband.com
X-WR-CALDESC:Events for The 19th Street Band
REFRESH-INTERVAL;VALUE=DURATION:PT1H
X-Robots-Tag:noindex
X-PUBLISHED-TTL:PT1H
BEGIN:VTIMEZONE
TZID:UTC
BEGIN:STANDARD
TZOFFSETFROM:+0000
TZOFFSETTO:+0000
TZNAME:UTC
DTSTART:20160101T000000
END:STANDARD
END:VTIMEZONE
BEGIN:VEVENT
DTSTART;TZID=UTC:20180111T203000
DTEND;TZID=UTC:20180112T003000
DTSTAMP:20260422T184853
CREATED:20171231T080458Z
LAST-MODIFIED:20171231T080458Z
UID:9285-1515702600-1515717000@19thstreetband.com
SUMMARY:JV's Restaurant
DESCRIPTION:
URL:https://19thstreetband.com/event/jvs-restaurant-8/
LOCATION:JV’s Restaurant\, 6666  Arlington Blvd.\, Falls Church\, VA\, 22042\, United States
END:VEVENT
BEGIN:VEVENT
DTSTART;TZID=UTC:20180106T210000
DTEND;TZID=UTC:20180107T000000
DTSTAMP:20260422T184853
CREATED:20171231T080031Z
LAST-MODIFIED:20171231T080031Z
UID:9283-1515272400-1515283200@19thstreetband.com
SUMMARY:Shaw's Tavern
DESCRIPTION:
URL:https://19thstreetband.com/event/shaws-tavern-2/
ATTACH;FMTTYPE=image/jpeg:https://19thstreetband.com/wp-content/uploads/2017/10/patty-headshot.jpg
END:VEVENT
BEGIN:VEVENT
DTSTART;TZID=UTC:20180105T213000
DTEND;TZID=UTC:20180106T013000
DTSTAMP:20260422T184853
CREATED:20171231T075819Z
LAST-MODIFIED:20171231T075819Z
UID:9281-1515187800-1515202200@19thstreetband.com
SUMMARY:Daniel O'Connell's Pub
DESCRIPTION:
URL:https://19thstreetband.com/event/daniel-oconnells-pub/
LOCATION:Daniel O’Connell’s Restaurant & Bar\, 112 King St\, Alexandria\, VA\, 22314\, United States
END:VEVENT
BEGIN:VEVENT
DTSTART;TZID=UTC:20180103T200000
DTEND;TZID=UTC:20180103T230000
DTSTAMP:20260422T184853
CREATED:20171231T075516Z
LAST-MODIFIED:20171231T075516Z
UID:9278-1515009600-1515020400@19thstreetband.com
SUMMARY:The Irish Inn
DESCRIPTION:
URL:https://19thstreetband.com/event/the-irish-inn-25/
LOCATION:Irish Inn\, 6119 Tulane Ave\, Glen Echo\, MD\, 20812\, United States
ATTACH;FMTTYPE=image/jpeg:https://19thstreetband.com/wp-content/uploads/2017/11/Screen-Shot-2017-11-23-at-8.32.28-AM.jpg
END:VEVENT
BEGIN:VEVENT
DTSTART;TZID=UTC:20171231T220000
DTEND;TZID=UTC:20180101T010000
DTSTAMP:20260422T184853
CREATED:20171231T075342Z
LAST-MODIFIED:20171231T075342Z
UID:9276-1514757600-1514768400@19thstreetband.com
SUMMARY:NYE @ The Hamilton LOFT
DESCRIPTION:
URL:https://19thstreetband.com/event/nye-hamilton-loft/
LOCATION:The Hamilton\, 600 14th St NW\, Washington\, DC\, 20005\, United States
ATTACH;FMTTYPE=image/jpeg:https://19thstreetband.com/wp-content/uploads/2016/10/hamilton-1-scaled.jpg
END:VEVENT
BEGIN:VEVENT
DTSTART;TZID=UTC:20171215T213000
DTEND;TZID=UTC:20171216T013000
DTSTAMP:20260422T184853
CREATED:20171030T230815Z
LAST-MODIFIED:20171030T230815Z
UID:9231-1513373400-1513387800@19thstreetband.com
SUMMARY:Flanagan's Harp & Fiddle
DESCRIPTION:
URL:https://19thstreetband.com/event/flanagans-harp-fiddle-12/
ATTACH;FMTTYPE=image/png:https://19thstreetband.com/wp-content/uploads/2017/07/image2.png
END:VEVENT
BEGIN:VEVENT
DTSTART;TZID=UTC:20171214T203000
DTEND;TZID=UTC:20171215T003000
DTSTAMP:20260422T184853
CREATED:20171030T230645Z
LAST-MODIFIED:20171030T230645Z
UID:9229-1513283400-1513297800@19thstreetband.com
SUMMARY:JV's Restaurant
DESCRIPTION:
URL:https://19thstreetband.com/event/jvs-restaurant-7/
LOCATION:JV’s Restaurant\, 6666  Arlington Blvd.\, Falls Church\, VA\, 22042\, United States
ATTACH;FMTTYPE=image/jpeg:https://19thstreetband.com/wp-content/uploads/2017/09/jvs-2-scaled.jpg
END:VEVENT
BEGIN:VEVENT
DTSTART;TZID=UTC:20171213T200000
DTEND;TZID=UTC:20171213T230000
DTSTAMP:20260422T184853
CREATED:20171030T224548Z
LAST-MODIFIED:20171030T224548Z
UID:9226-1513195200-1513206000@19thstreetband.com
SUMMARY:The Irish Inn
DESCRIPTION:
URL:https://19thstreetband.com/event/the-irish-inn-24/
LOCATION:Irish Inn\, 6119 Tulane Ave\, Glen Echo\, MD\, 20812\, United States
ATTACH;FMTTYPE=image/jpeg:https://19thstreetband.com/wp-content/uploads/2017/09/irish-inn-greg.jpg
END:VEVENT
BEGIN:VEVENT
DTSTART;TZID=UTC:20171212T170000
DTEND;TZID=UTC:20171212T190000
DTSTAMP:20260422T184853
CREATED:20171030T232624Z
LAST-MODIFIED:20171030T232624Z
UID:9233-1513098000-1513105200@19thstreetband.com
SUMMARY:Downtown Holiday Market
DESCRIPTION:
URL:https://19thstreetband.com/event/downtown-holiday-market-3/
LOCATION:Downtown Holiday Market\, 8th & F St NW\, Washington\, DC\, United States
ATTACH;FMTTYPE=image/jpeg:https://19thstreetband.com/wp-content/uploads/2017/10/19thStBand_Logo15-13.jpg
END:VEVENT
BEGIN:VEVENT
DTSTART;TZID=UTC:20171209T213000
DTEND;TZID=UTC:20171210T010000
DTSTAMP:20260422T184853
CREATED:20171205T075333Z
LAST-MODIFIED:20171205T075333Z
UID:9270-1512855000-1512867600@19thstreetband.com
SUMMARY:Finnegan's Wake
DESCRIPTION:
URL:https://19thstreetband.com/event/finnegans-wake-7/
LOCATION:Finnegan’s Wake\, 100 Gibbs Street\, Rockville\, MD\, 20850\, United States
END:VEVENT
BEGIN:VEVENT
DTSTART;TZID=UTC:20171207T210000
DTEND;TZID=UTC:20171208T003000
DTSTAMP:20260422T184853
CREATED:20171030T224104Z
LAST-MODIFIED:20171030T224104Z
UID:9222-1512680400-1512693000@19thstreetband.com
SUMMARY:Samuel Beckett's Irish Gastropub
DESCRIPTION:
URL:https://19thstreetband.com/event/samuel-becketts-irish-gastropub/
LOCATION:Samuel Beckett’s\, 2800 S Randolph St #110\, Arlington\, VA\, 22206\, United States
END:VEVENT
BEGIN:VEVENT
DTSTART;TZID=UTC:20171206T200000
DTEND;TZID=UTC:20171206T230000
DTSTAMP:20260422T184853
CREATED:20171030T223831Z
LAST-MODIFIED:20171030T223831Z
UID:9220-1512590400-1512601200@19thstreetband.com
SUMMARY:Lahinch Tavern & Grill
DESCRIPTION:
URL:https://19thstreetband.com/event/lahinch-tavern-grill-20/
LOCATION:Lahinch Tavern & Grill\, 7747 Tuckerman Lane\, Potomac\, MD\, 20854\, United States
END:VEVENT
BEGIN:VEVENT
DTSTART;TZID=UTC:20171202T213000
DTEND;TZID=UTC:20171203T013000
DTSTAMP:20260422T184853
CREATED:20171030T223618Z
LAST-MODIFIED:20171030T223618Z
UID:9218-1512250200-1512264600@19thstreetband.com
SUMMARY:Flanagan's Harp & Fiddle
DESCRIPTION:
URL:https://19thstreetband.com/event/flanagans-harp-fiddle-11/
LOCATION:Flanagan’s Harp & Fiddle\, 4844 Cordell Ave\, Bethesda\, MD\, 20814\, United States
ATTACH;FMTTYPE=image/png:https://19thstreetband.com/wp-content/uploads/2017/07/image1.png
END:VEVENT
BEGIN:VEVENT
DTSTART;TZID=UTC:20171201T213000
DTEND;TZID=UTC:20171202T003000
DTSTAMP:20260422T184853
CREATED:20171030T223254Z
LAST-MODIFIED:20171030T223254Z
UID:9215-1512163800-1512174600@19thstreetband.com
SUMMARY:The Ugly Mug
DESCRIPTION:
URL:https://19thstreetband.com/event/the-ugly-mug/
LOCATION:The Ugly Mug\, 723 8th Street SE\, Washington\, DC\, 20003\, United States
ATTACH;FMTTYPE=image/jpeg:https://19thstreetband.com/wp-content/uploads/2016/10/hamilton-1-scaled.jpg
END:VEVENT
BEGIN:VEVENT
DTSTART;TZID=UTC:20171129T200000
DTEND;TZID=UTC:20171129T230000
DTSTAMP:20260422T184853
CREATED:20171030T222749Z
LAST-MODIFIED:20171030T222749Z
UID:9213-1511985600-1511996400@19thstreetband.com
SUMMARY:The Irish Inn
DESCRIPTION:
URL:https://19thstreetband.com/event/the-irish-inn-23/
LOCATION:Irish Inn\, 6119 Tulane Ave\, Glen Echo\, MD\, 20812\, United States
END:VEVENT
BEGIN:VEVENT
DTSTART;TZID=UTC:20171122T200000
DTEND;TZID=UTC:20171122T230000
DTSTAMP:20260422T184853
CREATED:20171030T222511Z
LAST-MODIFIED:20171030T222511Z
UID:9211-1511380800-1511391600@19thstreetband.com
SUMMARY:Thanksgiving Eve @ The Irish Inn
DESCRIPTION:
URL:https://19thstreetband.com/event/thanksgiving-eve-irish-inn-2/
LOCATION:Irish Inn\, 6119 Tulane Ave\, Glen Echo\, MD\, 20812\, United States
ATTACH;FMTTYPE=image/jpeg:https://19thstreetband.com/wp-content/uploads/2017/10/harp-pic-7.jpg
END:VEVENT
BEGIN:VEVENT
DTSTART;TZID=UTC:20171121T193000
DTEND;TZID=UTC:20171121T223000
DTSTAMP:20260422T184853
CREATED:20170926T063125Z
LAST-MODIFIED:20170926T063125Z
UID:9104-1511292600-1511303400@19thstreetband.com
SUMMARY:Ireland's 4P's
DESCRIPTION:
URL:https://19thstreetband.com/event/irelands-4ps/
LOCATION:Ireland’s Four Provinces\, 105 W Broad St\, Ste 1\, Falls Church\, VA\, 22046\, United States
END:VEVENT
BEGIN:VEVENT
DTSTART;TZID=UTC:20171118T170000
DTEND;TZID=UTC:20171118T210000
DTSTAMP:20260422T184853
CREATED:20170926T063002Z
LAST-MODIFIED:20170926T063002Z
UID:9102-1511024400-1511038800@19thstreetband.com
SUMMARY:Seacrets
DESCRIPTION:
URL:https://19thstreetband.com/event/seacrets-8/
LOCATION:Seacrets Jamaica USA\, 117 49th street\, Ocean City\, MD\, 21842\, United States
ATTACH;FMTTYPE=image/jpeg:https://19thstreetband.com/wp-content/uploads/2016/10/seacrets-3-e1490782741189.jpg
END:VEVENT
BEGIN:VEVENT
DTSTART;TZID=UTC:20171117T200000
DTEND;TZID=UTC:20171117T233000
DTSTAMP:20260422T184853
CREATED:20170926T062851Z
LAST-MODIFIED:20171030T214948Z
UID:9100-1510948800-1510961400@19thstreetband.com
SUMMARY:Knights of Columbus Bethesda
DESCRIPTION:“SCHOOL OF ROCK” \nSupport your Parish School Teachers. Help raise money for the Teacher Appreciation Spring Awards & Banquet. Schools include Holy Redeemer\, Little Flower\, St. Jane de Chantal\, St. Bart’s\, Holy Cross\, and Our Lady of Lourdes. \nTickets $20/Teachers $10 – includes live music\, draft beer\, sliders & fries. Cash bar available. \nRaffle Give-Away Autographed Guitar by the band! \n50/50 Raffle \nRock Creek Mansion: 5417 W. Cedar Lane\, Bethesda\, MD 20814. For more info call 240-793-1169. \nDoors Open 8pm
URL:https://19thstreetband.com/event/knights-columbus-bethesda/
LOCATION:Rock Creek Mansion\, 5417 W Cedar Ln\, Bethesda\, MD\, 20814\, United States
END:VEVENT
BEGIN:VEVENT
DTSTART;TZID=UTC:20171116T080000
DTEND;TZID=UTC:20171116T170000
DTSTAMP:20260422T184853
CREATED:20170926T062536Z
LAST-MODIFIED:20170926T062536Z
UID:9098-1510819200-1510851600@19thstreetband.com
SUMMARY:Samuel Beckett's
DESCRIPTION:
URL:https://19thstreetband.com/event/samuel-becketts-17/
LOCATION:Samuel Beckett’s\, 2800 S Randolph St #110\, Arlington\, VA\, 22206\, United States
ATTACH;FMTTYPE=image/jpeg:https://19thstreetband.com/wp-content/uploads/2017/04/harp.jpg
END:VEVENT
BEGIN:VEVENT
DTSTART;TZID=UTC:20171115T200000
DTEND;TZID=UTC:20171115T230000
DTSTAMP:20260422T184853
CREATED:20170926T062419Z
LAST-MODIFIED:20170926T062419Z
UID:9096-1510776000-1510786800@19thstreetband.com
SUMMARY:The Irish Inn
DESCRIPTION:
URL:https://19thstreetband.com/event/the-irish-inn-22/
LOCATION:Irish Inn\, 6119 Tulane Ave\, Glen Echo\, MD\, 20812\, United States
ATTACH;FMTTYPE=image/jpeg:https://19thstreetband.com/wp-content/uploads/2017/09/irish-inn-greg.jpg
END:VEVENT
BEGIN:VEVENT
DTSTART;TZID=UTC:20171110T200000
DTEND;TZID=UTC:20171110T220000
DTSTAMP:20260422T184853
CREATED:20170926T062011Z
LAST-MODIFIED:20170926T062011Z
UID:9092-1510344000-1510351200@19thstreetband.com
SUMMARY:Maryland Irish Festival
DESCRIPTION:
URL:https://19thstreetband.com/event/maryland-irish-festival-2/
LOCATION:Maryland State Fairgrounds\, 2200 York Rd\, Lutherville-Timonium\, MD\, 21093\, United States
ATTACH;FMTTYPE=image/png:https://19thstreetband.com/wp-content/uploads/2017/07/image1.png
END:VEVENT
BEGIN:VEVENT
DTSTART;TZID=UTC:20171109T203000
DTEND;TZID=UTC:20171109T203000
DTSTAMP:20260422T184853
CREATED:20170926T061018Z
LAST-MODIFIED:20171030T221641Z
UID:9085-1510259400-1510259400@19thstreetband.com
SUMMARY:JV's Restaurant 70th Anniversary Party
DESCRIPTION:Celebrate JV’s 70th Anniversary with us!!!
URL:https://19thstreetband.com/event/jvs-restaurant-6/
LOCATION:JV’s Restaurant\, 6666  Arlington Blvd.\, Falls Church\, VA\, 22042\, United States
ATTACH;FMTTYPE=image/jpeg:https://19thstreetband.com/wp-content/uploads/2017/09/jvs-2-scaled.jpg
END:VEVENT
BEGIN:VEVENT
DTSTART;TZID=UTC:20171108T200000
DTEND;TZID=UTC:20171108T230000
DTSTAMP:20260422T184853
CREATED:20170926T060748Z
LAST-MODIFIED:20170926T060748Z
UID:9083-1510171200-1510182000@19thstreetband.com
SUMMARY:Lahinch Tavern & Grill
DESCRIPTION:
URL:https://19thstreetband.com/event/lahinch-tavern-grill-19/
LOCATION:Lahinch Tavern & Grill\, 7747 Tuckerman Lane\, Potomac\, MD\, 20854\, United States
END:VEVENT
BEGIN:VEVENT
DTSTART;TZID=UTC:20171102T210000
DTEND;TZID=UTC:20171102T210000
DTSTAMP:20260422T184853
CREATED:20170926T060618Z
LAST-MODIFIED:20170926T060618Z
UID:9080-1509656400-1509656400@19thstreetband.com
SUMMARY:Samuel Beckett's
DESCRIPTION:
URL:https://19thstreetband.com/event/samuel-becketts-16/
LOCATION:Samuel Beckett’s\, 2800 S Randolph St #110\, Arlington\, VA\, 22206\, United States
ATTACH;FMTTYPE=image/png:https://19thstreetband.com/wp-content/uploads/2017/04/19th-street-things-that-matter-1.png
END:VEVENT
BEGIN:VEVENT
DTSTART;TZID=UTC:20171101T200000
DTEND;TZID=UTC:20171101T230000
DTSTAMP:20260422T184853
CREATED:20170926T060408Z
LAST-MODIFIED:20170926T060408Z
UID:9078-1509566400-1509577200@19thstreetband.com
SUMMARY:The Irish Inn
DESCRIPTION:
URL:https://19thstreetband.com/event/the-irish-inn-21/
LOCATION:Irish Inn\, 6119 Tulane Ave\, Glen Echo\, MD\, 20812\, United States
ATTACH;FMTTYPE=image/jpeg:https://19thstreetband.com/wp-content/uploads/2017/09/irish-inn-greg.jpg
END:VEVENT
BEGIN:VEVENT
DTSTART;TZID=UTC:20171031T193000
DTEND;TZID=UTC:20171031T223000
DTSTAMP:20260422T184853
CREATED:20170926T060223Z
LAST-MODIFIED:20170926T060223Z
UID:9076-1509478200-1509489000@19thstreetband.com
SUMMARY:Ireland's Four Provinces
DESCRIPTION:Celebrate Halloween with us at the 4P’s in Falls Church\, VA!
URL:https://19thstreetband.com/event/irelands-four-provinces-11/
LOCATION:Ireland’s Four Provinces\, 105 W Broad St\, Ste 1\, Falls Church\, VA\, 22046\, United States
END:VEVENT
BEGIN:VEVENT
DTSTART;TZID=UTC:20171019T210000
DTEND;TZID=UTC:20171019T210000
DTSTAMP:20260422T184853
CREATED:20170926T055839Z
LAST-MODIFIED:20170926T055839Z
UID:9074-1508446800-1508446800@19thstreetband.com
SUMMARY:Samuel Beckett's
DESCRIPTION:
URL:https://19thstreetband.com/event/samuel-becketts-15/
LOCATION:Samuel Beckett’s\, 2800 S Randolph St #110\, Arlington\, VA\, 22206\, United States
ATTACH;FMTTYPE=image/png:https://19thstreetband.com/wp-content/uploads/2017/03/Screen-Shot-2017-03-29-at-04.42.09.png
END:VEVENT
BEGIN:VEVENT
DTSTART;TZID=UTC:20171018T080000
DTEND;TZID=UTC:20171018T170000
DTSTAMP:20260422T184853
CREATED:20170926T055508Z
LAST-MODIFIED:20170926T055508Z
UID:9071-1508313600-1508346000@19thstreetband.com
SUMMARY:The Irish Inn
DESCRIPTION:
URL:https://19thstreetband.com/event/the-irish-inn-20/
LOCATION:Irish Inn\, 6119 Tulane Ave\, Glen Echo\, MD\, 20812\, United States
ATTACH;FMTTYPE=image/jpeg:https://19thstreetband.com/wp-content/uploads/2017/09/irish-inn-greg.jpg
END:VEVENT
BEGIN:VEVENT
DTSTART;TZID=UTC:20171015T133000
DTEND;TZID=UTC:20171015T163000
DTSTAMP:20260422T184853
CREATED:20170926T055325Z
LAST-MODIFIED:20171010T021829Z
UID:9067-1508074200-1508085000@19thstreetband.com
SUMMARY:Bethesda Row Arts Festival
DESCRIPTION:Join us for the Bethesda Row Arts Festival on the corner of Elm St & Woodmont Ave! \n1:30-4:30pm \nBethesda Row Arts Festival – September 12-13\, 2026
URL:https://19thstreetband.com/event/bethesda-row-arts-festival/
LOCATION:Bethesda Row\, 4841 Bethesda Ave\, Bethesda\, MD\, 20814\, United States
ATTACH;FMTTYPE=image/jpeg:https://19thstreetband.com/wp-content/uploads/2017/10/canal-pic.jpg
END:VEVENT
END:VCALENDAR