BEGIN:VCALENDAR
VERSION:2.0
PRODID:-//The 19th Street Band - ECPv6.15.20//NONSGML v1.0//EN
CALSCALE:GREGORIAN
METHOD:PUBLISH
X-WR-CALNAME:The 19th Street Band
X-ORIGINAL-URL:https://19thstreetband.com
X-WR-CALDESC:Events for The 19th Street Band
REFRESH-INTERVAL;VALUE=DURATION:PT1H
X-Robots-Tag:noindex
X-PUBLISHED-TTL:PT1H
BEGIN:VTIMEZONE
TZID:America/New_York
BEGIN:DAYLIGHT
TZOFFSETFROM:-0500
TZOFFSETTO:-0400
TZNAME:EDT
DTSTART:20170312T070000
END:DAYLIGHT
BEGIN:STANDARD
TZOFFSETFROM:-0400
TZOFFSETTO:-0500
TZNAME:EST
DTSTART:20171105T060000
END:STANDARD
BEGIN:DAYLIGHT
TZOFFSETFROM:-0500
TZOFFSETTO:-0400
TZNAME:EDT
DTSTART:20180311T070000
END:DAYLIGHT
BEGIN:STANDARD
TZOFFSETFROM:-0400
TZOFFSETTO:-0500
TZNAME:EST
DTSTART:20181104T060000
END:STANDARD
BEGIN:DAYLIGHT
TZOFFSETFROM:-0500
TZOFFSETTO:-0400
TZNAME:EDT
DTSTART:20190310T070000
END:DAYLIGHT
BEGIN:STANDARD
TZOFFSETFROM:-0400
TZOFFSETTO:-0500
TZNAME:EST
DTSTART:20191103T060000
END:STANDARD
END:VTIMEZONE
BEGIN:VTIMEZONE
TZID:UTC
BEGIN:STANDARD
TZOFFSETFROM:+0000
TZOFFSETTO:+0000
TZNAME:UTC
DTSTART:20170101T000000
END:STANDARD
END:VTIMEZONE
BEGIN:VEVENT
DTSTART;TZID=America/New_York:20180424T193000
DTEND;TZID=America/New_York:20180424T223000
DTSTAMP:20260423T041321
CREATED:20180422T174204Z
LAST-MODIFIED:20180422T174204Z
UID:9610-1524598200-1524609000@19thstreetband.com
SUMMARY:Ireland's Four Provinces
DESCRIPTION:Patio party 7:30-10:30pm
URL:https://19thstreetband.com/event/irelands-four-provinces-13/
LOCATION:Ireland’s Four Provinces\, 105 W Broad St\, Ste 1\, Falls Church\, VA\, 22046\, United States
END:VEVENT
BEGIN:VEVENT
DTSTART;TZID=UTC:20180420T223000
DTEND;TZID=UTC:20180421T013000
DTSTAMP:20260423T041321
CREATED:20180403T232113Z
LAST-MODIFIED:20180403T232113Z
UID:9559-1524263400-1524274200@19thstreetband.com
SUMMARY:The Hamilton LOFT
DESCRIPTION:
URL:https://19thstreetband.com/event/the-hamilton-loft-8/
LOCATION:The Hamilton\, 600 14th St NW\, Washington\, DC\, 20005\, United States
ATTACH;FMTTYPE=image/jpeg:https://19thstreetband.com/wp-content/uploads/2016/10/hamilton-1-scaled.jpg
END:VEVENT
BEGIN:VEVENT
DTSTART;TZID=UTC:20180419T190000
DTEND;TZID=UTC:20180419T220000
DTSTAMP:20260423T041321
CREATED:20180403T231756Z
LAST-MODIFIED:20180403T231756Z
UID:9557-1524164400-1524175200@19thstreetband.com
SUMMARY:O'Connell's in Alexandria
DESCRIPTION:Join us after work on Thursday for a special show at O’Connell’s in Old Town Alexandria! \nGrab some dinner & drinks\, with live music from 7-10pm.
URL:https://19thstreetband.com/event/oconnells-in-alexandria-5/
LOCATION:Daniel O’Connell’s Restaurant & Bar\, 112 King St\, Alexandria\, VA\, 22314\, United States
ATTACH;FMTTYPE=image/jpeg:https://19thstreetband.com/wp-content/uploads/2015/09/14202711_516985191830838_2725271605558351288_n.jpg
END:VEVENT
BEGIN:VEVENT
DTSTART;TZID=UTC:20180418T200000
DTEND;TZID=UTC:20180418T230000
DTSTAMP:20260423T041321
CREATED:20180403T231033Z
LAST-MODIFIED:20180403T231033Z
UID:9554-1524081600-1524092400@19thstreetband.com
SUMMARY:Lahinch Tavern & Grill
DESCRIPTION:
URL:https://19thstreetband.com/event/lahinch-tavern-grill-24/
LOCATION:Lahinch Tavern & Grill\, 7747 Tuckerman Lane\, Potomac\, MD\, 20854\, United States
END:VEVENT
BEGIN:VEVENT
DTSTART;TZID=UTC:20180417T193000
DTEND;TZID=UTC:20180417T223000
DTSTAMP:20260423T041321
CREATED:20180403T230342Z
LAST-MODIFIED:20180403T230342Z
UID:9551-1523993400-1524004200@19thstreetband.com
SUMMARY:Ireland's Four Provinces (4P's)
DESCRIPTION:Out on the patio!
URL:https://19thstreetband.com/event/irelands-four-provinces-4ps/
LOCATION:Ireland’s Four Provinces\, 105 W Broad St\, Ste 1\, Falls Church\, VA\, 22046\, United States
END:VEVENT
BEGIN:VEVENT
DTSTART;TZID=UTC:20180413T213000
DTEND;TZID=UTC:20180414T013000
DTSTAMP:20260423T041321
CREATED:20180403T225356Z
LAST-MODIFIED:20180403T225356Z
UID:9549-1523655000-1523669400@19thstreetband.com
SUMMARY:Flanagan's Harp & Fiddle
DESCRIPTION:
URL:https://19thstreetband.com/event/flanagans-harp-fiddle-17/
LOCATION:Flanagan’s Harp & Fiddle\, 4844 Cordell Ave\, Bethesda\, MD\, 20814\, United States
ATTACH;FMTTYPE=image/jpeg:https://19thstreetband.com/wp-content/uploads/2018/02/ml-pic-5.jpg
END:VEVENT
BEGIN:VEVENT
DTSTART;TZID=UTC:20180412T203000
DTEND;TZID=UTC:20180413T003000
DTSTAMP:20260423T041321
CREATED:20180403T225042Z
LAST-MODIFIED:20180403T225042Z
UID:9547-1523565000-1523579400@19thstreetband.com
SUMMARY:JV's
DESCRIPTION:
URL:https://19thstreetband.com/event/jvs-7/
LOCATION:JV’s Restaurant\, 6666  Arlington Blvd.\, Falls Church\, VA\, 22042\, United States
ATTACH;FMTTYPE=image/jpeg:https://19thstreetband.com/wp-content/uploads/2018/02/ml-pic-9.jpg
END:VEVENT
BEGIN:VEVENT
DTSTART;TZID=UTC:20180411T153000
DTEND;TZID=UTC:20180411T173000
DTSTAMP:20260423T041321
CREATED:20180403T223842Z
LAST-MODIFIED:20180403T223842Z
UID:9545-1523460600-1523467800@19thstreetband.com
SUMMARY:The Bullpen
DESCRIPTION:Nats have an early game\, and we’ll be performing AFTER the game for y’all in The Bullpen. Keep the afternoon fun going with live music outside the stadium. \nYou don’t need tix to the game to enjoy the fun. Swing by after work even for an early midweek happy hour! \nMusic is 3:30-5:30pm.
URL:https://19thstreetband.com/event/the-bullpen-4/
LOCATION:The Bullpen\, 1299 Half St. SE\, Washington\, DC\, 20003\, United States
CATEGORIES:Show
END:VEVENT
BEGIN:VEVENT
DTSTART;TZID=UTC:20180410T173000
DTEND;TZID=UTC:20180410T193000
DTSTAMP:20260423T041321
CREATED:20180403T223453Z
LAST-MODIFIED:20180403T223453Z
UID:9543-1523381400-1523388600@19thstreetband.com
SUMMARY:The Bullpen
DESCRIPTION:Pre-game music LIVE at The Bullpen outside Nats Stadium. \nRemember\, you don’t need tix to the game to enjoy the fun in the Bullpen! Swing by from 5:30-7:30pm.
URL:https://19thstreetband.com/event/the-bullpen-3/
LOCATION:The Bullpen\, 1299 Half St. SE\, Washington\, DC\, 20003\, United States
CATEGORIES:Show
END:VEVENT
BEGIN:VEVENT
DTSTART;TZID=UTC:20180409T173000
DTEND;TZID=UTC:20180409T193000
DTSTAMP:20260423T041321
CREATED:20180403T205019Z
LAST-MODIFIED:20180403T205019Z
UID:9539-1523295000-1523302200@19thstreetband.com
SUMMARY:The Bullpen
DESCRIPTION:Pre-game \n5:30-7:30pm
URL:https://19thstreetband.com/event/the-bullpen-2/
LOCATION:The Bullpen\, 1299 Half St. SE\, Washington\, DC\, 20003\, United States
END:VEVENT
BEGIN:VEVENT
DTSTART;TZID=UTC:20180407T200000
DTEND;TZID=UTC:20180407T230000
DTSTAMP:20260423T041321
CREATED:20180403T203605Z
LAST-MODIFIED:20180403T215355Z
UID:9536-1523131200-1523142000@19thstreetband.com
SUMMARY:Bandhouse Gigs Tribute to Leon Russell
DESCRIPTION:A riveting songwriter\, singer\, pianist\, arranger\, producer\, session player\, and performer of “swampy rock & roll\,” Leon Russell’s vast impact on American music lasted for over five decades before he passed away in November 2016. Russell went on to write\, sing\, and top the charts with iconic hits such as “A Song For You\,” “Tightrope\,” “Delta Lady\,” “Out in the Woods\,” and “This Masquerade.”  \nBandHouse Gigs is the D.C. area’s premier producer of one of a kind tribute concerts to legendary musicians and eras. This show will feature songs from Russell’s entire catalogue performed by 35 of the areas’ finest performers including Jon Carroll\, Patty Reese\, Tommy Lepson\, Black Betty\, Bobby Thompson\, Bob Berberich\, Bill Starks\, The 19th Street Band\, Soul Crackers\, Anita King\, Caz Gardiner\, and more to be announced.
URL:https://19thstreetband.com/event/bandhouse-gigs-tribute-to-leon-russell/
LOCATION:The Barns at Wolf Trap\, 1635 Trap Rd\, Vienna\, VA\, 22182\, United States
CATEGORIES:Show
END:VEVENT
BEGIN:VEVENT
DTSTART;TZID=UTC:20180404T200000
DTEND;TZID=UTC:20180404T230000
DTSTAMP:20260423T041321
CREATED:20180403T202304Z
LAST-MODIFIED:20180403T222537Z
UID:9534-1522872000-1522882800@19thstreetband.com
SUMMARY:The Irish Inn
DESCRIPTION:
URL:https://19thstreetband.com/event/the-irish-inn-28/
LOCATION:Irish Inn\, 6119 Tulane Ave\, Glen Echo\, MD\, 20812\, United States
ATTACH;FMTTYPE=image/jpeg:https://19thstreetband.com/wp-content/uploads/2017/09/irish-inn-greg.jpg
END:VEVENT
BEGIN:VEVENT
DTSTART;TZID=UTC:20180331T220000
DTEND;TZID=UTC:20180401T010000
DTSTAMP:20260423T041321
CREATED:20180222T003424Z
LAST-MODIFIED:20180222T003424Z
UID:9465-1522533600-1522544400@19thstreetband.com
SUMMARY:Catherine Rooney's Delaware
DESCRIPTION:
URL:https://19thstreetband.com/event/catherine-rooneys-delaware/
LOCATION:Catherine Rooney’s\, 1616 Delaware Ave\, Wilmington\, DE\, 19806\, United States
ATTACH;FMTTYPE=image/jpeg:https://19thstreetband.com/wp-content/uploads/2018/02/ml-pic-9.jpg
END:VEVENT
BEGIN:VEVENT
DTSTART;TZID=UTC:20180330T210000
DTEND;TZID=UTC:20180331T000000
DTSTAMP:20260423T041321
CREATED:20180222T000750Z
LAST-MODIFIED:20180227T004531Z
UID:9463-1522443600-1522454400@19thstreetband.com
SUMMARY:Shaw's Tavern
DESCRIPTION:
URL:https://19thstreetband.com/event/shaws-tavern-4/
LOCATION:Shaw’s Tavern\, 520 Florida Ave NW\, Washington\, DC\, 20001\, United States
ATTACH;FMTTYPE=image/png:https://19thstreetband.com/wp-content/uploads/2017/07/19th-street-banner-6-july-2017.png
END:VEVENT
BEGIN:VEVENT
DTSTART;TZID=UTC:20180322T210000
DTEND;TZID=UTC:20180323T003000
DTSTAMP:20260423T041321
CREATED:20180222T000401Z
LAST-MODIFIED:20180222T003540Z
UID:9461-1521752400-1521765000@19thstreetband.com
SUMMARY:Samuel Beckett's Irish Gastropub
DESCRIPTION:
URL:https://19thstreetband.com/event/samuel-becketts-irish-gastropub-4/
LOCATION:Samuel Beckett’s\, 2800 S Randolph St #110\, Arlington\, VA\, 22206\, United States
ATTACH;FMTTYPE=image/jpeg:https://19thstreetband.com/wp-content/uploads/2015/09/14202711_516985191830838_2725271605558351288_n.jpg
END:VEVENT
BEGIN:VEVENT
DTSTART;TZID=UTC:20180321T200000
DTEND;TZID=UTC:20180321T230000
DTSTAMP:20260423T041321
CREATED:20180222T000228Z
LAST-MODIFIED:20180222T000542Z
UID:9459-1521662400-1521673200@19thstreetband.com
SUMMARY:Lahinch Tavern & Grill
DESCRIPTION:
URL:https://19thstreetband.com/event/lahinch-tavern-grill-23/
LOCATION:Lahinch Tavern & Grill\, 7747 Tuckerman Lane\, Potomac\, MD\, 20854\, United States
END:VEVENT
BEGIN:VEVENT
DTSTART;TZID=UTC:20180317T150000
DTEND;TZID=UTC:20180318T013000
DTSTAMP:20260423T041321
CREATED:20180217T041747Z
LAST-MODIFIED:20180222T000030Z
UID:9441-1521298800-1521336600@19thstreetband.com
SUMMARY:Flanagan's Harp & Fiddle
DESCRIPTION:Party with us ALL DAY & ALL NIGHT at Flanagan’s Harp & Fiddle in Bethesda!
URL:https://19thstreetband.com/event/flanagans-harp-fiddle-16/
LOCATION:Flanagan’s Harp & Fiddle\, 4844 Cordell Ave\, Bethesda\, MD\, 20814\, United States
ATTACH;FMTTYPE=image/jpeg:https://19thstreetband.com/wp-content/uploads/2018/02/ml-pic-2-2017_11_30-18_34_59-UTC.jpg
END:VEVENT
BEGIN:VEVENT
DTSTART;TZID=UTC:20180316T213000
DTEND;TZID=UTC:20180317T013000
DTSTAMP:20260423T041321
CREATED:20180121T044444Z
LAST-MODIFIED:20180121T044444Z
UID:9428-1521235800-1521250200@19thstreetband.com
SUMMARY:Harp & Fiddle Warm-Up Party
DESCRIPTION:Get ready for Paddy’s Day by starting a night early! Warm up with us on Friday night.
URL:https://19thstreetband.com/event/harp-fiddle-warm-party/
LOCATION:Flanagan’s Harp & Fiddle\, 4844 Cordell Ave\, Bethesda\, MD\, 20814\, United States
END:VEVENT
BEGIN:VEVENT
DTSTART;TZID=UTC:20180310T190000
DTEND;TZID=UTC:20180310T230000
DTSTAMP:20260423T041321
CREATED:20180121T043509Z
LAST-MODIFIED:20180206T071813Z
UID:9423-1520708400-1520722800@19thstreetband.com
SUMMARY:Charm City Bluegrass Battle of the Bands FINAL Round at the 8x10
DESCRIPTION:TICKETS: https://www.mt.cm/charm-city-bluegrass-festivalbattle-bands-finals19th-st-bandthe-plate-scrapersdt-huber-and-whale \nHope y’all can come out and support us! \nAnd then there were four. Come on out for a heckuva night of live music in Baltimore as The Shroom Pickers\, 19th Street Band\, The Plate Scrapers\, and D.T. Huber and Whale Show perform for their chance to open the 2018 Charm City Bluegrass Festival! Secure your tickets before show day for only $12.
URL:https://19thstreetband.com/event/charm-city-bluegrass-battle-bands-final-round-8x10/
LOCATION:The 8×10\, 10 East Cross St\, Baltimore\, MD\, 21230\, United States
CATEGORIES:Show
END:VEVENT
BEGIN:VEVENT
DTSTART;TZID=UTC:20180309T223000
DTEND;TZID=UTC:20180310T013000
DTSTAMP:20260423T041321
CREATED:20180121T042150Z
LAST-MODIFIED:20180121T042150Z
UID:9421-1520634600-1520645400@19thstreetband.com
SUMMARY:The Hamilton Loft
DESCRIPTION:
URL:https://19thstreetband.com/event/the-hamilton-loft-7/
LOCATION:The Hamilton\, 600 14th St NW\, Washington\, DC\, 20005\, United States
ATTACH;FMTTYPE=image/jpeg:https://19thstreetband.com/wp-content/uploads/2016/10/hamilton-1-scaled.jpg
END:VEVENT
BEGIN:VEVENT
DTSTART;TZID=UTC:20180308T203000
DTEND;TZID=UTC:20180309T003000
DTSTAMP:20260423T041321
CREATED:20180121T035342Z
LAST-MODIFIED:20180121T035342Z
UID:9419-1520541000-1520555400@19thstreetband.com
SUMMARY:JV's in Falls Church
DESCRIPTION:
URL:https://19thstreetband.com/event/jvs-falls-church/
LOCATION:JV’s Restaurant\, 6666  Arlington Blvd.\, Falls Church\, VA\, 22042\, United States
ATTACH;FMTTYPE=image/png:https://19thstreetband.com/wp-content/uploads/2018/01/Screen-Shot-2018-01-07-at-14.20.45-e1515425092109.png
END:VEVENT
BEGIN:VEVENT
DTSTART;TZID=UTC:20180307T200000
DTEND;TZID=UTC:20180307T230000
DTSTAMP:20260423T041321
CREATED:20180118T122247Z
LAST-MODIFIED:20180118T122247Z
UID:9405-1520452800-1520463600@19thstreetband.com
SUMMARY:The Irish Inn
DESCRIPTION:
URL:https://19thstreetband.com/event/the-irish-inn-27/
LOCATION:Irish Inn\, 6119 Tulane Ave\, Glen Echo\, MD\, 20812\, United States
ATTACH;FMTTYPE=image/jpeg:https://19thstreetband.com/wp-content/uploads/2017/11/Screen-Shot-2017-11-23-at-8.32.28-AM.jpg
END:VEVENT
BEGIN:VEVENT
DTSTART;TZID=UTC:20180303T160000
DTEND;TZID=UTC:20180303T200000
DTSTAMP:20260423T041321
CREATED:20180117T231856Z
LAST-MODIFIED:20180117T231856Z
UID:9399-1520092800-1520107200@19thstreetband.com
SUMMARY:Leprechaun Luau
DESCRIPTION:No matter where you hail from\, everybody’s Irish around St. Patrick’s Day! And who doesn’t love a luau? Put them together\, and you’ve got a party like no other! And when it’s all to benefit the Rotary Club of Frederick’s signature service project\, it’s an event not to be missed! \nPlan on attending this unique celebration of delicious food\, Flying Dog brew\, dancing and general merriment! \nJOIN US ON SATURDAY\, MARCH 3RD\, 2018 for the LepLu VII!\n \nAdmission is $60/person\, which includes a wide variety of foods served from many different “stations” around the room. Admission includes a souvenir mug\, which you may fill with a selection of Flying Dog beers. Assorted wines and frozen margaritas will be available as well as a wide selection of non-alcoholic beverages. \nAll Food\, Beer\, Margaritas and Entertainment included in your ticket price of $60.00 and a chance to win the grand prize 7-night Royal Caribbean Cruise vacation\, compliments of CRUISE HOLIDAYS OF FREDERICK – EXPERTS AT LAND AND SEA! (prize has no cash value) \n \nTickets for the LepLu VII will go on sale December 1st\, 2017 and they make a perfect holiday gift! \nGET YOUR TICKETS EARLY – THIS EVENT WILL SELL OUT! (You must be 21 or older to attend)\n \nSince our founding in 1920\, The Rotary Club of Frederick has supported a wide variety of service projects\, all of which have benefited our local\, regional and international communities in vital ways. \n\nGet Lucky! \nIt wouldn’t be The Leprechaun Luau without games of chance. So\, get lucky!… read more \n 
URL:https://19thstreetband.com/event/leprechaun-luau-2/
LOCATION:Frederick Community College Field House\, 7932 Opossumtown Pike\, Frederick\, MD\, 21702\, United States
CATEGORIES:Show
ATTACH;FMTTYPE=image/png:https://19thstreetband.com/wp-content/uploads/2018/01/leplu.png
END:VEVENT
BEGIN:VEVENT
DTSTART;TZID=UTC:20180302T213000
DTEND;TZID=UTC:20180303T013000
DTSTAMP:20260423T041321
CREATED:20180117T225843Z
LAST-MODIFIED:20180117T225843Z
UID:9397-1520026200-1520040600@19thstreetband.com
SUMMARY:O'Connell's in Old Town
DESCRIPTION:
URL:https://19thstreetband.com/event/oconnells-old-town/
LOCATION:Daniel O’Connell’s Restaurant & Bar\, 112 King St\, Alexandria\, VA\, 22314\, United States
ATTACH;FMTTYPE=image/png:https://19thstreetband.com/wp-content/uploads/2018/01/Screen-Shot-2018-01-07-at-14.21.00.png
END:VEVENT
BEGIN:VEVENT
DTSTART;TZID=UTC:20180222T210000
DTEND;TZID=UTC:20180223T003000
DTSTAMP:20260423T041321
CREATED:20180117T225541Z
LAST-MODIFIED:20180117T225541Z
UID:9395-1519333200-1519345800@19thstreetband.com
SUMMARY:Samuel Beckett's Irish Gastropub
DESCRIPTION:
URL:https://19thstreetband.com/event/samuel-becketts-irish-gastropub-3/
LOCATION:Samuel Beckett’s\, 2800 S Randolph St #110\, Arlington\, VA\, 22206\, United States
END:VEVENT
BEGIN:VEVENT
DTSTART;TZID=UTC:20180221T200000
DTEND;TZID=UTC:20180221T230000
DTSTAMP:20260423T041321
CREATED:20180117T224154Z
LAST-MODIFIED:20180117T224154Z
UID:9393-1519243200-1519254000@19thstreetband.com
SUMMARY:Lahinch Tavern & Grill
DESCRIPTION:
URL:https://19thstreetband.com/event/lahinch-tavern-grill-22/
LOCATION:Lahinch Tavern & Grill\, 7747 Tuckerman Lane\, Potomac\, MD\, 20854\, United States
END:VEVENT
BEGIN:VEVENT
DTSTART;TZID=UTC:20180216T213000
DTEND;TZID=UTC:20180217T013000
DTSTAMP:20260423T041321
CREATED:20180117T223705Z
LAST-MODIFIED:20180117T223705Z
UID:9389-1518816600-1518831000@19thstreetband.com
SUMMARY:Flanagan's Harp & Fiddle
DESCRIPTION:
URL:https://19thstreetband.com/event/flanagans-harp-fiddle-15/
LOCATION:Flanagan’s Harp & Fiddle\, 4844 Cordell Ave\, Bethesda\, MD\, 20814\, United States
ATTACH;FMTTYPE=image/jpeg:https://19thstreetband.com/wp-content/uploads/2017/10/harp-pic-7-1.jpg
END:VEVENT
BEGIN:VEVENT
DTSTART;TZID=UTC:20180210T223000
DTEND;TZID=UTC:20180211T013000
DTSTAMP:20260423T041321
CREATED:20180117T213743Z
LAST-MODIFIED:20180117T213743Z
UID:9387-1518301800-1518312600@19thstreetband.com
SUMMARY:The Hamilton LOFT
DESCRIPTION:
URL:https://19thstreetband.com/event/the-hamilton-loft-6/
LOCATION:The Hamilton\, 600 14th St NW\, Washington\, DC\, 20005\, United States
ATTACH;FMTTYPE=image/jpeg:https://19thstreetband.com/wp-content/uploads/2016/10/hamilton-1-scaled.jpg
END:VEVENT
BEGIN:VEVENT
DTSTART;TZID=UTC:20180209T213000
DTEND;TZID=UTC:20180210T013000
DTSTAMP:20260423T041321
CREATED:20180117T213510Z
LAST-MODIFIED:20180117T213510Z
UID:9385-1518211800-1518226200@19thstreetband.com
SUMMARY:Flanagan's Harp & Fiddle
DESCRIPTION:
URL:https://19thstreetband.com/event/flanagans-harp-fiddle-13/
LOCATION:Flanagan’s Harp & Fiddle\, 4844 Cordell Ave\, Bethesda\, MD\, 20814\, United States
ATTACH;FMTTYPE=image/jpeg:https://19thstreetband.com/wp-content/uploads/2017/12/harp-pic-5-2017_11_30-18_34_59-UTC.jpg
END:VEVENT
BEGIN:VEVENT
DTSTART;TZID=UTC:20180207T200000
DTEND;TZID=UTC:20180207T230000
DTSTAMP:20260423T041321
CREATED:20180117T114506Z
LAST-MODIFIED:20180117T114506Z
UID:9383-1518033600-1518044400@19thstreetband.com
SUMMARY:The Irish Inn
DESCRIPTION:
URL:https://19thstreetband.com/event/the-irish-inn-26/
LOCATION:Irish Inn\, 6119 Tulane Ave\, Glen Echo\, MD\, 20812\, United States
ATTACH;FMTTYPE=image/jpeg:https://19thstreetband.com/wp-content/uploads/2017/09/irish-inn-greg.jpg
END:VEVENT
END:VCALENDAR