BEGIN:VCALENDAR
VERSION:2.0
PRODID:-//The 19th Street Band - ECPv6.15.20//NONSGML v1.0//EN
CALSCALE:GREGORIAN
METHOD:PUBLISH
X-WR-CALNAME:The 19th Street Band
X-ORIGINAL-URL:https://19thstreetband.com
X-WR-CALDESC:Events for The 19th Street Band
REFRESH-INTERVAL;VALUE=DURATION:PT1H
X-Robots-Tag:noindex
X-PUBLISHED-TTL:PT1H
BEGIN:VTIMEZONE
TZID:America/New_York
BEGIN:DAYLIGHT
TZOFFSETFROM:-0500
TZOFFSETTO:-0400
TZNAME:EDT
DTSTART:20170312T070000
END:DAYLIGHT
BEGIN:STANDARD
TZOFFSETFROM:-0400
TZOFFSETTO:-0500
TZNAME:EST
DTSTART:20171105T060000
END:STANDARD
BEGIN:DAYLIGHT
TZOFFSETFROM:-0500
TZOFFSETTO:-0400
TZNAME:EDT
DTSTART:20180311T070000
END:DAYLIGHT
BEGIN:STANDARD
TZOFFSETFROM:-0400
TZOFFSETTO:-0500
TZNAME:EST
DTSTART:20181104T060000
END:STANDARD
BEGIN:DAYLIGHT
TZOFFSETFROM:-0500
TZOFFSETTO:-0400
TZNAME:EDT
DTSTART:20190310T070000
END:DAYLIGHT
BEGIN:STANDARD
TZOFFSETFROM:-0400
TZOFFSETTO:-0500
TZNAME:EST
DTSTART:20191103T060000
END:STANDARD
END:VTIMEZONE
BEGIN:VTIMEZONE
TZID:Europe/London
BEGIN:DAYLIGHT
TZOFFSETFROM:+0000
TZOFFSETTO:+0100
TZNAME:BST
DTSTART:20170326T010000
END:DAYLIGHT
BEGIN:STANDARD
TZOFFSETFROM:+0100
TZOFFSETTO:+0000
TZNAME:GMT
DTSTART:20171029T010000
END:STANDARD
BEGIN:DAYLIGHT
TZOFFSETFROM:+0000
TZOFFSETTO:+0100
TZNAME:BST
DTSTART:20180325T010000
END:DAYLIGHT
BEGIN:STANDARD
TZOFFSETFROM:+0100
TZOFFSETTO:+0000
TZNAME:GMT
DTSTART:20181028T010000
END:STANDARD
BEGIN:DAYLIGHT
TZOFFSETFROM:+0000
TZOFFSETTO:+0100
TZNAME:BST
DTSTART:20190331T010000
END:DAYLIGHT
BEGIN:STANDARD
TZOFFSETFROM:+0100
TZOFFSETTO:+0000
TZNAME:GMT
DTSTART:20191027T010000
END:STANDARD
END:VTIMEZONE
BEGIN:VEVENT
DTSTART;TZID=America/New_York:20180928T190000
DTEND;TZID=America/New_York:20180928T220000
DTSTAMP:20260423T024927
CREATED:20180824T045016Z
LAST-MODIFIED:20180824T045016Z
UID:10161-1538161200-1538172000@19thstreetband.com
SUMMARY:Days End Farm Horse Rescue Fall Festival
DESCRIPTION:A concert NOT to be missed! \nThe 19th Street Band performs\, Hops For Horses Beer Garden Opens and BBQ from The Town Grill At Fosters Country Store will be served! \nJoin DEFHR and The 19th Street Band (https://19thstreetband.com/) for our Fall Festival Kick-Off Concert and the official opening DEFHR’s Hops for Horses Beer Garden! \nEquine Ambassadors\, Officer Barney\, and his deputy\, Nugget\, will be your bouncers for the evening and available for photo ops\, while the smoky smells of the Town Grill’s (http://www.towngrillfosters.com/) amazing BBQ waft through the air getting your taste buds going. The Hops for Horses Beer Garden will be serving seasonal brews – paired perfectly with good music and good food. Twilight tours of the farm will also be offered so you can see firsthand the great work DEFHR does. \nYou WILL NOT want to miss this concert under the stars at one of Maryland’s premier horse farms. \nGates open at 6:00pm\, admission is $5 per person – parking is on site and 1st come 1st serve until lots are full. Music starts at 7:00pm. This is a community event and we want everyone to come out and enjoy good music\, good food\, good company and maybe a little bit of corn hole – all for the horses! Brew\, Parking and a portion of Food proceeds go back to DEFHR’s rehabilitation fund. This is a cash only event – ATM will be on site. For more information visit: www.deflr.org
URL:https://19thstreetband.com/event/days-end-farm-horse-rescue-fall-festival/
LOCATION:Days End Farm Horse Rescue\, 1372 Woodbine Rd\, Woodbine\, MD\, 21797\, United States
END:VEVENT
BEGIN:VEVENT
DTSTART;TZID=America/New_York:20180927T210000
DTEND;TZID=America/New_York:20180928T000000
DTSTAMP:20260423T024927
CREATED:20180824T043745Z
LAST-MODIFIED:20180824T043745Z
UID:10159-1538082000-1538092800@19thstreetband.com
SUMMARY:Samuel Beckett's Irish Gastropub
DESCRIPTION:
URL:https://19thstreetband.com/event/samuel-becketts-irish-gastropub-7/
LOCATION:Samuel Beckett’s\, 2800 S Randolph St #110\, Arlington\, VA\, 22206\, United States
ATTACH;FMTTYPE=image/jpeg:https://19thstreetband.com/wp-content/uploads/2018/02/ml-pic-5.jpg
END:VEVENT
BEGIN:VEVENT
DTSTART;TZID=America/New_York:20180926T190000
DTEND;TZID=America/New_York:20180926T233000
DTSTAMP:20260423T024927
CREATED:20180824T043218Z
LAST-MODIFIED:20180824T043218Z
UID:10157-1537988400-1538004600@19thstreetband.com
SUMMARY:Gypsy Sally's with The Way Down Wanderers
DESCRIPTION:DOORS 7PM\nSHOW 8PM\nTIX: $12\nCatch us at Gypsy Sally’s as we open for The Way Down Wanderers – an alternative folk / Americana band from Illinois\, equal parts fast-paced and soulful!
URL:https://19thstreetband.com/event/gypsy-sallys-with-the-way-down-wanderers/
LOCATION:Gypsy Sally’s\, 3401 K Street NW\, Washington\, DC\, 20007\, United States
ATTACH;FMTTYPE=image/png:https://19thstreetband.com/wp-content/uploads/2018/03/slide3A.png
END:VEVENT
BEGIN:VEVENT
DTSTART;TZID=America/New_York:20180922T173000
DTEND;TZID=America/New_York:20180922T183000
DTSTAMP:20260423T024927
CREATED:20180824T041316Z
LAST-MODIFIED:20180824T041316Z
UID:10153-1537637400-1537641000@19thstreetband.com
SUMMARY:Hometown Get Down Music Festival 2018
DESCRIPTION:THE HOMETOWN GET DOWN \nSept. 21 – 22\, 2018​ \nThe Hometown Get Down\, is an annual music and arts festival. \nThe main purpose of The Hometown Get Down is to help families in crisis through promoting the arts. \nEvent proceeds as always will go to benefit: \nThe Bernie House. The mission of The Bernie House is to “provide a safe home without violence for families in crisis\,” \nThe Bernie House is a transitional housing program for families fleeing domestic violence. The program house is located in Silver Spring\, MD and aids families in need from the metropolitan area. \nTo learn more about the charity please visit www.theberniehouse.org \nWith the support of party goers like YOU we are proud to announce that last year\, with your\, The Bernie House was able to pay off its first program house and is ready to open its second house! \nPlease join us September 21 & 22\, 2018 as we party with a purpose! \n  \nLIVE MUSIC\, ART\, FOOD\, DRINK\, CAMPING and MORE. \nLocated at: 11820 Hawkes Rd. Clarksburg\, MD. \n  \nTicket prices: \n1 Day $35 (one day camping additional $10 at the gate) \n2 Days is $55 (includes camping) \nTICKET LINK: https://www.hometowngetdown.org/ \nAll TICKETS PURCHASED ONLINE WILL BE READY FOR PICK UP AT FRONT ENTRANCE ON EVENT DAYS. \n  \nValid ID will be required to pick up event tickets. \nAfter 9/19/18 event tickets must be purchased at event entrance. \nSEE YOU AT THE GET DOWN! \nGATES OPEN 3PM on FRIDAY. \nTHE 19TH STREET BAND PERFORMS at 5:30PM on SATURDAY!!!
URL:https://19thstreetband.com/event/hometown-get-down-music-festival-2018/
LOCATION:Hometown Get Down\, 11820 Hawkes Rd\, Clarksburg\, MD\, 20871\, United States
END:VEVENT
BEGIN:VEVENT
DTSTART;TZID=America/New_York:20180921T213000
DTEND;TZID=America/New_York:20180922T003000
DTSTAMP:20260423T024927
CREATED:20180905T212447Z
LAST-MODIFIED:20180906T231110Z
UID:10206-1537565400-1537576200@19thstreetband.com
SUMMARY:The Avenue DC
DESCRIPTION:Come on by a new bar called The Avenue\, located on Connecticut Ave NW in DC for a great Friday night show!
URL:https://19thstreetband.com/event/the-avenue-dc/
LOCATION:The Avenue\, 5540 Connecticut Ave\, Washington\, DC\, 20015\, United States
ATTACH;FMTTYPE=image/png:https://19thstreetband.com/wp-content/uploads/2018/03/slide3.png
END:VEVENT
BEGIN:VEVENT
DTSTART;TZID=America/New_York:20180920T190000
DTEND;TZID=America/New_York:20180921T000000
DTSTAMP:20260423T024927
CREATED:20180824T035632Z
LAST-MODIFIED:20180824T035632Z
UID:10151-1537470000-1537488000@19thstreetband.com
SUMMARY:The 8x10 - Third Thursday Bluegrass
DESCRIPTION:Join us for a special night of music at The 8×10 in Baltimore. It’s our first “Third Thursday Bluegrass” Night and we’re excited to be performing along with the Kitchen Dwellers and The Old Part of Town! \nTICKETS: https://www.mt.cm/third-thursday-bluegrasskitchen-dwellers-19th-street-bandthe-old-part-town
URL:https://19thstreetband.com/event/the-8x10-third-thursday-bluegrass/
LOCATION:The 8×10\, 10 East Cross St\, Baltimore\, MD\, 21230\, United States
ATTACH;FMTTYPE=image/jpeg:https://19thstreetband.com/wp-content/uploads/2018/05/IMG_1803-scaled.jpg
END:VEVENT
BEGIN:VEVENT
DTSTART;TZID=America/New_York:20180919T200000
DTEND;TZID=America/New_York:20180919T230000
DTSTAMP:20260423T024927
CREATED:20180824T033335Z
LAST-MODIFIED:20180824T033335Z
UID:10149-1537387200-1537398000@19thstreetband.com
SUMMARY:Lahinch Tavern & Grill
DESCRIPTION:
URL:https://19thstreetband.com/event/lahinch-tavern-grill-28/
LOCATION:Lahinch Tavern & Grill\, 7747 Tuckerman Lane\, Potomac\, MD\, 20854\, United States
ATTACH;FMTTYPE=image/png:https://19thstreetband.com/wp-content/uploads/2018/01/Screen-Shot-2018-01-07-at-14.20.45-e1515425092109.png
END:VEVENT
BEGIN:VEVENT
DTSTART;TZID=America/New_York:20180918T193000
DTEND;TZID=America/New_York:20180918T223000
DTSTAMP:20260423T024927
CREATED:20180824T032458Z
LAST-MODIFIED:20180824T032458Z
UID:10147-1537299000-1537309800@19thstreetband.com
SUMMARY:Ireland's Four Provinces
DESCRIPTION:
URL:https://19thstreetband.com/event/irelands-four-provinces-15/
LOCATION:Ireland’s Four Provinces\, 105 W Broad St\, Ste 1\, Falls Church\, VA\, 22046\, United States
ATTACH;FMTTYPE=image/jpeg:https://19thstreetband.com/wp-content/uploads/2018/06/patio-pic.jpg
END:VEVENT
BEGIN:VEVENT
DTSTART;TZID=America/New_York:20180915T121500
DTEND;TZID=America/New_York:20180915T131500
DTSTAMP:20260423T024927
CREATED:20180823T192303Z
LAST-MODIFIED:20180823T192303Z
UID:10140-1537013700-1537017300@19thstreetband.com
SUMMARY:Falls Church Festival
DESCRIPTION:Saturday\, September 15\, 2018\n10 a.m. to 4 p.m. – We play 12:15-1:15pm!\nCommunity Center Parking Lot (223 Little Falls St.) and Cherry Hill Park (312 Park Ave.)\n\nThis beloved annual event features include live entertainment\, pony rides\, children’s amusements\, crafters\, businesses and civic organizations\, a Beer Garden\, and cuisine from city kitchens.\nAdmission is free to the public\, but amusement rides\, taste tickets\, and beer require the purchase of one or more tickets.\nThe event is held rain or shine! \nBeer Garden \nThe Beer Garden was a hit last year\, so it’s back! It will once again be located near the entertainment stage and serve a variety of beers from 11:30 A.M. to 3:30 P.M. Anyone can enter the Beer Garden\, but only those with a valid ID 21+ can purchase and consume alcohol. \nProceeds from the Beer Garden will benefit a local non-profit to be announced soon. \nRestaurants\nWe will have a full roster of restaurants ready to satisfy your every craving with small bites of amazing food. Tickets are $3 per “taste” at each restaurant (some tastes may require two tickets). Event goers can purchase individual taste tickets or 10 taste tickets for $25. \nEntertainment Sponsored by ROCK STAR Realty\nTHE 19TH STREET BAND WILL PERFORM FROM 12:15-1:15PM!!!!
URL:https://19thstreetband.com/event/falls-church-festival/
LOCATION:Falls Church Festival\, 223 Little Falls St\, Falls Church\, VA\, 22046\, United States
END:VEVENT
BEGIN:VEVENT
DTSTART;TZID=America/New_York:20180914T213000
DTEND;TZID=America/New_York:20180915T013000
DTSTAMP:20260423T024927
CREATED:20180823T190654Z
LAST-MODIFIED:20180823T190654Z
UID:10138-1536960600-1536975000@19thstreetband.com
SUMMARY:Flanagan's Harp & Fiddle
DESCRIPTION:
URL:https://19thstreetband.com/event/flanagans-harp-fiddle-20/
LOCATION:Flanagan’s Harp & Fiddle\, 4844 Cordell Ave\, Bethesda\, MD\, 20814\, United States
ATTACH;FMTTYPE=image/jpeg:https://19thstreetband.com/wp-content/uploads/2018/04/ml-pic-3.jpg
END:VEVENT
BEGIN:VEVENT
DTSTART;TZID=America/New_York:20180913T203000
DTEND;TZID=America/New_York:20180914T003000
DTSTAMP:20260423T024927
CREATED:20180823T190437Z
LAST-MODIFIED:20180823T190437Z
UID:10136-1536870600-1536885000@19thstreetband.com
SUMMARY:JV's Restaurant
DESCRIPTION:
URL:https://19thstreetband.com/event/jvs-restaurant-10/
LOCATION:JV’s Restaurant\, 6666  Arlington Blvd.\, Falls Church\, VA\, 22042\, United States
ATTACH;FMTTYPE=image/jpeg:https://19thstreetband.com/wp-content/uploads/2017/09/jvs-2-scaled.jpg
END:VEVENT
BEGIN:VEVENT
DTSTART;TZID=America/New_York:20180907T180000
DTEND;TZID=America/New_York:20180907T213000
DTSTAMP:20260423T024927
CREATED:20180823T190212Z
LAST-MODIFIED:20180823T190212Z
UID:10131-1536343200-1536355800@19thstreetband.com
SUMMARY:Boots and Bow Ties Event to benefit Harford Family House
DESCRIPTION:Join us for a casually elegant evening in the country to benefit Harford Family House.  \nHARFORD FAMILY HOUSE: \nMission: Through housing\, support\, and resources\, Harford Family House\, Inc. helps families and unaccompanied young adults who are experiencing homelessness transition into stable/permanent housing. \nVision: Harford Family House\, Inc. is committed to ending homelessness for families with children and unaccompanied young adults in Harford County\, MD. \nTICKETS: https://interland3.donorperfect.net/weblink/weblink.aspx?name=harfordfh&id=49 \nVIP Beer & Chocolate Pairing: 6-6:30pm | Main Event: 6:30-9:30pm \nFalling Branch Craft Beer | Wine Bar | Bourbon Bar | Delicious food by Laurrapin & Pairings Bistro | Dessert by Hawks Hill Creamery | Live music by The 19th Street Band
URL:https://19thstreetband.com/event/boots-and-bow-ties-event-to-benefit-harford-family-house/
LOCATION:Falling Branch Brewery\, 825 Highland Rd\, Street\, MD\, 21154\, United States
END:VEVENT
BEGIN:VEVENT
DTSTART;TZID=America/New_York:20180905T200000
DTEND;TZID=America/New_York:20180905T230000
DTSTAMP:20260423T024927
CREATED:20180823T184159Z
LAST-MODIFIED:20180823T184159Z
UID:10129-1536177600-1536188400@19thstreetband.com
SUMMARY:The Irish Inn
DESCRIPTION:
URL:https://19thstreetband.com/event/the-irish-inn-32/
LOCATION:Irish Inn\, 6119 Tulane Ave\, Glen Echo\, MD\, 20812\, United States
ATTACH;FMTTYPE=image/jpeg:https://19thstreetband.com/wp-content/uploads/2017/11/Screen-Shot-2017-11-23-at-8.32.28-AM.jpg
END:VEVENT
BEGIN:VEVENT
DTSTART;TZID=America/New_York:20180902T140000
DTEND;TZID=America/New_York:20180902T173000
DTSTAMP:20260423T024927
CREATED:20180823T180942Z
LAST-MODIFIED:20180823T180942Z
UID:10127-1535896800-1535909400@19thstreetband.com
SUMMARY:Starboard Dewey Beach
DESCRIPTION:Enjoy the Labor Day long weekend with us for one more Sunday Funday at The Starboard in Dewey Beach! Deck party at 2pm!
URL:https://19thstreetband.com/event/starboard-dewey-beach/
LOCATION:The Starboard\, 2009 Coastal Hwy\, Dewey Beach\, DE\, 19971\, United States
END:VEVENT
BEGIN:VEVENT
DTSTART;TZID=America/New_York:20180901T214500
DTEND;TZID=America/New_York:20180901T234500
DTSTAMP:20260423T024927
CREATED:20180823T180657Z
LAST-MODIFIED:20180823T180657Z
UID:10125-1535838300-1535845500@19thstreetband.com
SUMMARY:Mangos Bethany Beach
DESCRIPTION:Give your summer one last hurrah over Labor Day Weekend with our last show at Mango’s for SUMMER 2018!!!
URL:https://19thstreetband.com/event/mangos-bethany-beach-6/
LOCATION:Mango’s Bethany Beach\, 97 Garfield Pkwy\, Bethany Beach\, DE\, 19930\, United States
ATTACH;FMTTYPE=image/jpeg:https://19thstreetband.com/wp-content/uploads/2018/05/IMG_0044.jpg
END:VEVENT
BEGIN:VEVENT
DTSTART;TZID=America/New_York:20180831T180000
DTEND;TZID=America/New_York:20180831T220000
DTSTAMP:20260423T024927
CREATED:20180823T180212Z
LAST-MODIFIED:20180823T180212Z
UID:10122-1535738400-1535752800@19thstreetband.com
SUMMARY:Castaways Tiki Bar
DESCRIPTION:
URL:https://19thstreetband.com/event/castaways-tiki-bar-4/
LOCATION:Castaways\, 12550 Eagles Nest Rd\, Berlin\, MD\, 21811\, United States
ATTACH;FMTTYPE=image/jpeg:https://19thstreetband.com/wp-content/uploads/2018/08/IMG_0064-scaled.jpg
END:VEVENT
BEGIN:VEVENT
DTSTART;TZID=America/New_York:20180830T200000
DTEND;TZID=America/New_York:20180831T000000
DTSTAMP:20260423T024927
CREATED:20180823T175303Z
LAST-MODIFIED:20180823T175303Z
UID:10120-1535659200-1535673600@19thstreetband.com
SUMMARY:Hill Country BBQ
DESCRIPTION:Join us downstairs in the “Boot Bar” for a toe-tappin’ show on Thursday at Hill Country BBQ\, with opener Violet Bell!
URL:https://19thstreetband.com/event/hill-country-bbq-5/
LOCATION:Hill Country BBQ\, 410 7th St NW\, Washington\, DC\, 20004\, United States
ATTACH;FMTTYPE=image/jpeg:https://19thstreetband.com/wp-content/uploads/2018/05/ml-pic-10.jpg
END:VEVENT
BEGIN:VEVENT
DTSTART;TZID=America/New_York:20180826T140000
DTEND;TZID=America/New_York:20180826T173000
DTSTAMP:20260423T024927
CREATED:20180821T034327Z
LAST-MODIFIED:20180821T034327Z
UID:10112-1535292000-1535304600@19thstreetband.com
SUMMARY:The Starboard
DESCRIPTION:
URL:https://19thstreetband.com/event/the-starboard-3/
LOCATION:The Starboard\, 2009 Coastal Hwy\, Dewey Beach\, DE\, 19971\, United States
END:VEVENT
BEGIN:VEVENT
DTSTART;TZID=America/New_York:20180825T214500
DTEND;TZID=America/New_York:20180825T234500
DTSTAMP:20260423T024927
CREATED:20180821T034145Z
LAST-MODIFIED:20180821T034145Z
UID:10110-1535233500-1535240700@19thstreetband.com
SUMMARY:Mangos
DESCRIPTION:
URL:https://19thstreetband.com/event/mangos-2/
LOCATION:Mango’s Bethany Beach\, 97 Garfield Pkwy\, Bethany Beach\, DE\, 19930\, United States
ATTACH;FMTTYPE=image/jpeg:https://19thstreetband.com/wp-content/uploads/2018/05/IMG_0044.jpg
END:VEVENT
BEGIN:VEVENT
DTSTART;TZID=America/New_York:20180824T210000
DTEND;TZID=America/New_York:20180825T000000
DTSTAMP:20260423T024927
CREATED:20180821T034031Z
LAST-MODIFIED:20180821T034031Z
UID:10108-1535144400-1535155200@19thstreetband.com
SUMMARY:Greene Growlers
DESCRIPTION:
URL:https://19thstreetband.com/event/greene-growlers/
LOCATION:Greene Growlers\, 227 E Diamond Ave\, Gaithersburg\, MD\, 20877\, United States
END:VEVENT
BEGIN:VEVENT
DTSTART;TZID=America/New_York:20180823T180000
DTEND;TZID=America/New_York:20180823T200000
DTSTAMP:20260423T024927
CREATED:20180821T033523Z
LAST-MODIFIED:20180821T033523Z
UID:10104-1535047200-1535054400@19thstreetband.com
SUMMARY:"Rock the Fountain" Olney Concert Series
DESCRIPTION:Join us from 6-8pm for the “Rock the Fountain” Family Concert Series at the Fair Hill Shopping Center in Olney\, MD!
URL:https://19thstreetband.com/event/rock-the-fountain-olney-concert-series/
LOCATION:Fair Hill Shops\, 18100 Town Center Dr\, Olney\, MD\, 20832\, United States
ATTACH;FMTTYPE=image/jpeg:https://19thstreetband.com/wp-content/uploads/2018/05/IMG_9921.jpg
END:VEVENT
BEGIN:VEVENT
DTSTART;TZID=America/New_York:20180822T180000
DTEND;TZID=America/New_York:20180822T210000
DTSTAMP:20260423T024927
CREATED:20180820T055252Z
LAST-MODIFIED:20180820T055252Z
UID:10090-1534960800-1534971600@19thstreetband.com
SUMMARY:District Wharf
DESCRIPTION:It’s not the most average day of the week anymore! Wednesday at The Wharf\, presented by Landshark Lager\, is a free summer concert series that brings live music to Transit Pier every Wednesday. No matter your musical tastes—rock\, folk\, reggae\, funk\, pop—The Wharf has a performance for you\, though you don’t need to be a fan already to enjoy the tunes\, views\, and food.
URL:https://19thstreetband.com/event/district-wharf/
LOCATION:Wharf DC\, 975 Wharf St SW\, Washington\, DC\, 20024\, United States
END:VEVENT
BEGIN:VEVENT
DTSTART;TZID=America/New_York:20180811T200000
DTEND;TZID=America/New_York:20180811T230000
DTSTAMP:20260423T024927
CREATED:20180717T190341Z
LAST-MODIFIED:20180717T190341Z
UID:9966-1534017600-1534028400@19thstreetband.com
SUMMARY:The Rushy Glen\, Ballyshannon
DESCRIPTION:Join us for our last stop on our Ireland Tour in the very musical & beautiful town\, Ballyshannon in Co. Donegal!
URL:https://19thstreetband.com/event/the-rushy-glen-ballyshannon/
LOCATION:The Rushy Glen\, East Port\, Ballyshannon\, Co. Donegal\, Ireland
CATEGORIES:Show
ATTACH;FMTTYPE=image/jpeg:https://19thstreetband.com/wp-content/uploads/2018/05/ml-pic-10.jpg
END:VEVENT
BEGIN:VEVENT
DTSTART;TZID=Europe/London:20180809T210000
DTEND;TZID=Europe/London:20180810T000000
DTSTAMP:20260423T024927
CREATED:20180630T053713Z
LAST-MODIFIED:20180630T053713Z
UID:9877-1533848400-1533859200@19thstreetband.com
SUMMARY:The Chasin' Bull
DESCRIPTION:Excited for our first appearance in Bundoran at The Chasin’ Bull!
URL:https://19thstreetband.com/event/the-chasin-bull/
LOCATION:The Chasin’ Bull\, Main Street\, Bundoran\, Donegal\, Ireland
CATEGORIES:Show
ATTACH;FMTTYPE=image/jpeg:https://19thstreetband.com/wp-content/uploads/2018/05/ml-pic-10.jpg
END:VEVENT
BEGIN:VEVENT
DTSTART;TZID=America/New_York:20180805T150000
DTEND;TZID=America/New_York:20180805T170000
DTSTAMP:20260423T024927
CREATED:20180531T205427Z
LAST-MODIFIED:20180531T205427Z
UID:9753-1533481200-1533488400@19thstreetband.com
SUMMARY:Open House Festival @ Ward Park
DESCRIPTION:Very excited to return to Ward Park on Sunday\, 5th August as part of the Open House Festival & Ward Park’s Sunday Concert Series. Grab a picnic and a blanket and the whole family for a beautiful afternoon of music!!!
URL:https://19thstreetband.com/event/open-house-festival-ward-park/
LOCATION:Ward Park\, Hamilton Road\, Bangor\, Northern Ireland\, BT20 4LG\, United Kingdom
END:VEVENT
BEGIN:VEVENT
DTSTART;TZID=America/New_York:20180804T220000
DTEND;TZID=America/New_York:20180805T010000
DTSTAMP:20260423T024927
CREATED:20180531T204747Z
LAST-MODIFIED:20180531T204747Z
UID:9750-1533420000-1533430800@19thstreetband.com
SUMMARY:Open House Festival @ The Goat's Toe
DESCRIPTION:FREE SHOW as part of the Open House Festival in Bangor\, Northern Ireland!
URL:https://19thstreetband.com/event/open-house-festival-the-goats-toe/
LOCATION:The Goat’s Toe\, 53 Main St\, Bangor\, Co. Down\, BT20 5AF\, United Kingdom
END:VEVENT
BEGIN:VEVENT
DTSTART;TZID=Europe/London:20180803T223000
DTEND;TZID=Europe/London:20180804T010000
DTSTAMP:20260423T024927
CREATED:20180630T053130Z
LAST-MODIFIED:20180630T053130Z
UID:9872-1533335400-1533344400@19thstreetband.com
SUMMARY:The Waterboys Aftershow Gig at The Jamaica Inn
DESCRIPTION:Join us for a free show at The Jamaica Inn after The Waterboys concert in Bangor! It’s our first of three appearances in the Open House Festival and we can’t wait to party with y’all again.
URL:https://19thstreetband.com/event/the-waterboys-aftershow-gig-at-the-jamaica-inn/
LOCATION:The Jamaica Inn\, 188 Seacliff Rd\, Bangor\, Northern Ireland\, BT20 5HA\, United Kingdom
END:VEVENT
BEGIN:VEVENT
DTSTART;TZID=America/New_York:20180731T200000
DTEND;TZID=America/New_York:20180731T230000
DTSTAMP:20260423T024927
CREATED:20180717T184837Z
LAST-MODIFIED:20180717T184837Z
UID:9962-1533067200-1533078000@19thstreetband.com
SUMMARY:Bakers Back Room w/ Special Guest Philip Donnelly
DESCRIPTION:The 19th Street Band will be traveling over from Washington\, DC\, USA for their 2018 Summer Ireland Tour and performing in Bakers Back Room on 31st July. Don’t miss this Tuesday evening concert in Clonmel with very special guest Philip Donnelly sitting in and sharing his legendary talent on the guitar. This show is not to be missed!
URL:https://19thstreetband.com/event/bakers-back-room-w-special-guest-philip-donnelly/
LOCATION:Bakers Bar\, 17 Parnell St\, Clonmel\, Co. Tipperary\, Ireland
CATEGORIES:Show
END:VEVENT
BEGIN:VEVENT
DTSTART;TZID=America/New_York:20180729T190000
DTEND;TZID=America/New_York:20180729T220000
DTSTAMP:20260423T024927
CREATED:20180531T204139Z
LAST-MODIFIED:20180531T204139Z
UID:9748-1532890800-1532901600@19thstreetband.com
SUMMARY:The Uluru Bar
DESCRIPTION:
URL:https://19thstreetband.com/event/the-uluru-bar/
LOCATION:The Uluru Outback Bar & Restaurant\, Dunmore Road\, Co. Waterford\, Waterford\, Ireland
CATEGORIES:Show
ATTACH;FMTTYPE=image/jpeg:https://19thstreetband.com/wp-content/uploads/2018/02/ml-pic-9.jpg
END:VEVENT
BEGIN:VEVENT
DTSTART;TZID=America/New_York:20180728T193000
DTEND;TZID=America/New_York:20180728T223000
DTSTAMP:20260423T024927
CREATED:20180531T203422Z
LAST-MODIFIED:20180531T203422Z
UID:9745-1532806200-1532817000@19thstreetband.com
SUMMARY:The Uluru\, Waterford
DESCRIPTION:Excited for two nights in a row at The Uluru Outback Bar & Restaurant in Clonmel\, Co. Waterford\, Ireland!
URL:https://19thstreetband.com/event/the-uluru-waterford/
LOCATION:The Uluru Outback Bar & Restaurant\, Dunmore Road\, Co. Waterford\, Waterford\, Ireland
CATEGORIES:Show
ATTACH;FMTTYPE=image/jpeg:https://19thstreetband.com/wp-content/uploads/2018/05/ml-pic-10.jpg
END:VEVENT
END:VCALENDAR