BEGIN:VCALENDAR
VERSION:2.0
PRODID:-//The 19th Street Band - ECPv6.15.20//NONSGML v1.0//EN
CALSCALE:GREGORIAN
METHOD:PUBLISH
X-WR-CALNAME:The 19th Street Band
X-ORIGINAL-URL:https://19thstreetband.com
X-WR-CALDESC:Events for The 19th Street Band
REFRESH-INTERVAL;VALUE=DURATION:PT1H
X-Robots-Tag:noindex
X-PUBLISHED-TTL:PT1H
BEGIN:VTIMEZONE
TZID:America/New_York
BEGIN:DAYLIGHT
TZOFFSETFROM:-0500
TZOFFSETTO:-0400
TZNAME:EDT
DTSTART:20170312T070000
END:DAYLIGHT
BEGIN:STANDARD
TZOFFSETFROM:-0400
TZOFFSETTO:-0500
TZNAME:EST
DTSTART:20171105T060000
END:STANDARD
BEGIN:DAYLIGHT
TZOFFSETFROM:-0500
TZOFFSETTO:-0400
TZNAME:EDT
DTSTART:20180311T070000
END:DAYLIGHT
BEGIN:STANDARD
TZOFFSETFROM:-0400
TZOFFSETTO:-0500
TZNAME:EST
DTSTART:20181104T060000
END:STANDARD
BEGIN:DAYLIGHT
TZOFFSETFROM:-0500
TZOFFSETTO:-0400
TZNAME:EDT
DTSTART:20190310T070000
END:DAYLIGHT
BEGIN:STANDARD
TZOFFSETFROM:-0400
TZOFFSETTO:-0500
TZNAME:EST
DTSTART:20191103T060000
END:STANDARD
END:VTIMEZONE
BEGIN:VTIMEZONE
TZID:UTC
BEGIN:STANDARD
TZOFFSETFROM:+0000
TZOFFSETTO:+0000
TZNAME:UTC
DTSTART:20170101T000000
END:STANDARD
END:VTIMEZONE
BEGIN:VEVENT
DTSTART;TZID=America/New_York:20180705T180000
DTEND;TZID=America/New_York:20180705T220000
DTSTAMP:20260421T034308
CREATED:20180523T053124Z
LAST-MODIFIED:20180523T053124Z
UID:9686-1530813600-1530828000@19thstreetband.com
SUMMARY:Castaways Tiki Bar
DESCRIPTION:6-10pm at the Tiki Bar on the water at Castaways RV Park & Campground in Berlin!
URL:https://19thstreetband.com/event/castaways-tiki-bar-2/
LOCATION:Castaways\, 12550 Eagles Nest Rd\, Berlin\, MD\, 21811\, United States
CATEGORIES:Show
END:VEVENT
BEGIN:VEVENT
DTSTART;TZID=America/New_York:20180704T214500
DTEND;TZID=America/New_York:20180704T234500
DTSTAMP:20260421T034308
CREATED:20180523T052328Z
LAST-MODIFIED:20180523T052328Z
UID:9684-1530740700-1530747900@19thstreetband.com
SUMMARY:4th of July at Mango's
DESCRIPTION:Celebrate with us at the beach on the 4th of July!!!
URL:https://19thstreetband.com/event/4th-of-july-at-mangos/
LOCATION:Mango’s Bethany Beach\, 97 Garfield Pkwy\, Bethany Beach\, DE\, 19930\, United States
CATEGORIES:Show
ATTACH;FMTTYPE=image/jpeg:https://19thstreetband.com/wp-content/uploads/2018/04/mangos-bar-2.jpg
END:VEVENT
BEGIN:VEVENT
DTSTART;TZID=America/New_York:20180701T150000
DTEND;TZID=America/New_York:20180701T170000
DTSTAMP:20260421T034308
CREATED:20180523T051944Z
LAST-MODIFIED:20180523T051944Z
UID:9680-1530457200-1530464400@19thstreetband.com
SUMMARY:First Sunday Annapolis Festival
DESCRIPTION:Welcome to First Sunday Arts Festivals in Annapolis Maryland!\nCalvert & West Streets Annapolis MD 21401​\nWe invite you to visit the festivals on the first Sunday of each month May through November in downtown Annapolis Maryland from 11am to 5pm to shop over 130 artists.\nLIVE MUSIC 3-5pm
URL:https://19thstreetband.com/event/first-sunday-annapolis-festival/
LOCATION:First Sunday Arts Festival\, Calvert & West Streets\, Annapolis\, MD\, 21401\, United States
END:VEVENT
BEGIN:VEVENT
DTSTART;TZID=America/New_York:20180630T214500
DTEND;TZID=America/New_York:20180630T234500
DTSTAMP:20260421T034308
CREATED:20180523T050947Z
LAST-MODIFIED:20180523T050947Z
UID:9676-1530395100-1530402300@19thstreetband.com
SUMMARY:Mango's Bethany
DESCRIPTION:
URL:https://19thstreetband.com/event/mangos-bethany-3/
LOCATION:Mango’s Bethany Beach\, 97 Garfield Pkwy\, Bethany Beach\, DE\, 19930\, United States
ATTACH;FMTTYPE=image/jpeg:https://19thstreetband.com/wp-content/uploads/2018/04/mangos-bar-2.jpg
END:VEVENT
BEGIN:VEVENT
DTSTART;TZID=America/New_York:20180629T193000
DTEND;TZID=America/New_York:20180629T213000
DTSTAMP:20260421T034308
CREATED:20180523T050807Z
LAST-MODIFIED:20180523T050807Z
UID:9674-1530300600-1530307800@19thstreetband.com
SUMMARY:Poolesville Red\, White & Brews Festival (Friday on the Commons)
DESCRIPTION:Can’t wait to see y’all back out for Friday on the Commons in Poolesville for the special “Red\, White & Brews Festival” on June 29th!
URL:https://19thstreetband.com/event/poolesville-red-white-brews-festival-friday-on-the-commons/
LOCATION:Whalen Commons\, 19701 Fisher Ave\, Poolesville\, MD\, 20837\, United States
ATTACH;FMTTYPE=image/jpeg:https://19thstreetband.com/wp-content/uploads/2018/05/charm-city-1.jpg
END:VEVENT
BEGIN:VEVENT
DTSTART;TZID=America/New_York:20180628T190000
DTEND;TZID=America/New_York:20180628T230000
DTSTAMP:20260421T034308
CREATED:20180606T214213Z
LAST-MODIFIED:20180606T214213Z
UID:9787-1530212400-1530226800@19thstreetband.com
SUMMARY:Gypsy Sally's
DESCRIPTION:Join us for a double show with Bud’s Collective at Gyspy Sally’s in DC! A great venue and TWO great bands for just $10. Don’t miss this special Thursday show on 6/28. Get your tickets in advance. Prices go up to $12 on the day of. \nDoors open 7pm. Show starts 8pm. \nhttps://www.ticketfly.com/purchase/event/1707960?utm_medium=bks
URL:https://19thstreetband.com/event/gypsy-sallys-2/
LOCATION:Gypsy Sally’s\, 3401 K Street NW\, Washington\, DC\, 20007\, United States
CATEGORIES:Show
END:VEVENT
BEGIN:VEVENT
DTSTART;TZID=America/New_York:20180623T160000
DTEND;TZID=America/New_York:20180623T200000
DTSTAMP:20260421T034308
CREATED:20180523T045342Z
LAST-MODIFIED:20180523T045342Z
UID:9670-1529769600-1529784000@19thstreetband.com
SUMMARY:Field & Fiddle Festival
DESCRIPTION:Join us for the 4th Annual Field & Fiddle Festival to benefit the protection of Montgomery County’s Agricultural Reserve.\nJust 20 miles from downtown DC lies a place where land has been protected for Agriculture. Since 1980\, Montgomery County’s Ag Reserve has been growing local food and farm businesses in harmony with Maryland’s booming suburbs. Montgomery Countryside Alliance is the small (but mighty) nonprofit that works to keep the Reserve growing. Field & Fiddle is our chance to celebrate the wonder of the Reserve and let more people know about this cultural\, recreational\, agricultural and environmental resource in their backyard.\nCome on out to beautiful Madison Fields and enjoy music from The 19th Street Band and The Eastman String Band. Bring your picnic blanket and enjoy fare from Cipolla Rossa Pizzeria\, 3rd Alarm BBQ\, and libations from Rocklands Farm and Winery and Waredaca Brewing Company. Local artisans will offer unique crafts. All ages are welcome at this family-friendly event!
URL:https://19thstreetband.com/event/field-fiddle-festival/
LOCATION:Madison Fields\, 21355 Big Woods Rd\, Dickerson\, MD\, 20842\, United States
END:VEVENT
BEGIN:VEVENT
DTSTART;TZID=America/New_York:20180622T180000
DTEND;TZID=America/New_York:20180622T220000
DTSTAMP:20260421T034308
CREATED:20180606T214701Z
LAST-MODIFIED:20180606T214701Z
UID:9790-1529690400-1529704800@19thstreetband.com
SUMMARY:Castaways Tiki Bar
DESCRIPTION:We’ll be performing in Berlin/West Ocean City\, MD at Castaways RV Resort & Campground. You do not need to be a guest in order to attend the show. Join us at the waterfront Tiki Bar for affordable drinks\, great tunes and a priceless view!
URL:https://19thstreetband.com/event/castaways-tiki-bar-3/
LOCATION:Castaways\, 12550 Eagles Nest Rd\, Berlin\, MD\, 21811\, United States
CATEGORIES:Show
END:VEVENT
BEGIN:VEVENT
DTSTART;TZID=America/New_York:20180621T183000
DTEND;TZID=America/New_York:20180621T203000
DTSTAMP:20260421T034308
CREATED:20180523T044713Z
LAST-MODIFIED:20180523T044713Z
UID:9668-1529605800-1529613000@19thstreetband.com
SUMMARY:Shirlala Music Festival
DESCRIPTION:Join us for the Shirlala Music Festival outside in the Village at Shirlington for live music from 6:30-8:30pm!
URL:https://19thstreetband.com/event/shirlala-music-festival-2/
LOCATION:The Village at Shirlington Plaza\, 4200 Campbell Avenue\, Arlington\, VA\, 22206\, United States
END:VEVENT
BEGIN:VEVENT
DTSTART;TZID=America/New_York:20180620T200000
DTEND;TZID=America/New_York:20180620T230000
DTSTAMP:20260421T034308
CREATED:20180523T044350Z
LAST-MODIFIED:20180523T044350Z
UID:9666-1529524800-1529535600@19thstreetband.com
SUMMARY:Lahinch Tavern & Grill
DESCRIPTION:
URL:https://19thstreetband.com/event/lahinch-tavern-grill-26/
LOCATION:Lahinch Tavern & Grill\, 7747 Tuckerman Lane\, Potomac\, MD\, 20854\, United States
END:VEVENT
BEGIN:VEVENT
DTSTART;TZID=America/New_York:20180619T173000
DTEND;TZID=America/New_York:20180619T193000
DTSTAMP:20260421T034308
CREATED:20180523T044156Z
LAST-MODIFIED:20180523T044156Z
UID:9663-1529429400-1529436600@19thstreetband.com
SUMMARY:Nats vs O's Pre-Game @ The Bullpen
DESCRIPTION:Catch us from 5:30-7:30pm for the pre-game party at The Bullpen before the Nats vs. O’s game!
URL:https://19thstreetband.com/event/nats-vs-os-pre-game-the-bullpen/
LOCATION:The Bullpen\, 1299 Half St. SE\, Washington\, DC\, 20003\, United States
CATEGORIES:Show
END:VEVENT
BEGIN:VEVENT
DTSTART;TZID=America/New_York:20180616T214500
DTEND;TZID=America/New_York:20180616T234500
DTSTAMP:20260421T034308
CREATED:20180523T043556Z
LAST-MODIFIED:20180523T043556Z
UID:9661-1529185500-1529192700@19thstreetband.com
SUMMARY:Mango's Bethany
DESCRIPTION:
URL:https://19thstreetband.com/event/mangos-bethany-2/
LOCATION:Mango’s Bethany Beach\, 97 Garfield Pkwy\, Bethany Beach\, DE\, 19930\, United States
CATEGORIES:Show
ATTACH;FMTTYPE=image/jpeg:https://19thstreetband.com/wp-content/uploads/2018/04/mangos-bar-2.jpg
END:VEVENT
BEGIN:VEVENT
DTSTART;TZID=America/New_York:20180616T140000
DTEND;TZID=America/New_York:20180616T180000
DTSTAMP:20260421T034308
CREATED:20180523T042655Z
LAST-MODIFIED:20180523T042655Z
UID:9657-1529157600-1529172000@19thstreetband.com
SUMMARY:Paradise Grill Beach Stage
DESCRIPTION:Grab some friends and come on out for our first show at Paradise Grill in Long Neck\, DE. Set right on the water at Indian River Bay\, we’ll be rocking the BEACH STAGE from 2-6pm!!! \nWelcome to Paradise Grill\, where we bring the ISLANDS to you!  We are located directly on the Indian River Bay in Pot-Nets Bayside in sunny Long Neck\, Delaware.  Our mission is to make sure you have a fun\, relaxing time here while providing you with the most amazing food and service out there!  Here you can leave your problems at our door and enjoy the warm breeze\, the sound of palm trees blowing in the wind\, and the smell of salt air all around you!  We take pride in providing a fun\, tropical\, and family oriented atmosphere full of exciting events\, awesome entertainment\, refreshing drinks\, and quality food.  So\, slip on your flip flops\, grab your friends/kids\, and create memories with us because life is always better at Paradise Grill! \nWhether you’re sailing\, riding on a golf-cart\, or cruising down in your vehicle we have parking for all 3!  Paradise Grill has plenty of parking for vehicles and we also offer free shuttle rides that bring you right to our front door and back to your car.  Plus\, we have 100 golf cart parking spots and 82 boat slips!  Unfortunately\, due to Pot-Nets Community guidelines\, motorcycles are not permitted in the community.
URL:https://19thstreetband.com/event/paradise-grill-beach-stage/
LOCATION:Paradise Grill\, 27344 Bay Rd\, Long Neck\, DE\, 19966\, United States
CATEGORIES:Show
END:VEVENT
BEGIN:VEVENT
DTSTART;TZID=America/New_York:20180615T203000
DTEND;TZID=America/New_York:20180615T233000
DTSTAMP:20260421T034308
CREATED:20180523T041709Z
LAST-MODIFIED:20180613T203509Z
UID:9655-1529094600-1529105400@19thstreetband.com
SUMMARY:Bethany Blues in Lewes
DESCRIPTION:Join us for live music on stage at Bethany Blues in Lewes\, DE!
URL:https://19thstreetband.com/event/bethany-blues-in-lewes/
LOCATION:Bethany Blues Lewes\, 18385 Coastal Highway\, Lewes\, DE\, 19958\, United States
ATTACH;FMTTYPE=image/png:https://19thstreetband.com/wp-content/uploads/2018/01/Screen-Shot-2018-01-07-at-14.20.45-e1515425092109.png
END:VEVENT
BEGIN:VEVENT
DTSTART;TZID=America/New_York:20180614T203000
DTEND;TZID=America/New_York:20180615T003000
DTSTAMP:20260421T034308
CREATED:20180527T024254Z
LAST-MODIFIED:20180527T024254Z
UID:9718-1529008200-1529022600@19thstreetband.com
SUMMARY:JV’s Restaurant & Live Music Venue
DESCRIPTION:
URL:https://19thstreetband.com/event/jvs-restaurant-live-music-venue/
LOCATION:JV’s Restaurant\, 6666  Arlington Blvd.\, Falls Church\, VA\, 22042\, United States
CATEGORIES:Show
ATTACH;FMTTYPE=image/jpeg:https://19thstreetband.com/wp-content/uploads/2018/02/ml-pic-5.jpg
END:VEVENT
BEGIN:VEVENT
DTSTART;TZID=America/New_York:20180610T140000
DTEND;TZID=America/New_York:20180610T173000
DTSTAMP:20260421T034308
CREATED:20180523T041442Z
LAST-MODIFIED:20180523T041442Z
UID:9653-1528639200-1528651800@19thstreetband.com
SUMMARY:The Starboard in Dewey
DESCRIPTION:Party with us outside on the deck from 2-5:30pm at the best spot in Dewey!!
URL:https://19thstreetband.com/event/the-starboard-in-dewey-2/
LOCATION:The Starboard\, 2009 Coastal Hwy\, Dewey Beach\, DE\, 19971\, United States
END:VEVENT
BEGIN:VEVENT
DTSTART;TZID=America/New_York:20180609T214500
DTEND;TZID=America/New_York:20180609T234500
DTSTAMP:20260421T034308
CREATED:20180523T041050Z
LAST-MODIFIED:20180523T041050Z
UID:9651-1528580700-1528587900@19thstreetband.com
SUMMARY:Mango's Bethany Beach
DESCRIPTION:Summertime at Mango’s!!! \nTwo hours of jam-packed non-stop fun.
URL:https://19thstreetband.com/event/mangos-bethany-beach-5/
LOCATION:Mango’s Bethany Beach\, 97 Garfield Pkwy\, Bethany Beach\, DE\, 19930\, United States
ATTACH;FMTTYPE=image/jpeg:https://19thstreetband.com/wp-content/uploads/2018/04/mangos-bar-2.jpg
END:VEVENT
BEGIN:VEVENT
DTSTART;TZID=America/New_York:20180608T223000
DTEND;TZID=America/New_York:20180609T013000
DTSTAMP:20260421T034308
CREATED:20180523T040531Z
LAST-MODIFIED:20180523T040531Z
UID:9648-1528497000-1528507800@19thstreetband.com
SUMMARY:The Hamilton LOFT
DESCRIPTION:Late-night live music up in the LOFT!
URL:https://19thstreetband.com/event/the-hamilton-loft-9/
LOCATION:The Hamilton\, 600 14th St NW\, Washington\, DC\, 20005\, United States
ATTACH;FMTTYPE=image/jpeg:https://19thstreetband.com/wp-content/uploads/2016/10/hamilton-1-scaled.jpg
END:VEVENT
BEGIN:VEVENT
DTSTART;TZID=America/New_York:20180608T173000
DTEND;TZID=America/New_York:20180608T190000
DTSTAMP:20260421T034308
CREATED:20180523T040256Z
LAST-MODIFIED:20180523T040256Z
UID:9646-1528479000-1528484400@19thstreetband.com
SUMMARY:Backyard BBQ with Hill Country
DESCRIPTION:Swing by the Backyard BBQ summer pop-up at the National Building Museum (5th & F St) on the West Lawn. Fresh furniture\, lounge chairs\, tents for shade\, yard games\, full bar\, dog-friendly\, family-friendly and live music!!! \nWe play 5:30-7pm. See y’all out!
URL:https://19thstreetband.com/event/backyard-bbq-with-hill-country/
LOCATION:National Building Museum\, 401 F St NW\, Washington\, 20001\, United States
CATEGORIES:Show
ATTACH;FMTTYPE=image/jpeg:https://19thstreetband.com/wp-content/uploads/2017/10/canal-pic.jpg
END:VEVENT
BEGIN:VEVENT
DTSTART;TZID=America/New_York:20180606T200000
DTEND;TZID=America/New_York:20180606T230000
DTSTAMP:20260421T034308
CREATED:20180523T034908Z
LAST-MODIFIED:20180523T034908Z
UID:9644-1528315200-1528326000@19thstreetband.com
SUMMARY:The Irish Inn
DESCRIPTION:
URL:https://19thstreetband.com/event/the-irish-inn-30/
LOCATION:Irish Inn\, 6119 Tulane Ave\, Glen Echo\, MD\, 20812\, United States
CATEGORIES:Show
ATTACH;FMTTYPE=image/jpeg:https://19thstreetband.com/wp-content/uploads/2017/09/irish-inn-greg.jpg
END:VEVENT
BEGIN:VEVENT
DTSTART;TZID=America/New_York:20180603T120000
DTEND;TZID=America/New_York:20180603T190000
DTSTAMP:20260421T034308
CREATED:20180523T034623Z
LAST-MODIFIED:20180523T034623Z
UID:9641-1528027200-1528052400@19thstreetband.com
SUMMARY:Washington Folk Festival
DESCRIPTION:Join us back at this year’s Washington Folk Festival in Glen Echo Park! \nWe’ll be performing a set from 1-1:45pm on the Potomac Palisades Stage on Sunday.
URL:https://19thstreetband.com/event/washington-folk-festival/
LOCATION:Glen Echo Park\, 7300 MacArthur Blvd\, Glen Echo\, MD\, 20812\, United States
ATTACH;FMTTYPE=image/jpeg:https://19thstreetband.com/wp-content/uploads/2018/05/charm-city-1.jpg
END:VEVENT
BEGIN:VEVENT
DTSTART;TZID=America/New_York:20180602T110000
DTEND;TZID=America/New_York:20180602T230000
DTSTAMP:20260421T034308
CREATED:20180523T033152Z
LAST-MODIFIED:20180523T033152Z
UID:9636-1527937200-1527980400@19thstreetband.com
SUMMARY:Annapolis Irish Festival
DESCRIPTION:Excited for our first appearance at this year’s Annapolis Irish Festival! \nCatch our set from 12-1:30pm on the Greene Turtle Stage.
URL:https://19thstreetband.com/event/annapolis-irish-festival/
LOCATION:Anne Arundel County Fairgrounds\, 1450 Generals Hwy\, Crownsville\, MD\, 21032\, United States
ATTACH;FMTTYPE=image/jpeg:https://19thstreetband.com/wp-content/uploads/2018/05/charm-city-1.jpg
END:VEVENT
BEGIN:VEVENT
DTSTART;TZID=America/New_York:20180601T213000
DTEND;TZID=America/New_York:20180602T013000
DTSTAMP:20260421T034308
CREATED:20180523T032141Z
LAST-MODIFIED:20180523T032141Z
UID:9634-1527888600-1527903000@19thstreetband.com
SUMMARY:Flanagan's Harp & Fiddle
DESCRIPTION:
URL:https://19thstreetband.com/event/flanagans-harp-fiddle-19/
LOCATION:Flanagan’s Harp & Fiddle\, 4844 Cordell Ave\, Bethesda\, MD\, 20814\, United States
CATEGORIES:Show
ATTACH;FMTTYPE=image/jpeg:https://19thstreetband.com/wp-content/uploads/2018/02/ml-pic-9.jpg
END:VEVENT
BEGIN:VEVENT
DTSTART;TZID=America/New_York:20180531T200000
DTEND;TZID=America/New_York:20180531T230000
DTSTAMP:20260421T034308
CREATED:20180522T163759Z
LAST-MODIFIED:20180522T163759Z
UID:9631-1527796800-1527807600@19thstreetband.com
SUMMARY:Shaw's Tavern
DESCRIPTION:8-11pm
URL:https://19thstreetband.com/event/shaws-tavern-6/
LOCATION:Shaw’s Tavern\, 520 Florida Ave NW\, Washington\, DC\, 20001\, United States
ATTACH;FMTTYPE=image/jpeg:https://19thstreetband.com/wp-content/uploads/2018/05/ml-pic-10.jpg
END:VEVENT
BEGIN:VEVENT
DTSTART;TZID=America/New_York:20180528T180000
DTEND;TZID=America/New_York:20180528T210000
DTSTAMP:20260421T034308
CREATED:20180522T163300Z
LAST-MODIFIED:20180522T163300Z
UID:9628-1527530400-1527541200@19thstreetband.com
SUMMARY:Bull City Ciderworks
DESCRIPTION:6-9pm \nSpend Memorial Day Monday with us with LIVE MUSIC at Bull City’s new Durham location! Great cider\, great people. Let all your Raleigh/Durham friends know!!
URL:https://19thstreetband.com/event/bull-city-ciderworks/
LOCATION:Bull City Ciderworks\, 305 S. Roxboro St\, Durham\, NC\, 27701\, United States
ATTACH;FMTTYPE=image/png:https://19thstreetband.com/wp-content/uploads/2018/01/Screen-Shot-2018-01-07-at-14.20.45-e1515425092109.png
END:VEVENT
BEGIN:VEVENT
DTSTART;TZID=UTC:20180526T140000
DTEND;TZID=UTC:20180526T173000
DTSTAMP:20260421T034308
CREATED:20180404T021315Z
LAST-MODIFIED:20180404T021315Z
UID:9597-1527343200-1527355800@19thstreetband.com
SUMMARY:The Starboard
DESCRIPTION:Spend your Saturday afternoon partying with us on the deck at The Starboard in Dewey Beach!!! We’ll be “crushin” it from 2-5:30pm.
URL:https://19thstreetband.com/event/the-starboard-2/
LOCATION:The Starboard\, 2009 Coastal Hwy\, Dewey Beach\, DE\, 19971\, United States
END:VEVENT
BEGIN:VEVENT
DTSTART;TZID=UTC:20180525T213000
DTEND;TZID=UTC:20180525T233000
DTSTAMP:20260421T034308
CREATED:20180404T020155Z
LAST-MODIFIED:20180404T021601Z
UID:9595-1527283800-1527291000@19thstreetband.com
SUMMARY:Mango's Bethany Beach
DESCRIPTION:Kick off Memorial Day Weekend with us at Mango’s in Bethany Beach!!! Don’t miss out!
URL:https://19thstreetband.com/event/mangos-bethany-beach-4/
LOCATION:Mango’s Bethany Beach\, 97 Garfield Pkwy\, Bethany Beach\, DE\, 19930\, United States
ATTACH;FMTTYPE=image/jpeg:https://19thstreetband.com/wp-content/uploads/2018/04/mangos-bar-2.jpg
END:VEVENT
BEGIN:VEVENT
DTSTART;TZID=America/New_York:20180523T183000
DTEND;TZID=America/New_York:20180523T203000
DTSTAMP:20260421T034308
CREATED:20180422T181049Z
LAST-MODIFIED:20180422T181049Z
UID:9621-1527100200-1527107400@19thstreetband.com
SUMMARY:Post-Game at The Bullpen
DESCRIPTION:Join us at The Bullpen after the Nats game from 6:30-8:30pm for live music! No ticket necessary to get in!
URL:https://19thstreetband.com/event/post-game-at-the-bullpen/
LOCATION:The Bullpen\, 1299 Half St. SE\, Washington\, DC\, 20003\, United States
END:VEVENT
BEGIN:VEVENT
DTSTART;TZID=America/New_York:20180522T173000
DTEND;TZID=America/New_York:20180522T193000
DTSTAMP:20260421T034308
CREATED:20180422T180833Z
LAST-MODIFIED:20180422T180833Z
UID:9619-1527010200-1527017400@19thstreetband.com
SUMMARY:The Bullpen Pre-Game
DESCRIPTION:Pre-Nats game: 5:30-7:30pm. Swing by The Bullpen!
URL:https://19thstreetband.com/event/the-bullpen-pre-game/
LOCATION:The Bullpen\, 1299 Half St. SE\, Washington\, DC\, 20003\, United States
END:VEVENT
BEGIN:VEVENT
DTSTART;TZID=UTC:20180517T210000
DTEND;TZID=UTC:20180518T003000
DTSTAMP:20260421T034308
CREATED:20180404T015001Z
LAST-MODIFIED:20180404T015001Z
UID:9593-1526590800-1526603400@19thstreetband.com
SUMMARY:Samuel Beckett's Irish Gastropub
DESCRIPTION:
URL:https://19thstreetband.com/event/samuel-becketts-irish-gastropub-6/
LOCATION:Samuel Beckett’s\, 2800 S Randolph St #110\, Arlington\, VA\, 22206\, United States
ATTACH;FMTTYPE=image/jpeg:https://19thstreetband.com/wp-content/uploads/2017/10/harp-pic-7.jpg
END:VEVENT
END:VCALENDAR