BEGIN:VCALENDAR
VERSION:2.0
PRODID:-//The 19th Street Band - ECPv6.15.20//NONSGML v1.0//EN
CALSCALE:GREGORIAN
METHOD:PUBLISH
X-WR-CALNAME:The 19th Street Band
X-ORIGINAL-URL:https://19thstreetband.com
X-WR-CALDESC:Events for The 19th Street Band
REFRESH-INTERVAL;VALUE=DURATION:PT1H
X-Robots-Tag:noindex
X-PUBLISHED-TTL:PT1H
BEGIN:VTIMEZONE
TZID:America/New_York
BEGIN:DAYLIGHT
TZOFFSETFROM:-0500
TZOFFSETTO:-0400
TZNAME:EDT
DTSTART:20170312T070000
END:DAYLIGHT
BEGIN:STANDARD
TZOFFSETFROM:-0400
TZOFFSETTO:-0500
TZNAME:EST
DTSTART:20171105T060000
END:STANDARD
BEGIN:DAYLIGHT
TZOFFSETFROM:-0500
TZOFFSETTO:-0400
TZNAME:EDT
DTSTART:20180311T070000
END:DAYLIGHT
BEGIN:STANDARD
TZOFFSETFROM:-0400
TZOFFSETTO:-0500
TZNAME:EST
DTSTART:20181104T060000
END:STANDARD
BEGIN:DAYLIGHT
TZOFFSETFROM:-0500
TZOFFSETTO:-0400
TZNAME:EDT
DTSTART:20190310T070000
END:DAYLIGHT
BEGIN:STANDARD
TZOFFSETFROM:-0400
TZOFFSETTO:-0500
TZNAME:EST
DTSTART:20191103T060000
END:STANDARD
END:VTIMEZONE
BEGIN:VEVENT
DTSTART;TZID=America/New_York:20181104T193000
DTEND;TZID=America/New_York:20181104T233000
DTSTAMP:20260420T232354
CREATED:20181024T023301Z
LAST-MODIFIED:20181024T023921Z
UID:10410-1541359800-1541374200@19thstreetband.com
SUMMARY:The 19th Street Band opens for I Draw Slow at The Hamilton
DESCRIPTION:Dublin\, Ireland’s I Draw Slow has already won the adoration of fans in their home country and North America by combining American folk and Irish storytelling traditions with close-harmony vocals\, intriguing instrumentation and compelling subject matter. \nThis time out\, sibling vocalists Dave and Louise Holden\, with Dave on acoustic guitar\, Adrian Hart on violin\, Colin Derham on clawhammer banjo and Konrad Liddy on double bass\, chose to color their blend of vocals and strings with brass and percussion. They also chose to address a theme of loss\, through lyrics that examine both the darker side of human nature and the goodness of redemption. \nThe band first drew attention beyond Ireland’s shores with their 2011 release\, Redhills. Fueled by a prominent Spotify playlist placement and a video suggesting both 1890s bordello and 1920s speakeasy\, the song “Goldmine” became the album’s breakout track. Their follow-up album\, 2014’s White Wave Chapel\, reached No. 2 on Ireland’s iTunes chart\, driven in part by the video for “Valentine\,” which featured Game of Thrones star Aidan Gillen. \nIn the meantime\, they established themselves as festival standouts\, appearing at MerleFest\, Pickathon\, Wintergrass\, RockyGrass\, Grey Fox\, Red Wing\, Edmonton Folk Fest and High Sierra Music Festival to name a few. They’ve also appeared on many radio shows\, including the syndicated “Mountain Stage.” \nTheir energetic live performances and inventive combination of Appalachian and Irish roots music has drawn so much support\, they were able to completely crowd-fund the recording of Turn Your Face to the Sun — which they tracked over one weekend\, camping out in a house in County Wicklow\, Ireland\, with engineer Brian Masterson (U2\, Van Morrison). It captures I Draw Slow at their best — when they’re all together\, separated only by air. \nSpeaking of air\, first-time I Draw Slow listeners ought to be warned: This band very well might take their breath away. And they won’t even mind. \n\n\n\nThe 19th Street Band\n\nLinks\n\n \nCaolaidhe came to America from Holywood\, Northern Ireland in 2005 to pursue a career in music. While establishing an earlier band\, he found himself in need of a fiddle player. As fate would have it\, Meghan (a classical violinist) was working at an Irish pub in DC as a server while teaching music at a nearby public school. Through Caolaidhe’s acquaintances\, he was lucky enough to meet Meghan and quickly auditioned her for the band. What Caolaidhe didn’t know was that he was auditioning his future wife. Fast-forward a few months down the road\, and Meghan and Caolaidhe found themselves living on ’19th Street’ in Arlington\, VA\, writing songs and creating the sound that would become the backbone of The 19th Street Band.\n\n\n\nCharacterized by high energy and strong vocal harmonies\, The 19th Street Band brings to the house a fusion of Americana\, country and rock. Together they ignite an audience with their love for music\, combined with a magnetic passion and enthusiasm. Add to the mix their talented rhythm section\, Patty Dougherty (drums) & Greg Hardin (bass)\, and this band will undoubtedly get you rockin’ & a-rollin’ through the night.\n\n\nThe 19th Street Band has had the honor of sharing the stage with country music stars such as Rodney Atkins\, Craig Morgan\, and Chuck Mead. They have opened for The Wheeler Brothers and Spirit Family Reunion at The Hamilton as well as Grammy Award-winning Western Swing icons\, Asleep at the Wheel\, at The Birchmere. They have also packed the house at such venues as the 9:30 Club\, Black Cat\, Strathmore\, Jammin’ Java\, Rock & Roll Hotel\, Kingman Island Bluegrass Festival\, The Washington Folk Festival\, Tootsie’s Orchid Lounge in Nashville\, The Black Box in Belfast\, and Hill Country BBQ and Pianos in NYC. The 19th Street Band has steadily been performing 230 shows a year for the past 5 years\, and they are recently back from a tour in Northern Ireland\, where they performed live on BBC Radio Ulster and were a part of the Open House Festival in Bangor. Their new album\, The Things That Matter\, is currently getting air play on BBC Radio and multiple radio stations throughout the UK.\n\n\nDoors 6:30pm\nShow 7:30pm\nAll ages\nhttps://live.thehamiltondc.com/event/1755775-i-draw-slow-washington/
URL:https://19thstreetband.com/event/the-19th-street-band-opens-for-i-draw-slow-at-the-hamilton/
LOCATION:The Hamilton\, 600 14th St NW\, Washington\, DC\, 20005\, United States
CATEGORIES:Show
END:VEVENT
BEGIN:VEVENT
DTSTART;TZID=America/New_York:20181103T150000
DTEND;TZID=America/New_York:20181103T183000
DTSTAMP:20260420T232354
CREATED:20181024T020819Z
LAST-MODIFIED:20181027T153432Z
UID:10406-1541257200-1541269800@19thstreetband.com
SUMMARY:The Starboard Closing Party
DESCRIPTION:Countdown to the weekend that The Starboard closes down until March! Be sure to come out to get your fill of the place before it shuts down for winter. We play on Saturday from 3-6:30pm. See y’all there!
URL:https://19thstreetband.com/event/the-starboard-closing-party/
LOCATION:The Starboard\, 2009 Coastal Hwy\, Dewey Beach\, DE\, 19971\, United States
CATEGORIES:Show
ATTACH;FMTTYPE=image/jpeg:https://19thstreetband.com/wp-content/uploads/2018/10/starboard.jpg
END:VEVENT
BEGIN:VEVENT
DTSTART;TZID=America/New_York:20181102T203000
DTEND;TZID=America/New_York:20181102T233000
DTSTAMP:20260420T232354
CREATED:20181024T020216Z
LAST-MODIFIED:20181024T020216Z
UID:10404-1541190600-1541201400@19thstreetband.com
SUMMARY:Bethany Blues Lewes
DESCRIPTION:
URL:https://19thstreetband.com/event/bethany-blues-lewes-2/
LOCATION:Bethany Blues Lewes\, 18385 Coastal Highway\, Lewes\, DE\, 19958\, United States
CATEGORIES:Show
ATTACH;FMTTYPE=image/png:https://19thstreetband.com/wp-content/uploads/2018/01/Screen-Shot-2018-01-07-at-14.20.45-e1515425092109.png
END:VEVENT
BEGIN:VEVENT
DTSTART;TZID=America/New_York:20181101T190000
DTEND;TZID=America/New_York:20181101T220000
DTSTAMP:20260420T232354
CREATED:20181024T015719Z
LAST-MODIFIED:20181024T015719Z
UID:10401-1541098800-1541109600@19thstreetband.com
SUMMARY:O'Connell's in Alexandria
DESCRIPTION:
URL:https://19thstreetband.com/event/oconnells-in-alexandria-7/
LOCATION:Daniel O’Connell’s Restaurant & Bar\, 112 King St\, Alexandria\, VA\, 22314\, United States
CATEGORIES:Show
ATTACH;FMTTYPE=image/jpeg:https://19thstreetband.com/wp-content/uploads/2018/10/oconnells.jpg
END:VEVENT
BEGIN:VEVENT
DTSTART;TZID=America/New_York:20181027T223000
DTEND;TZID=America/New_York:20181028T013000
DTSTAMP:20260420T232354
CREATED:20181024T015506Z
LAST-MODIFIED:20181024T015506Z
UID:10399-1540679400-1540690200@19thstreetband.com
SUMMARY:The Hamilton Loft
DESCRIPTION:
URL:https://19thstreetband.com/event/the-hamilton-loft-11/
LOCATION:The Hamilton\, 600 14th St NW\, Washington\, DC\, 20005\, United States
CATEGORIES:Show
ATTACH;FMTTYPE=image/jpeg:https://19thstreetband.com/wp-content/uploads/2016/10/hamilton-1-scaled.jpg
END:VEVENT
BEGIN:VEVENT
DTSTART;TZID=America/New_York:20181025T210000
DTEND;TZID=America/New_York:20181026T003000
DTSTAMP:20260420T232354
CREATED:20181024T013420Z
LAST-MODIFIED:20181024T014453Z
UID:10391-1540501200-1540513800@19thstreetband.com
SUMMARY:Samuel Beckett's Irish Gastro Pub
DESCRIPTION:
URL:https://19thstreetband.com/event/samuel-becketts-irish-gastro-pub-2/
LOCATION:Samuel Beckett’s\, 2800 S Randolph St #110\, Arlington\, VA\, 22206\, United States
CATEGORIES:Show
END:VEVENT
BEGIN:VEVENT
DTSTART;TZID=America/New_York:20181020T170000
DTEND;TZID=America/New_York:20181020T210000
DTSTAMP:20260420T232354
CREATED:20180913T020516Z
LAST-MODIFIED:20180913T020516Z
UID:10264-1540054800-1540069200@19thstreetband.com
SUMMARY:Seacrets in OCMD
DESCRIPTION:Tiki Bar! 5-9pm
URL:https://19thstreetband.com/event/seacrets-in-ocmd/
LOCATION:Seacrets Jamaica USA\, 117 49th street\, Ocean City\, MD\, 21842\, United States
CATEGORIES:Show
ATTACH;FMTTYPE=image/jpeg:https://19thstreetband.com/wp-content/uploads/2016/10/seacrets-3-e1490782741189.jpg
END:VEVENT
BEGIN:VEVENT
DTSTART;TZID=America/New_York:20181017T200000
DTEND;TZID=America/New_York:20181017T230000
DTSTAMP:20260420T232354
CREATED:20180913T020134Z
LAST-MODIFIED:20180913T020134Z
UID:10262-1539806400-1539817200@19thstreetband.com
SUMMARY:Lahinch Tavern & Grill
DESCRIPTION:
URL:https://19thstreetband.com/event/lahinch-tavern-grill-29/
LOCATION:Lahinch Tavern & Grill\, 7747 Tuckerman Lane\, Potomac\, MD\, 20854\, United States
CATEGORIES:Show
END:VEVENT
BEGIN:VEVENT
DTSTART;TZID=America/New_York:20181014T140000
DTEND;TZID=America/New_York:20181014T160000
DTSTAMP:20260420T232354
CREATED:20180913T015630Z
LAST-MODIFIED:20180913T015818Z
UID:10259-1539525600-1539532800@19thstreetband.com
SUMMARY:Bethesda Row Arts Festival
DESCRIPTION:Catch us on SUNDAY on stage at the corner of Elm Street & Woodmont Avenue from 2-4pm!! \nThe Bethesda Row Arts Festival is one of the leading fine art and craft festivals in the mid-Atlantic. Ranked 53rd of the elite fine art fairs by by the Art Fair Sourcebook\, the Bethesda Row Arts Festival is “must visit” for area collectors. Featuring 190 juried museum quality artists\, there is something for every arts aficionado. The streets of Bethesda Row transform into an outdoor art gallery. Art collectors and lovers will find one of a kind top quality: ceramics\, drawing\, pastels\, fiber\, decorative\, fiber\, wearables\, glass\, graphics/printmaking\, jewelry\, metalwork\, mixed media 2D\, mixed media 3D\, oil/acrylic painting\, photography\, digital art\, sculpture\, watercolor\, and wood. \nWith plentiful easy parking and more than 50 restaurants\, art collectors converge October 13th-14th at Bethesda Row. Original art ranges in price from $45 to $20\,000. A visual feast whether or not you are shopping for art\, the Bethesda Row Arts Festival should not be missed. Check out our fabulous live musical entertainment – all local and amazing.
URL:https://19thstreetband.com/event/bethesda-row-arts-festival-2/
LOCATION:Bethesda Row\, 4841 Bethesda Ave\, Bethesda\, MD\, 20814\, United States
ATTACH;FMTTYPE=image/jpeg:https://19thstreetband.com/wp-content/uploads/2018/09/239F2D15-C1F3-4390-8D6E-B1968E7517DB.jpeg
END:VEVENT
BEGIN:VEVENT
DTSTART;TZID=America/New_York:20181012T210000
DTEND;TZID=America/New_York:20181013T010000
DTSTAMP:20260420T232354
CREATED:20180913T013753Z
LAST-MODIFIED:20180913T013753Z
UID:10254-1539378000-1539392400@19thstreetband.com
SUMMARY:Daniel O'Connell's Irish Bar & Restaurant
DESCRIPTION:
URL:https://19thstreetband.com/event/daniel-oconnells-irish-bar-restaurant/
LOCATION:Daniel O’Connell’s Restaurant & Bar\, 112 King St\, Alexandria\, VA\, 22314\, United States
CATEGORIES:Show
ATTACH;FMTTYPE=image/jpeg:https://19thstreetband.com/wp-content/uploads/2018/02/ml-pic-5.jpg
END:VEVENT
BEGIN:VEVENT
DTSTART;TZID=America/New_York:20181011T203000
DTEND;TZID=America/New_York:20181012T003000
DTSTAMP:20260420T232354
CREATED:20180913T013452Z
LAST-MODIFIED:20180913T013452Z
UID:10252-1539289800-1539304200@19thstreetband.com
SUMMARY:JV's Restaurant
DESCRIPTION:Join us at the historic JV’s Restaurant in Falls Church\, VA for a great night of live music & dancing!!
URL:https://19thstreetband.com/event/jvs-restaurant-11/
LOCATION:JV’s Restaurant\, 6666  Arlington Blvd.\, Falls Church\, VA\, 22042\, United States
CATEGORIES:Show
ATTACH;FMTTYPE=image/jpeg:https://19thstreetband.com/wp-content/uploads/2017/09/jvs-2-scaled.jpg
END:VEVENT
BEGIN:VEVENT
DTSTART;TZID=America/New_York:20181006T140000
DTEND;TZID=America/New_York:20181006T160000
DTSTAMP:20260420T232354
CREATED:20180913T013123Z
LAST-MODIFIED:20180913T013123Z
UID:10248-1538834400-1538841600@19thstreetband.com
SUMMARY:Taste of Bethesda
DESCRIPTION:Taste of Bethesda – Catch us from 2-4pm on the Cordell Stage!!\n\n\n\n\n\n\n\n\nBethesda’s famous food and music festival brings 60 restaurants and five stages\nof entertainment to Bethesda’s Woodmont Triangle. Each year\, more than 40\,000\nattendees sample the delicious restaurants\, enjoy the live entertainment and visit\nthe kid’s corner for face painting and arts & crafts.  The festival is held from\n11am – 4pm and please note that ticket sales end at 3:30pm.\nTaste of Bethesda is held rain or shine.
URL:https://19thstreetband.com/event/taste-of-bethesda/
LOCATION:Taste of Bethesda\, Cordell Ave\, Bethesda\, MD\, 20814\, United States
ATTACH;FMTTYPE=image/jpeg:https://19thstreetband.com/wp-content/uploads/2018/09/ward-park-2018.jpg
END:VEVENT
BEGIN:VEVENT
DTSTART;TZID=America/New_York:20181005T213000
DTEND;TZID=America/New_York:20181006T013000
DTSTAMP:20260420T232354
CREATED:20180913T012133Z
LAST-MODIFIED:20180913T012133Z
UID:10246-1538775000-1538789400@19thstreetband.com
SUMMARY:Flanagan's Harp & Fiddle
DESCRIPTION:
URL:https://19thstreetband.com/event/flanagans-harp-fiddle-21/
LOCATION:Flanagan’s Harp & Fiddle\, 4844 Cordell Ave\, Bethesda\, MD\, 20814\, United States
CATEGORIES:Show
ATTACH;FMTTYPE=image/jpeg:https://19thstreetband.com/wp-content/uploads/2018/02/ml-pic-2-2017_11_30-18_34_59-UTC.jpg
END:VEVENT
BEGIN:VEVENT
DTSTART;TZID=America/New_York:20181004T190000
DTEND;TZID=America/New_York:20181004T220000
DTSTAMP:20260420T232354
CREATED:20180913T011825Z
LAST-MODIFIED:20180913T011825Z
UID:10244-1538679600-1538690400@19thstreetband.com
SUMMARY:O'Connell's in Alexandria
DESCRIPTION:
URL:https://19thstreetband.com/event/oconnells-in-alexandria-6/
LOCATION:Daniel O’Connell’s Restaurant & Bar\, 112 King St\, Alexandria\, VA\, 22314\, United States
CATEGORIES:Show
ATTACH;FMTTYPE=image/png:https://19thstreetband.com/wp-content/uploads/2018/02/Screen-Shot-2018-02-21-at-22.45.40-e1519271443687.png
END:VEVENT
BEGIN:VEVENT
DTSTART;TZID=America/New_York:20181003T200000
DTEND;TZID=America/New_York:20181003T230000
DTSTAMP:20260420T232354
CREATED:20180913T011441Z
LAST-MODIFIED:20180913T011441Z
UID:10242-1538596800-1538607600@19thstreetband.com
SUMMARY:The Irish Inn
DESCRIPTION:
URL:https://19thstreetband.com/event/the-irish-inn-33/
LOCATION:Irish Inn\, 6119 Tulane Ave\, Glen Echo\, MD\, 20812\, United States
CATEGORIES:Show
ATTACH;FMTTYPE=image/jpeg:https://19thstreetband.com/wp-content/uploads/2017/11/Screen-Shot-2017-11-23-at-8.32.28-AM.jpg
END:VEVENT
BEGIN:VEVENT
DTSTART;TZID=America/New_York:20180929T113000
DTEND;TZID=America/New_York:20180929T130000
DTSTAMP:20260420T232354
CREATED:20180824T045935Z
LAST-MODIFIED:20180824T045935Z
UID:10164-1538220600-1538226000@19thstreetband.com
SUMMARY:Parktoberfest 2018 - Mount Vernon Marketplace
DESCRIPTION:It’s the 3rd annual Parktoberfest and we’re back once again to celebrate Mt. Vernon and downtown Baltimore with food\, drinks live music\, shopping and more! \nJoin us for a fun filled day and evening in support of local businesses\, artists\, vendors and musicians. \nLive Music Lineup:\n11:30AM – 1PM: \n19th Street Band \n1:15PM – 2:45PM\nShelby Blondell and Her Band \n3PM – 4:30PM\nUltrafaux \n4:45 PM – 6:15PM\nYo No Say \n6:30 – 8PM\nFIVES \n8PM – 10PM\nThe Boh-tini Brothers – A Live Music Entertainment Company
URL:https://19thstreetband.com/event/parktoberfest-2018-mount-vernon-marketplace/
LOCATION:Mount Vernon Marketplace\, 500 Park Ave\, Baltimore\, MD\, 21201\, United States
END:VEVENT
BEGIN:VEVENT
DTSTART;TZID=America/New_York:20180928T190000
DTEND;TZID=America/New_York:20180928T220000
DTSTAMP:20260420T232354
CREATED:20180824T045016Z
LAST-MODIFIED:20180824T045016Z
UID:10161-1538161200-1538172000@19thstreetband.com
SUMMARY:Days End Farm Horse Rescue Fall Festival
DESCRIPTION:A concert NOT to be missed! \nThe 19th Street Band performs\, Hops For Horses Beer Garden Opens and BBQ from The Town Grill At Fosters Country Store will be served! \nJoin DEFHR and The 19th Street Band (https://19thstreetband.com/) for our Fall Festival Kick-Off Concert and the official opening DEFHR’s Hops for Horses Beer Garden! \nEquine Ambassadors\, Officer Barney\, and his deputy\, Nugget\, will be your bouncers for the evening and available for photo ops\, while the smoky smells of the Town Grill’s (http://www.towngrillfosters.com/) amazing BBQ waft through the air getting your taste buds going. The Hops for Horses Beer Garden will be serving seasonal brews – paired perfectly with good music and good food. Twilight tours of the farm will also be offered so you can see firsthand the great work DEFHR does. \nYou WILL NOT want to miss this concert under the stars at one of Maryland’s premier horse farms. \nGates open at 6:00pm\, admission is $5 per person – parking is on site and 1st come 1st serve until lots are full. Music starts at 7:00pm. This is a community event and we want everyone to come out and enjoy good music\, good food\, good company and maybe a little bit of corn hole – all for the horses! Brew\, Parking and a portion of Food proceeds go back to DEFHR’s rehabilitation fund. This is a cash only event – ATM will be on site. For more information visit: www.deflr.org
URL:https://19thstreetband.com/event/days-end-farm-horse-rescue-fall-festival/
LOCATION:Days End Farm Horse Rescue\, 1372 Woodbine Rd\, Woodbine\, MD\, 21797\, United States
END:VEVENT
BEGIN:VEVENT
DTSTART;TZID=America/New_York:20180927T210000
DTEND;TZID=America/New_York:20180928T000000
DTSTAMP:20260420T232354
CREATED:20180824T043745Z
LAST-MODIFIED:20180824T043745Z
UID:10159-1538082000-1538092800@19thstreetband.com
SUMMARY:Samuel Beckett's Irish Gastropub
DESCRIPTION:
URL:https://19thstreetband.com/event/samuel-becketts-irish-gastropub-7/
LOCATION:Samuel Beckett’s\, 2800 S Randolph St #110\, Arlington\, VA\, 22206\, United States
ATTACH;FMTTYPE=image/jpeg:https://19thstreetband.com/wp-content/uploads/2018/02/ml-pic-5.jpg
END:VEVENT
BEGIN:VEVENT
DTSTART;TZID=America/New_York:20180926T190000
DTEND;TZID=America/New_York:20180926T233000
DTSTAMP:20260420T232354
CREATED:20180824T043218Z
LAST-MODIFIED:20180824T043218Z
UID:10157-1537988400-1538004600@19thstreetband.com
SUMMARY:Gypsy Sally's with The Way Down Wanderers
DESCRIPTION:DOORS 7PM\nSHOW 8PM\nTIX: $12\nCatch us at Gypsy Sally’s as we open for The Way Down Wanderers – an alternative folk / Americana band from Illinois\, equal parts fast-paced and soulful!
URL:https://19thstreetband.com/event/gypsy-sallys-with-the-way-down-wanderers/
LOCATION:Gypsy Sally’s\, 3401 K Street NW\, Washington\, DC\, 20007\, United States
ATTACH;FMTTYPE=image/png:https://19thstreetband.com/wp-content/uploads/2018/03/slide3A.png
END:VEVENT
BEGIN:VEVENT
DTSTART;TZID=America/New_York:20180922T173000
DTEND;TZID=America/New_York:20180922T183000
DTSTAMP:20260420T232354
CREATED:20180824T041316Z
LAST-MODIFIED:20180824T041316Z
UID:10153-1537637400-1537641000@19thstreetband.com
SUMMARY:Hometown Get Down Music Festival 2018
DESCRIPTION:THE HOMETOWN GET DOWN \nSept. 21 – 22\, 2018​ \nThe Hometown Get Down\, is an annual music and arts festival. \nThe main purpose of The Hometown Get Down is to help families in crisis through promoting the arts. \nEvent proceeds as always will go to benefit: \nThe Bernie House. The mission of The Bernie House is to “provide a safe home without violence for families in crisis\,” \nThe Bernie House is a transitional housing program for families fleeing domestic violence. The program house is located in Silver Spring\, MD and aids families in need from the metropolitan area. \nTo learn more about the charity please visit www.theberniehouse.org \nWith the support of party goers like YOU we are proud to announce that last year\, with your\, The Bernie House was able to pay off its first program house and is ready to open its second house! \nPlease join us September 21 & 22\, 2018 as we party with a purpose! \n  \nLIVE MUSIC\, ART\, FOOD\, DRINK\, CAMPING and MORE. \nLocated at: 11820 Hawkes Rd. Clarksburg\, MD. \n  \nTicket prices: \n1 Day $35 (one day camping additional $10 at the gate) \n2 Days is $55 (includes camping) \nTICKET LINK: https://www.hometowngetdown.org/ \nAll TICKETS PURCHASED ONLINE WILL BE READY FOR PICK UP AT FRONT ENTRANCE ON EVENT DAYS. \n  \nValid ID will be required to pick up event tickets. \nAfter 9/19/18 event tickets must be purchased at event entrance. \nSEE YOU AT THE GET DOWN! \nGATES OPEN 3PM on FRIDAY. \nTHE 19TH STREET BAND PERFORMS at 5:30PM on SATURDAY!!!
URL:https://19thstreetband.com/event/hometown-get-down-music-festival-2018/
LOCATION:Hometown Get Down\, 11820 Hawkes Rd\, Clarksburg\, MD\, 20871\, United States
END:VEVENT
BEGIN:VEVENT
DTSTART;TZID=America/New_York:20180921T213000
DTEND;TZID=America/New_York:20180922T003000
DTSTAMP:20260420T232354
CREATED:20180905T212447Z
LAST-MODIFIED:20180906T231110Z
UID:10206-1537565400-1537576200@19thstreetband.com
SUMMARY:The Avenue DC
DESCRIPTION:Come on by a new bar called The Avenue\, located on Connecticut Ave NW in DC for a great Friday night show!
URL:https://19thstreetband.com/event/the-avenue-dc/
LOCATION:The Avenue\, 5540 Connecticut Ave\, Washington\, DC\, 20015\, United States
ATTACH;FMTTYPE=image/png:https://19thstreetband.com/wp-content/uploads/2018/03/slide3.png
END:VEVENT
BEGIN:VEVENT
DTSTART;TZID=America/New_York:20180920T190000
DTEND;TZID=America/New_York:20180921T000000
DTSTAMP:20260420T232354
CREATED:20180824T035632Z
LAST-MODIFIED:20180824T035632Z
UID:10151-1537470000-1537488000@19thstreetband.com
SUMMARY:The 8x10 - Third Thursday Bluegrass
DESCRIPTION:Join us for a special night of music at The 8×10 in Baltimore. It’s our first “Third Thursday Bluegrass” Night and we’re excited to be performing along with the Kitchen Dwellers and The Old Part of Town! \nTICKETS: https://www.mt.cm/third-thursday-bluegrasskitchen-dwellers-19th-street-bandthe-old-part-town
URL:https://19thstreetband.com/event/the-8x10-third-thursday-bluegrass/
LOCATION:The 8×10\, 10 East Cross St\, Baltimore\, MD\, 21230\, United States
ATTACH;FMTTYPE=image/jpeg:https://19thstreetband.com/wp-content/uploads/2018/05/IMG_1803-scaled.jpg
END:VEVENT
BEGIN:VEVENT
DTSTART;TZID=America/New_York:20180919T200000
DTEND;TZID=America/New_York:20180919T230000
DTSTAMP:20260420T232354
CREATED:20180824T033335Z
LAST-MODIFIED:20180824T033335Z
UID:10149-1537387200-1537398000@19thstreetband.com
SUMMARY:Lahinch Tavern & Grill
DESCRIPTION:
URL:https://19thstreetband.com/event/lahinch-tavern-grill-28/
LOCATION:Lahinch Tavern & Grill\, 7747 Tuckerman Lane\, Potomac\, MD\, 20854\, United States
ATTACH;FMTTYPE=image/png:https://19thstreetband.com/wp-content/uploads/2018/01/Screen-Shot-2018-01-07-at-14.20.45-e1515425092109.png
END:VEVENT
BEGIN:VEVENT
DTSTART;TZID=America/New_York:20180918T193000
DTEND;TZID=America/New_York:20180918T223000
DTSTAMP:20260420T232354
CREATED:20180824T032458Z
LAST-MODIFIED:20180824T032458Z
UID:10147-1537299000-1537309800@19thstreetband.com
SUMMARY:Ireland's Four Provinces
DESCRIPTION:
URL:https://19thstreetband.com/event/irelands-four-provinces-15/
LOCATION:Ireland’s Four Provinces\, 105 W Broad St\, Ste 1\, Falls Church\, VA\, 22046\, United States
ATTACH;FMTTYPE=image/jpeg:https://19thstreetband.com/wp-content/uploads/2018/06/patio-pic.jpg
END:VEVENT
BEGIN:VEVENT
DTSTART;TZID=America/New_York:20180915T121500
DTEND;TZID=America/New_York:20180915T131500
DTSTAMP:20260420T232354
CREATED:20180823T192303Z
LAST-MODIFIED:20180823T192303Z
UID:10140-1537013700-1537017300@19thstreetband.com
SUMMARY:Falls Church Festival
DESCRIPTION:Saturday\, September 15\, 2018\n10 a.m. to 4 p.m. – We play 12:15-1:15pm!\nCommunity Center Parking Lot (223 Little Falls St.) and Cherry Hill Park (312 Park Ave.)\n\nThis beloved annual event features include live entertainment\, pony rides\, children’s amusements\, crafters\, businesses and civic organizations\, a Beer Garden\, and cuisine from city kitchens.\nAdmission is free to the public\, but amusement rides\, taste tickets\, and beer require the purchase of one or more tickets.\nThe event is held rain or shine! \nBeer Garden \nThe Beer Garden was a hit last year\, so it’s back! It will once again be located near the entertainment stage and serve a variety of beers from 11:30 A.M. to 3:30 P.M. Anyone can enter the Beer Garden\, but only those with a valid ID 21+ can purchase and consume alcohol. \nProceeds from the Beer Garden will benefit a local non-profit to be announced soon. \nRestaurants\nWe will have a full roster of restaurants ready to satisfy your every craving with small bites of amazing food. Tickets are $3 per “taste” at each restaurant (some tastes may require two tickets). Event goers can purchase individual taste tickets or 10 taste tickets for $25. \nEntertainment Sponsored by ROCK STAR Realty\nTHE 19TH STREET BAND WILL PERFORM FROM 12:15-1:15PM!!!!
URL:https://19thstreetband.com/event/falls-church-festival/
LOCATION:Falls Church Festival\, 223 Little Falls St\, Falls Church\, VA\, 22046\, United States
END:VEVENT
BEGIN:VEVENT
DTSTART;TZID=America/New_York:20180914T213000
DTEND;TZID=America/New_York:20180915T013000
DTSTAMP:20260420T232354
CREATED:20180823T190654Z
LAST-MODIFIED:20180823T190654Z
UID:10138-1536960600-1536975000@19thstreetband.com
SUMMARY:Flanagan's Harp & Fiddle
DESCRIPTION:
URL:https://19thstreetband.com/event/flanagans-harp-fiddle-20/
LOCATION:Flanagan’s Harp & Fiddle\, 4844 Cordell Ave\, Bethesda\, MD\, 20814\, United States
ATTACH;FMTTYPE=image/jpeg:https://19thstreetband.com/wp-content/uploads/2018/04/ml-pic-3.jpg
END:VEVENT
BEGIN:VEVENT
DTSTART;TZID=America/New_York:20180913T203000
DTEND;TZID=America/New_York:20180914T003000
DTSTAMP:20260420T232354
CREATED:20180823T190437Z
LAST-MODIFIED:20180823T190437Z
UID:10136-1536870600-1536885000@19thstreetband.com
SUMMARY:JV's Restaurant
DESCRIPTION:
URL:https://19thstreetband.com/event/jvs-restaurant-10/
LOCATION:JV’s Restaurant\, 6666  Arlington Blvd.\, Falls Church\, VA\, 22042\, United States
ATTACH;FMTTYPE=image/jpeg:https://19thstreetband.com/wp-content/uploads/2017/09/jvs-2-scaled.jpg
END:VEVENT
BEGIN:VEVENT
DTSTART;TZID=America/New_York:20180907T180000
DTEND;TZID=America/New_York:20180907T213000
DTSTAMP:20260420T232354
CREATED:20180823T190212Z
LAST-MODIFIED:20180823T190212Z
UID:10131-1536343200-1536355800@19thstreetband.com
SUMMARY:Boots and Bow Ties Event to benefit Harford Family House
DESCRIPTION:Join us for a casually elegant evening in the country to benefit Harford Family House.  \nHARFORD FAMILY HOUSE: \nMission: Through housing\, support\, and resources\, Harford Family House\, Inc. helps families and unaccompanied young adults who are experiencing homelessness transition into stable/permanent housing. \nVision: Harford Family House\, Inc. is committed to ending homelessness for families with children and unaccompanied young adults in Harford County\, MD. \nTICKETS: https://interland3.donorperfect.net/weblink/weblink.aspx?name=harfordfh&id=49 \nVIP Beer & Chocolate Pairing: 6-6:30pm | Main Event: 6:30-9:30pm \nFalling Branch Craft Beer | Wine Bar | Bourbon Bar | Delicious food by Laurrapin & Pairings Bistro | Dessert by Hawks Hill Creamery | Live music by The 19th Street Band
URL:https://19thstreetband.com/event/boots-and-bow-ties-event-to-benefit-harford-family-house/
LOCATION:Falling Branch Brewery\, 825 Highland Rd\, Street\, MD\, 21154\, United States
END:VEVENT
BEGIN:VEVENT
DTSTART;TZID=America/New_York:20180905T200000
DTEND;TZID=America/New_York:20180905T230000
DTSTAMP:20260420T232354
CREATED:20180823T184159Z
LAST-MODIFIED:20180823T184159Z
UID:10129-1536177600-1536188400@19thstreetband.com
SUMMARY:The Irish Inn
DESCRIPTION:
URL:https://19thstreetband.com/event/the-irish-inn-32/
LOCATION:Irish Inn\, 6119 Tulane Ave\, Glen Echo\, MD\, 20812\, United States
ATTACH;FMTTYPE=image/jpeg:https://19thstreetband.com/wp-content/uploads/2017/11/Screen-Shot-2017-11-23-at-8.32.28-AM.jpg
END:VEVENT
BEGIN:VEVENT
DTSTART;TZID=America/New_York:20180902T140000
DTEND;TZID=America/New_York:20180902T173000
DTSTAMP:20260420T232354
CREATED:20180823T180942Z
LAST-MODIFIED:20180823T180942Z
UID:10127-1535896800-1535909400@19thstreetband.com
SUMMARY:Starboard Dewey Beach
DESCRIPTION:Enjoy the Labor Day long weekend with us for one more Sunday Funday at The Starboard in Dewey Beach! Deck party at 2pm!
URL:https://19thstreetband.com/event/starboard-dewey-beach/
LOCATION:The Starboard\, 2009 Coastal Hwy\, Dewey Beach\, DE\, 19971\, United States
END:VEVENT
END:VCALENDAR