BEGIN:VCALENDAR
VERSION:2.0
PRODID:-//The 19th Street Band - ECPv6.15.20//NONSGML v1.0//EN
CALSCALE:GREGORIAN
METHOD:PUBLISH
X-WR-CALNAME:The 19th Street Band
X-ORIGINAL-URL:https://19thstreetband.com
X-WR-CALDESC:Events for The 19th Street Band
REFRESH-INTERVAL;VALUE=DURATION:PT1H
X-Robots-Tag:noindex
X-PUBLISHED-TTL:PT1H
BEGIN:VTIMEZONE
TZID:America/New_York
BEGIN:DAYLIGHT
TZOFFSETFROM:-0500
TZOFFSETTO:-0400
TZNAME:EDT
DTSTART:20180311T070000
END:DAYLIGHT
BEGIN:STANDARD
TZOFFSETFROM:-0400
TZOFFSETTO:-0500
TZNAME:EST
DTSTART:20181104T060000
END:STANDARD
BEGIN:DAYLIGHT
TZOFFSETFROM:-0500
TZOFFSETTO:-0400
TZNAME:EDT
DTSTART:20190310T070000
END:DAYLIGHT
BEGIN:STANDARD
TZOFFSETFROM:-0400
TZOFFSETTO:-0500
TZNAME:EST
DTSTART:20191103T060000
END:STANDARD
BEGIN:DAYLIGHT
TZOFFSETFROM:-0500
TZOFFSETTO:-0400
TZNAME:EDT
DTSTART:20200308T070000
END:DAYLIGHT
BEGIN:STANDARD
TZOFFSETFROM:-0400
TZOFFSETTO:-0500
TZNAME:EST
DTSTART:20201101T060000
END:STANDARD
END:VTIMEZONE
BEGIN:VEVENT
DTSTART;TZID=America/New_York:20190605T200000
DTEND;TZID=America/New_York:20190605T230000
DTSTAMP:20260422T180211
CREATED:20190507T051352Z
LAST-MODIFIED:20190507T051352Z
UID:11339-1559764800-1559775600@19thstreetband.com
SUMMARY:The Irish Inn
DESCRIPTION:
URL:https://19thstreetband.com/event/the-irish-inn-40/
LOCATION:Irish Inn\, 6119 Tulane Ave\, Glen Echo\, MD\, 20812\, United States
CATEGORIES:Show
END:VEVENT
BEGIN:VEVENT
DTSTART;TZID=America/New_York:20190602T140000
DTEND;TZID=America/New_York:20190602T170000
DTSTAMP:20260422T180211
CREATED:20190507T051126Z
LAST-MODIFIED:20190507T051126Z
UID:11337-1559484000-1559494800@19thstreetband.com
SUMMARY:The Starboard
DESCRIPTION:
URL:https://19thstreetband.com/event/the-starboard-4/
LOCATION:The Starboard\, 2009 Coastal Hwy\, Dewey Beach\, DE\, 19971\, United States
CATEGORIES:Show
ATTACH;FMTTYPE=image/jpeg:https://19thstreetband.com/wp-content/uploads/2019/02/starboard-gcfl-4.jpg
END:VEVENT
BEGIN:VEVENT
DTSTART;TZID=America/New_York:20190601T130000
DTEND;TZID=America/New_York:20190601T134500
DTSTAMP:20260422T180211
CREATED:20190507T050822Z
LAST-MODIFIED:20190507T050822Z
UID:11334-1559394000-1559396700@19thstreetband.com
SUMMARY:Washington Folk Festival
DESCRIPTION:Catch our set at the 39th Annual Washington Folk Festival from 1-1:45pm!
URL:https://19thstreetband.com/event/washington-folk-festival-2/
LOCATION:Glen Echo Park\, 7300 MacArthur Blvd\, Glen Echo\, MD\, 20812\, United States
END:VEVENT
BEGIN:VEVENT
DTSTART;TZID=America/New_York:20190531T210000
DTEND;TZID=America/New_York:20190601T000000
DTSTAMP:20260422T180211
CREATED:20190507T045355Z
LAST-MODIFIED:20190507T045355Z
UID:11331-1559336400-1559347200@19thstreetband.com
SUMMARY:Shaw's Tavern
DESCRIPTION:
URL:https://19thstreetband.com/event/shaws-tavern-9/
LOCATION:Shaw’s Tavern\, 520 Florida Ave NW\, Washington\, DC\, 20001\, United States
CATEGORIES:Show
END:VEVENT
BEGIN:VEVENT
DTSTART;TZID=America/New_York:20190529T200000
DTEND;TZID=America/New_York:20190529T230000
DTSTAMP:20260422T180211
CREATED:20190501T214659Z
LAST-MODIFIED:20190501T214659Z
UID:11300-1559160000-1559170800@19thstreetband.com
SUMMARY:Lahinch Tavern & Grill
DESCRIPTION:
URL:https://19thstreetband.com/event/lahinch-tavern-grill-35/
LOCATION:Lahinch Tavern & Grill\, 7747 Tuckerman Lane\, Potomac\, MD\, 20854\, United States
CATEGORIES:Show
ATTACH;FMTTYPE=image/jpeg:https://19thstreetband.com/wp-content/uploads/2018/11/lahinch-tavern.jpg
END:VEVENT
BEGIN:VEVENT
DTSTART;TZID=America/New_York:20190525T214500
DTEND;TZID=America/New_York:20190525T234500
DTSTAMP:20260422T180211
CREATED:20190501T214445Z
LAST-MODIFIED:20190501T214445Z
UID:11298-1558820700-1558827900@19thstreetband.com
SUMMARY:Mango's Bethany Beach
DESCRIPTION:
URL:https://19thstreetband.com/event/mangos-bethany-beach-7/
LOCATION:Mango’s Bethany Beach\, 97 Garfield Pkwy\, Bethany Beach\, DE\, 19930\, United States
CATEGORIES:Show
ATTACH;FMTTYPE=image/jpeg:https://19thstreetband.com/wp-content/uploads/2018/05/IMG_0044.jpg
END:VEVENT
BEGIN:VEVENT
DTSTART;TZID=America/New_York:20190524T180000
DTEND;TZID=America/New_York:20190524T220000
DTSTAMP:20260422T180211
CREATED:20190501T214222Z
LAST-MODIFIED:20190501T214222Z
UID:11296-1558720800-1558735200@19thstreetband.com
SUMMARY:Castaways Tiki Bar
DESCRIPTION:
URL:https://19thstreetband.com/event/castaways-tiki-bar-5/
LOCATION:Castaways\, 12550 Eagles Nest Rd\, Berlin\, MD\, 21811\, United States
CATEGORIES:Show
END:VEVENT
BEGIN:VEVENT
DTSTART;TZID=America/New_York:20190515T180000
DTEND;TZID=America/New_York:20190515T210000
DTSTAMP:20260422T180211
CREATED:20190501T213906Z
LAST-MODIFIED:20190501T213906Z
UID:11291-1557943200-1557954000@19thstreetband.com
SUMMARY:Best of Bethesda Party
DESCRIPTION:Join us on Wednesday\, May 15\, 2019\, for our 6th annual Best of Bethesda party. The event will be held at the Bethesda North Marriott Conference Center\, and will feature food from 20+ Best of Bethesda-winning restaurants\, live music from The 19th Street Band\, specialty cocktails and more. Celebrate the best the Bethesda area has to offer! \nhttps://www.eventbrite.com/e/2019-best-of-bethesda-party-tickets-56136333284  \nJoin us for a night of delicious food\, drinks and live music.\nAt Bethesda Magazine’s Best of Bethesda Party get ready to: \n\nTaste food from Best of Bethesda-winning restaurants\nDrink specialty cocktails\, wine and beer\nListen to live music by the 19th Street Band\nSocialize with other Bethesda-area residents\n\nParticipating Restaurants: \nAll Set Restaurant & Bar\nBlack’s Bar & Kitchen\nBotanero\nGringos & Mariachis\nJaleo\nJennyCakes Bakery\nMatchbox Vintage Pizza Bistro\nMoCo’s Founding Farmers\nMon Ami Gabi\nMussel Bar & Grille\nOlazzo\nOwen’s Ordinary\nRaku\nRuth’s Chris Steak House\nSeasons 52\nSilver New American Brasserie\nStella Barra\nSummer House Santa Monica\nThe Grilled Oyster Co.\nWild Tomato\n…and more to come
URL:https://19thstreetband.com/event/best-of-bethesda-party/
LOCATION:Bethesda North Marriott Conference Center\, 5701 Marinelli Rd\, Rockville\, MD\, 20852\, United States
CATEGORIES:Show
END:VEVENT
BEGIN:VEVENT
DTSTART;TZID=America/New_York:20190511T200000
DTEND;TZID=America/New_York:20190511T220000
DTSTAMP:20260422T180211
CREATED:20190501T211723Z
LAST-MODIFIED:20190501T212036Z
UID:11286-1557604800-1557612000@19thstreetband.com
SUMMARY:The Soundry
DESCRIPTION:An Evening With The 19th Street Band at The Soundry in Columbia\, MD! \nDoors 6:30pm | Show 8pm
URL:https://19thstreetband.com/event/the-soundry-4/
LOCATION:The Soundry\, 10221 Wincopin Circle\, Columbia\, MD\, 21044\, United States
CATEGORIES:Show
ATTACH;FMTTYPE=image/jpeg:https://19thstreetband.com/wp-content/uploads/2019/05/promo-pic-2019-scaled.jpg
END:VEVENT
BEGIN:VEVENT
DTSTART;TZID=America/New_York:20190510T170000
DTEND;TZID=America/New_York:20190510T210000
DTSTAMP:20260422T180211
CREATED:20190423T055504Z
LAST-MODIFIED:20190423T055504Z
UID:11258-1557507600-1557522000@19thstreetband.com
SUMMARY:Seacrets OC
DESCRIPTION:
URL:https://19thstreetband.com/event/seacrets-oc-4/
LOCATION:Seacrets Jamaica USA\, 117 49th street\, Ocean City\, MD\, 21842\, United States
CATEGORIES:Show
ATTACH;FMTTYPE=image/jpeg:https://19thstreetband.com/wp-content/uploads/2016/10/seacrets-3-e1490782741189.jpg
END:VEVENT
BEGIN:VEVENT
DTSTART;TZID=America/New_York:20190509T170000
DTEND;TZID=America/New_York:20190509T210000
DTSTAMP:20260422T180211
CREATED:20190423T055259Z
LAST-MODIFIED:20190423T055259Z
UID:11255-1557421200-1557435600@19thstreetband.com
SUMMARY:Nick's Fish House
DESCRIPTION:Catch us at Nick’s Fish House for some Happy Hours!
URL:https://19thstreetband.com/event/nicks-fish-house/
LOCATION:Nick’s Fish House\, 2600 Insulator Dr\, Baltimore\, MD\, 21230\, United States
CATEGORIES:Show
ATTACH;FMTTYPE=image/jpeg:https://19thstreetband.com/wp-content/uploads/2019/04/IMG_7125.jpg
END:VEVENT
BEGIN:VEVENT
DTSTART;TZID=America/New_York:20190508T203000
DTEND;TZID=America/New_York:20190509T003000
DTSTAMP:20260422T180211
CREATED:20190423T054945Z
LAST-MODIFIED:20190423T054945Z
UID:11253-1557347400-1557361800@19thstreetband.com
SUMMARY:JV's Restaurant
DESCRIPTION:
URL:https://19thstreetband.com/event/jvs-restaurant-17/
LOCATION:JV’s Restaurant\, 6666  Arlington Blvd.\, Falls Church\, VA\, 22042\, United States
CATEGORIES:Show
ATTACH;FMTTYPE=image/jpeg:https://19thstreetband.com/wp-content/uploads/2019/03/jvs.jpg
END:VEVENT
BEGIN:VEVENT
DTSTART;TZID=America/New_York:20190503T170000
DTEND;TZID=America/New_York:20190503T200000
DTSTAMP:20260422T180211
CREATED:20190423T054649Z
LAST-MODIFIED:20190423T054649Z
UID:11249-1556902800-1556913600@19thstreetband.com
SUMMARY:Harbor Point Summer Series
DESCRIPTION:“Fun on the Waterfront” at Harbor Point Central Plaza in Baltimore! \n5-8pm
URL:https://19thstreetband.com/event/harbor-point-summer-series/
LOCATION:Harbor Point Central Plaza\, 1310 Point St\, Baltimore\, MD\, 21231\, United States
CATEGORIES:Show
END:VEVENT
BEGIN:VEVENT
DTSTART;TZID=America/New_York:20190501T200000
DTEND;TZID=America/New_York:20190501T230000
DTSTAMP:20260422T180211
CREATED:20190423T053810Z
LAST-MODIFIED:20190423T053810Z
UID:11247-1556740800-1556751600@19thstreetband.com
SUMMARY:The Irish Inn
DESCRIPTION:
URL:https://19thstreetband.com/event/the-irish-inn-39/
LOCATION:Irish Inn\, 6119 Tulane Ave\, Glen Echo\, MD\, 20812\, United States
CATEGORIES:Show
END:VEVENT
BEGIN:VEVENT
DTSTART;TZID=America/New_York:20190430T173000
DTEND;TZID=America/New_York:20190430T193000
DTSTAMP:20260422T180211
CREATED:20190423T053538Z
LAST-MODIFIED:20190423T053538Z
UID:11245-1556645400-1556652600@19thstreetband.com
SUMMARY:The Bullpen @ Nats Stadium
DESCRIPTION:Pregame Party at The Bullpen \n5:30-7:30pm
URL:https://19thstreetband.com/event/the-bullpen-nats-stadium/
LOCATION:The Bullpen\, 1299 Half St. SE\, Washington\, DC\, 20003\, United States
CATEGORIES:Show
ATTACH;FMTTYPE=image/jpeg:https://19thstreetband.com/wp-content/uploads/2019/03/7C6F1CE2-9789-46EA-BB3B-1D2E8DF74DF7-scaled.jpeg
END:VEVENT
BEGIN:VEVENT
DTSTART;TZID=America/New_York:20190427T100000
DTEND;TZID=America/New_York:20190427T170000
DTSTAMP:20260422T180211
CREATED:20190423T053143Z
LAST-MODIFIED:20190423T053143Z
UID:11243-1556359200-1556384400@19thstreetband.com
SUMMARY:Charm City Bluegrass Festival
DESCRIPTION:So excited to return to the 7th Annual Charm City Bluegrass Festival at Druid Hill Park! \nCatch us in the Tent Stage for TWO sets on Saturday: 10:45-11:30am & 3:15-3:45pm.
URL:https://19thstreetband.com/event/charm-city-bluegrass-festival-2/
LOCATION:Druid Hill Park\, 3100 Swann Dr\, Baltimore\, MD\, 21217\, United States
ATTACH;FMTTYPE=image/jpeg:https://19thstreetband.com/wp-content/uploads/2019/02/charm-city-3.jpg
END:VEVENT
BEGIN:VEVENT
DTSTART;TZID=America/New_York:20190425T210000
DTEND;TZID=America/New_York:20190426T003000
DTSTAMP:20260422T180211
CREATED:20190325T053851Z
LAST-MODIFIED:20190325T053851Z
UID:11224-1556226000-1556238600@19thstreetband.com
SUMMARY:Samuel Beckett's Irish Gastropub
DESCRIPTION:
URL:https://19thstreetband.com/event/samuel-becketts-irish-gastropub-8/
LOCATION:Samuel Beckett’s\, 2800 S Randolph St #110\, Arlington\, VA\, 22206\, United States
CATEGORIES:Show
END:VEVENT
BEGIN:VEVENT
DTSTART;TZID=America/New_York:20190424T203000
DTEND;TZID=America/New_York:20190425T003000
DTSTAMP:20260422T180211
CREATED:20190325T053638Z
LAST-MODIFIED:20190325T053638Z
UID:11220-1556137800-1556152200@19thstreetband.com
SUMMARY:JV's Restaurant
DESCRIPTION:
URL:https://19thstreetband.com/event/jvs-restaurant-16/
LOCATION:JV’s Restaurant\, 6666  Arlington Blvd.\, Falls Church\, VA\, 22042\, United States
CATEGORIES:Show
ATTACH;FMTTYPE=image/jpeg:https://19thstreetband.com/wp-content/uploads/2019/03/jvs.jpg
END:VEVENT
BEGIN:VEVENT
DTSTART;TZID=America/New_York:20190419T213000
DTEND;TZID=America/New_York:20190420T013000
DTSTAMP:20260422T180211
CREATED:20190325T053249Z
LAST-MODIFIED:20190325T053249Z
UID:11218-1555709400-1555723800@19thstreetband.com
SUMMARY:Daniel O'Connell's Irish Restaurant & Bar
DESCRIPTION:
URL:https://19thstreetband.com/event/daniel-oconnells-irish-restaurant-bar-3/
LOCATION:Daniel O’Connell’s Restaurant & Bar\, 112 King St\, Alexandria\, VA\, 22314\, United States
CATEGORIES:Show
ATTACH;FMTTYPE=image/jpeg:https://19thstreetband.com/wp-content/uploads/2018/10/oconnells.jpg
END:VEVENT
BEGIN:VEVENT
DTSTART;TZID=America/New_York:20190417T200000
DTEND;TZID=America/New_York:20190417T230000
DTSTAMP:20260422T180211
CREATED:20190325T053013Z
LAST-MODIFIED:20190325T053013Z
UID:11216-1555531200-1555542000@19thstreetband.com
SUMMARY:Lahinch Tavern & Grill
DESCRIPTION:
URL:https://19thstreetband.com/event/lahinch-tavern-grill-34/
LOCATION:Lahinch Tavern & Grill\, 7747 Tuckerman Lane\, Potomac\, MD\, 20854\, United States
CATEGORIES:Show
END:VEVENT
BEGIN:VEVENT
DTSTART;TZID=America/New_York:20190407T150000
DTEND;TZID=America/New_York:20190407T190000
DTSTAMP:20260422T180211
CREATED:20190325T052739Z
LAST-MODIFIED:20190325T052739Z
UID:11213-1554649200-1554663600@19thstreetband.com
SUMMARY:Nick's Fish House\, Baltimore
DESCRIPTION:Outdoor concert weather is here! Join us for our 1st show at Nick’s Fish House in Baltimore.  \nWe’ll be performing from 3-7pm on the dock bar for some Sunday Funday!
URL:https://19thstreetband.com/event/nicks-fish-house-baltimore/
LOCATION:Nick’s Fish House\, 2600 Insulator Dr\, Baltimore\, MD\, 21230\, United States
CATEGORIES:Show
END:VEVENT
BEGIN:VEVENT
DTSTART;TZID=America/New_York:20190406T120000
DTEND;TZID=America/New_York:20190406T124500
DTSTAMP:20260422T180211
CREATED:20190325T052122Z
LAST-MODIFIED:20190325T052122Z
UID:11211-1554552000-1554554700@19thstreetband.com
SUMMARY:Petalpalooza National Cherry Blossom Festival
DESCRIPTION:OUTDOOR EXTRAVAGANZA AND FIREWORKS AT THE WHARF\n\n\n\n\nNATIONAL CHERRY BLOSSOM FESTIVAL PETALPALOOZA®\n\n\n\n\nPRESENTED BY CHASE\n\n\n\n\n\nCelebrate spring at the National Cherry Blossom Festival‘s Petalpalooza for a full day of live music and engaging activities at The Wharf! \nTHE 19TH STREET BAND PERFORMS ON THE MAIN STAGE AT 12PM!!! \nPetalpalooza will feature live music on multiple outdoor stages\, a beer garden\, all-ages activities\, product giveaways\, a spectacular fireworks show by Pyrotecnico\, and much more along the piers of the Southwest Waterfront\, all made possible by Entertainment Cruises. Take in the half-mile-long stretch of The Wharf’s shops and restaurants as the National Cherry Blossom Festival transforms the waterfront community into a one-day-only springtime spectacle! \nThis event is FREE and fun for all ages. \nNote: Fireworks show begins at 8:30PM\, but the festivities get started at 12PM. Keep checking back for more updates and the full schedule of activities!
URL:https://19thstreetband.com/event/petalpalooza-national-cherry-blossom-festival/
LOCATION:Wharf DC\, 975 Wharf St SW\, Washington\, DC\, 20024\, United States
ATTACH;FMTTYPE=image/jpeg:https://19thstreetband.com/wp-content/uploads/2018/05/charm-city-1.jpg
END:VEVENT
BEGIN:VEVENT
DTSTART;TZID=America/New_York:20190405T213000
DTEND;TZID=America/New_York:20190406T013000
DTSTAMP:20260422T180211
CREATED:20190321T114151Z
LAST-MODIFIED:20190321T114151Z
UID:11190-1554499800-1554514200@19thstreetband.com
SUMMARY:Flanagan’s Harp & Fiddle
DESCRIPTION:
URL:https://19thstreetband.com/event/flanagans-harp-fiddle-27/
LOCATION:Flanagan’s Harp & Fiddle\, 4844 Cordell Ave\, Bethesda\, MD\, 20814\, United States
CATEGORIES:Show
ATTACH;FMTTYPE=image/jpeg:https://19thstreetband.com/wp-content/uploads/2019/03/100EAC2D-6E09-4E0E-9F77-95742AE6BCEC-scaled.jpeg
END:VEVENT
BEGIN:VEVENT
DTSTART;TZID=America/New_York:20190403T200000
DTEND;TZID=America/New_York:20190403T230000
DTSTAMP:20260422T180211
CREATED:20190321T113828Z
LAST-MODIFIED:20190321T113828Z
UID:11187-1554321600-1554332400@19thstreetband.com
SUMMARY:The Irish Inn
DESCRIPTION:First Wednesday of the month in the pub at The Irish Inn!
URL:https://19thstreetband.com/event/the-irish-inn-38/
LOCATION:Irish Inn\, 6119 Tulane Ave\, Glen Echo\, MD\, 20812\, United States
CATEGORIES:Show
END:VEVENT
BEGIN:VEVENT
DTSTART;TZID=America/New_York:20190330T170000
DTEND;TZID=America/New_York:20190330T210000
DTSTAMP:20260422T180211
CREATED:20190220T035822Z
LAST-MODIFIED:20190220T035822Z
UID:11052-1553965200-1553979600@19thstreetband.com
SUMMARY:Seacrets OC
DESCRIPTION:Tiki Bar! \n5-9pm
URL:https://19thstreetband.com/event/seacrets-oc-3/
LOCATION:Seacrets Jamaica USA\, 117 49th street\, Ocean City\, MD\, 21842\, United States
CATEGORIES:Show
ATTACH;FMTTYPE=image/jpeg:https://19thstreetband.com/wp-content/uploads/2016/10/seacrets-3-e1490782741189.jpg
END:VEVENT
BEGIN:VEVENT
DTSTART;TZID=America/New_York:20190328T113000
DTEND;TZID=America/New_York:20190328T133000
DTSTAMP:20260422T180211
CREATED:20190321T113028Z
LAST-MODIFIED:20190321T113028Z
UID:11183-1553772600-1553779800@19thstreetband.com
SUMMARY:Opening Day at The Bullpen
DESCRIPTION:Excited to kick off another baseball season at The Bullpen! Join us for the Nats Opening Day with a pre-game party from 11:30am-1:30pm. 
URL:https://19thstreetband.com/event/opening-day-at-the-bullpen/
LOCATION:The Bullpen\, 1299 Half St. SE\, Washington\, DC\, 20003\, United States
CATEGORIES:Show
ATTACH;FMTTYPE=image/jpeg:https://19thstreetband.com/wp-content/uploads/2019/03/7C6F1CE2-9789-46EA-BB3B-1D2E8DF74DF7-scaled.jpeg
END:VEVENT
BEGIN:VEVENT
DTSTART;TZID=America/New_York:20190322T183000
DTEND;TZID=America/New_York:20190322T223000
DTSTAMP:20260422T180211
CREATED:20190220T035150Z
LAST-MODIFIED:20190220T035222Z
UID:11046-1553279400-1553293800@19thstreetband.com
SUMMARY:Farm Brew LIVE
DESCRIPTION:
URL:https://19thstreetband.com/event/farm-brew-live/
LOCATION:NOVA Live\, 9901 Discovery Blvd\, Manassas\, VA\, 20109\, United States
CATEGORIES:Show
ATTACH;FMTTYPE=image/jpeg:https://19thstreetband.com/wp-content/uploads/2019/01/soundry-ami-chastain.jpg
END:VEVENT
BEGIN:VEVENT
DTSTART;TZID=America/New_York:20190320T200000
DTEND;TZID=America/New_York:20190320T230000
DTSTAMP:20260422T180211
CREATED:20190220T034146Z
LAST-MODIFIED:20190220T034146Z
UID:11042-1553112000-1553122800@19thstreetband.com
SUMMARY:Lahinch Tavern & Grill
DESCRIPTION:
URL:https://19thstreetband.com/event/lahinch-tavern-grill-33/
LOCATION:Lahinch Tavern & Grill\, 7747 Tuckerman Lane\, Potomac\, MD\, 20854\, United States
CATEGORIES:Show
ATTACH;FMTTYPE=image/jpeg:https://19thstreetband.com/wp-content/uploads/2018/12/harp-ml-pic-2.jpg
END:VEVENT
BEGIN:VEVENT
DTSTART;TZID=America/New_York:20190317T140000
DTEND;TZID=America/New_York:20190318T010000
DTSTAMP:20260422T180211
CREATED:20190219T024401Z
LAST-MODIFIED:20190219T024401Z
UID:11035-1552831200-1552870800@19thstreetband.com
SUMMARY:Paddy's Day Shenanigans at Flanagan's Harp & Fiddle
DESCRIPTION:It’s time for our annual Paddy’s Day Shenanigans at Flanagans!!! \nCome early and stay late….live music all day & night!
URL:https://19thstreetband.com/event/paddys-day-shenanigans-at-flanagans-harp-fiddle/
LOCATION:Flanagan’s Harp & Fiddle\, 4844 Cordell Ave\, Bethesda\, MD\, 20814\, United States
CATEGORIES:Show
ATTACH;FMTTYPE=image/jpeg:https://19thstreetband.com/wp-content/uploads/2019/01/HarpFiddle-32.jpg
END:VEVENT
BEGIN:VEVENT
DTSTART;TZID=America/New_York:20190316T170000
DTEND;TZID=America/New_York:20190316T220000
DTSTAMP:20260422T180211
CREATED:20190219T023453Z
LAST-MODIFIED:20190219T023453Z
UID:11032-1552755600-1552773600@19thstreetband.com
SUMMARY:Guinness Open Gate Brewery and Barrel House
DESCRIPTION:We are very excited to announce that we’ll be celebrating Guinness Brewery’s First St. Patrick’s Day in Baltimore!!! There will be a special event on Saturday\, March 16th and we perform 5-10pm. Get your tix now!  \nTickets purchased online cost $15\, and include your first beer (a choice of Guinness Draught or Guinness Blonde)\, a commemorative button\, and access to the brewery. In addition\, $5 of every ticket sold will be donated equally between our partners at the Maryland Foodbank\, the Baltimore Office of Promotion and the Arts\, and the Oyster Recovery Partnership. \nA very limited number of tickets will be available at the gate for $20 (credit cards only\, we cannot accept cash). \nYou can purchase tickets online\, here \nCome celebrate St. Patrick’s Day at the Guinness Open Gate Brewery! We’re excited to bring a bit of Ireland to Maryland with our first St. Pat’s celebration. Tickets are $15 and include your first can of beer (choice of Draught or Blonde)\, a donation to charity\, and a commemorative button. Festivities include an Irish beer tap take over\, live music\, limited edition merchandise\, a holiday-themed food menu\, the debut of the new Guinness Food Truck\, and more!  \nThroughout its history\, Guinness has worked to be an active member of the community and to give back to the City of Dublin. To honor that legacy\, and support our community here in Baltimore\, $5 of each ticket will be donated equally between the Maryland Foodbank\, the Baltimore Office of Promotion and the Arts\, and the Oyster Recovery Partnership. \nThe celebration takes place at the brewery\, which is located at 5001 Washington Blvd\, Halethorpe MD\, 21227. Please note: parking in the main lot of the brewery is limited – overflow parking is available at the Halethorpe Train Station\, less than a mile from the brewery\, and a free courtesy shuttle is available. We’re also partnering with Lyft\, if you’d prefer to celebrate without having to worry about driving (details on this partnership to come).  \nThis event is for adults 21+ only. A valid ticket and government issued ID are required to enter. Only clear bags will be allowed on property. To accommodate all guests\, check in for sessions will begin 15 minutes before start time\, and sessions will conclude promptly at their designated end time. We ask that you only purchase tickets to one session to ensure everyone gets a chance to celebrate. Max 8 tickets per transaction. A very limited number of tickets will be available at the gate for $20 (credit cards only\, we cannot accept cash). A designated driver ticket is also available at the gate. Tailgating in the parking lot is not allowed. To provide the best service possible\, we will not be filling growlers during the event. \nWe take safe serving seriously – we want you to enjoy the festivities – and the next day\, too! We reserve the right to stop service for or refuse entry to anyone we deem has consumed too much. Please drink Guinness responsibly. \nRefund policy: 5 days prior to the event\, full-refund. \nFor any questions\, see our FAQ: https://www.guinnessbrewerybaltimore.com/frequently-asked-questions/ \nSlainte!
URL:https://19thstreetband.com/event/guinness-open-gate-brewery-and-barrel-house/
LOCATION:Guinness Open Gate Brewery\, 5001 Washington Blvd\, Halethorpe\, MD\, 21227\, United States
CATEGORIES:Show
END:VEVENT
END:VCALENDAR