BEGIN:VCALENDAR
VERSION:2.0
PRODID:-//The 19th Street Band - ECPv6.15.20//NONSGML v1.0//EN
CALSCALE:GREGORIAN
METHOD:PUBLISH
X-WR-CALNAME:The 19th Street Band
X-ORIGINAL-URL:https://19thstreetband.com
X-WR-CALDESC:Events for The 19th Street Band
REFRESH-INTERVAL;VALUE=DURATION:PT1H
X-Robots-Tag:noindex
X-PUBLISHED-TTL:PT1H
BEGIN:VTIMEZONE
TZID:America/New_York
BEGIN:DAYLIGHT
TZOFFSETFROM:-0500
TZOFFSETTO:-0400
TZNAME:EDT
DTSTART:20180311T070000
END:DAYLIGHT
BEGIN:STANDARD
TZOFFSETFROM:-0400
TZOFFSETTO:-0500
TZNAME:EST
DTSTART:20181104T060000
END:STANDARD
BEGIN:DAYLIGHT
TZOFFSETFROM:-0500
TZOFFSETTO:-0400
TZNAME:EDT
DTSTART:20190310T070000
END:DAYLIGHT
BEGIN:STANDARD
TZOFFSETFROM:-0400
TZOFFSETTO:-0500
TZNAME:EST
DTSTART:20191103T060000
END:STANDARD
BEGIN:DAYLIGHT
TZOFFSETFROM:-0500
TZOFFSETTO:-0400
TZNAME:EDT
DTSTART:20200308T070000
END:DAYLIGHT
BEGIN:STANDARD
TZOFFSETFROM:-0400
TZOFFSETTO:-0500
TZNAME:EST
DTSTART:20201101T060000
END:STANDARD
END:VTIMEZONE
BEGIN:VTIMEZONE
TZID:UTC
BEGIN:STANDARD
TZOFFSETFROM:+0000
TZOFFSETTO:+0000
TZNAME:UTC
DTSTART:20180101T000000
END:STANDARD
END:VTIMEZONE
BEGIN:VEVENT
DTSTART;TZID=America/New_York:20190405T213000
DTEND;TZID=America/New_York:20190406T013000
DTSTAMP:20260422T180227
CREATED:20190321T114151Z
LAST-MODIFIED:20190321T114151Z
UID:11190-1554499800-1554514200@19thstreetband.com
SUMMARY:Flanagan’s Harp & Fiddle
DESCRIPTION:
URL:https://19thstreetband.com/event/flanagans-harp-fiddle-27/
LOCATION:Flanagan’s Harp & Fiddle\, 4844 Cordell Ave\, Bethesda\, MD\, 20814\, United States
CATEGORIES:Show
ATTACH;FMTTYPE=image/jpeg:https://19thstreetband.com/wp-content/uploads/2019/03/100EAC2D-6E09-4E0E-9F77-95742AE6BCEC-scaled.jpeg
END:VEVENT
BEGIN:VEVENT
DTSTART;TZID=America/New_York:20190403T200000
DTEND;TZID=America/New_York:20190403T230000
DTSTAMP:20260422T180227
CREATED:20190321T113828Z
LAST-MODIFIED:20190321T113828Z
UID:11187-1554321600-1554332400@19thstreetband.com
SUMMARY:The Irish Inn
DESCRIPTION:First Wednesday of the month in the pub at The Irish Inn!
URL:https://19thstreetband.com/event/the-irish-inn-38/
LOCATION:Irish Inn\, 6119 Tulane Ave\, Glen Echo\, MD\, 20812\, United States
CATEGORIES:Show
END:VEVENT
BEGIN:VEVENT
DTSTART;TZID=America/New_York:20190330T170000
DTEND;TZID=America/New_York:20190330T210000
DTSTAMP:20260422T180227
CREATED:20190220T035822Z
LAST-MODIFIED:20190220T035822Z
UID:11052-1553965200-1553979600@19thstreetband.com
SUMMARY:Seacrets OC
DESCRIPTION:Tiki Bar! \n5-9pm
URL:https://19thstreetband.com/event/seacrets-oc-3/
LOCATION:Seacrets Jamaica USA\, 117 49th street\, Ocean City\, MD\, 21842\, United States
CATEGORIES:Show
ATTACH;FMTTYPE=image/jpeg:https://19thstreetband.com/wp-content/uploads/2016/10/seacrets-3-e1490782741189.jpg
END:VEVENT
BEGIN:VEVENT
DTSTART;TZID=America/New_York:20190328T113000
DTEND;TZID=America/New_York:20190328T133000
DTSTAMP:20260422T180227
CREATED:20190321T113028Z
LAST-MODIFIED:20190321T113028Z
UID:11183-1553772600-1553779800@19thstreetband.com
SUMMARY:Opening Day at The Bullpen
DESCRIPTION:Excited to kick off another baseball season at The Bullpen! Join us for the Nats Opening Day with a pre-game party from 11:30am-1:30pm. 
URL:https://19thstreetband.com/event/opening-day-at-the-bullpen/
LOCATION:The Bullpen\, 1299 Half St. SE\, Washington\, DC\, 20003\, United States
CATEGORIES:Show
ATTACH;FMTTYPE=image/jpeg:https://19thstreetband.com/wp-content/uploads/2019/03/7C6F1CE2-9789-46EA-BB3B-1D2E8DF74DF7-scaled.jpeg
END:VEVENT
BEGIN:VEVENT
DTSTART;TZID=America/New_York:20190322T183000
DTEND;TZID=America/New_York:20190322T223000
DTSTAMP:20260422T180227
CREATED:20190220T035150Z
LAST-MODIFIED:20190220T035222Z
UID:11046-1553279400-1553293800@19thstreetband.com
SUMMARY:Farm Brew LIVE
DESCRIPTION:
URL:https://19thstreetband.com/event/farm-brew-live/
LOCATION:NOVA Live\, 9901 Discovery Blvd\, Manassas\, VA\, 20109\, United States
CATEGORIES:Show
ATTACH;FMTTYPE=image/jpeg:https://19thstreetband.com/wp-content/uploads/2019/01/soundry-ami-chastain.jpg
END:VEVENT
BEGIN:VEVENT
DTSTART;TZID=America/New_York:20190320T200000
DTEND;TZID=America/New_York:20190320T230000
DTSTAMP:20260422T180227
CREATED:20190220T034146Z
LAST-MODIFIED:20190220T034146Z
UID:11042-1553112000-1553122800@19thstreetband.com
SUMMARY:Lahinch Tavern & Grill
DESCRIPTION:
URL:https://19thstreetband.com/event/lahinch-tavern-grill-33/
LOCATION:Lahinch Tavern & Grill\, 7747 Tuckerman Lane\, Potomac\, MD\, 20854\, United States
CATEGORIES:Show
ATTACH;FMTTYPE=image/jpeg:https://19thstreetband.com/wp-content/uploads/2018/12/harp-ml-pic-2.jpg
END:VEVENT
BEGIN:VEVENT
DTSTART;TZID=America/New_York:20190317T140000
DTEND;TZID=America/New_York:20190318T010000
DTSTAMP:20260422T180227
CREATED:20190219T024401Z
LAST-MODIFIED:20190219T024401Z
UID:11035-1552831200-1552870800@19thstreetband.com
SUMMARY:Paddy's Day Shenanigans at Flanagan's Harp & Fiddle
DESCRIPTION:It’s time for our annual Paddy’s Day Shenanigans at Flanagans!!! \nCome early and stay late….live music all day & night!
URL:https://19thstreetband.com/event/paddys-day-shenanigans-at-flanagans-harp-fiddle/
LOCATION:Flanagan’s Harp & Fiddle\, 4844 Cordell Ave\, Bethesda\, MD\, 20814\, United States
CATEGORIES:Show
ATTACH;FMTTYPE=image/jpeg:https://19thstreetband.com/wp-content/uploads/2019/01/HarpFiddle-32.jpg
END:VEVENT
BEGIN:VEVENT
DTSTART;TZID=America/New_York:20190316T170000
DTEND;TZID=America/New_York:20190316T220000
DTSTAMP:20260422T180227
CREATED:20190219T023453Z
LAST-MODIFIED:20190219T023453Z
UID:11032-1552755600-1552773600@19thstreetband.com
SUMMARY:Guinness Open Gate Brewery and Barrel House
DESCRIPTION:We are very excited to announce that we’ll be celebrating Guinness Brewery’s First St. Patrick’s Day in Baltimore!!! There will be a special event on Saturday\, March 16th and we perform 5-10pm. Get your tix now!  \nTickets purchased online cost $15\, and include your first beer (a choice of Guinness Draught or Guinness Blonde)\, a commemorative button\, and access to the brewery. In addition\, $5 of every ticket sold will be donated equally between our partners at the Maryland Foodbank\, the Baltimore Office of Promotion and the Arts\, and the Oyster Recovery Partnership. \nA very limited number of tickets will be available at the gate for $20 (credit cards only\, we cannot accept cash). \nYou can purchase tickets online\, here \nCome celebrate St. Patrick’s Day at the Guinness Open Gate Brewery! We’re excited to bring a bit of Ireland to Maryland with our first St. Pat’s celebration. Tickets are $15 and include your first can of beer (choice of Draught or Blonde)\, a donation to charity\, and a commemorative button. Festivities include an Irish beer tap take over\, live music\, limited edition merchandise\, a holiday-themed food menu\, the debut of the new Guinness Food Truck\, and more!  \nThroughout its history\, Guinness has worked to be an active member of the community and to give back to the City of Dublin. To honor that legacy\, and support our community here in Baltimore\, $5 of each ticket will be donated equally between the Maryland Foodbank\, the Baltimore Office of Promotion and the Arts\, and the Oyster Recovery Partnership. \nThe celebration takes place at the brewery\, which is located at 5001 Washington Blvd\, Halethorpe MD\, 21227. Please note: parking in the main lot of the brewery is limited – overflow parking is available at the Halethorpe Train Station\, less than a mile from the brewery\, and a free courtesy shuttle is available. We’re also partnering with Lyft\, if you’d prefer to celebrate without having to worry about driving (details on this partnership to come).  \nThis event is for adults 21+ only. A valid ticket and government issued ID are required to enter. Only clear bags will be allowed on property. To accommodate all guests\, check in for sessions will begin 15 minutes before start time\, and sessions will conclude promptly at their designated end time. We ask that you only purchase tickets to one session to ensure everyone gets a chance to celebrate. Max 8 tickets per transaction. A very limited number of tickets will be available at the gate for $20 (credit cards only\, we cannot accept cash). A designated driver ticket is also available at the gate. Tailgating in the parking lot is not allowed. To provide the best service possible\, we will not be filling growlers during the event. \nWe take safe serving seriously – we want you to enjoy the festivities – and the next day\, too! We reserve the right to stop service for or refuse entry to anyone we deem has consumed too much. Please drink Guinness responsibly. \nRefund policy: 5 days prior to the event\, full-refund. \nFor any questions\, see our FAQ: https://www.guinnessbrewerybaltimore.com/frequently-asked-questions/ \nSlainte!
URL:https://19thstreetband.com/event/guinness-open-gate-brewery-and-barrel-house/
LOCATION:Guinness Open Gate Brewery\, 5001 Washington Blvd\, Halethorpe\, MD\, 21227\, United States
CATEGORIES:Show
END:VEVENT
BEGIN:VEVENT
DTSTART;TZID=America/New_York:20190315T210000
DTEND;TZID=America/New_York:20190316T000000
DTSTAMP:20260422T180227
CREATED:20190219T021700Z
LAST-MODIFIED:20190219T021700Z
UID:11030-1552683600-1552694400@19thstreetband.com
SUMMARY:Shaw's Tavern
DESCRIPTION:
URL:https://19thstreetband.com/event/shaws-tavern-7/
LOCATION:Shaw’s Tavern\, 520 Florida Ave NW\, Washington\, DC\, 20001\, United States
CATEGORIES:Show
ATTACH;FMTTYPE=image/jpeg:https://19thstreetband.com/wp-content/uploads/2018/11/image21.jpeg
END:VEVENT
BEGIN:VEVENT
DTSTART;TZID=America/New_York:20190314T203000
DTEND;TZID=America/New_York:20190315T003000
DTSTAMP:20260422T180227
CREATED:20190219T021432Z
LAST-MODIFIED:20190219T021432Z
UID:11028-1552595400-1552609800@19thstreetband.com
SUMMARY:JV's Restaurant
DESCRIPTION:
URL:https://19thstreetband.com/event/jvs-restaurant-15/
LOCATION:JV’s Restaurant\, 6666  Arlington Blvd.\, Falls Church\, VA\, 22042\, United States
CATEGORIES:Show
END:VEVENT
BEGIN:VEVENT
DTSTART;TZID=America/New_York:20190313T180000
DTEND;TZID=America/New_York:20190313T233000
DTSTAMP:20260422T180227
CREATED:20190314T062747Z
LAST-MODIFIED:20190314T062747Z
UID:11149-1552500000-1552519800@19thstreetband.com
SUMMARY:The Ireland Funds National Gala
DESCRIPTION:
URL:https://19thstreetband.com/event/the-ireland-funds-national-gala/
LOCATION:National Building Museum\, 401 F St NW\, Washington\, 20001\, United States
CATEGORIES:Show
END:VEVENT
BEGIN:VEVENT
DTSTART;TZID=America/New_York:20190309T140000
DTEND;TZID=America/New_York:20190309T180000
DTSTAMP:20260422T180227
CREATED:20190219T014521Z
LAST-MODIFIED:20190219T014521Z
UID:11024-1552140000-1552154400@19thstreetband.com
SUMMARY:Ireland on the Wharf
DESCRIPTION:Details TBA but plan to join us for Ireland on the Wharf on March 9th for an early Paddy’s Day celebration!
URL:https://19thstreetband.com/event/ireland-on-the-wharf/
LOCATION:Wharf DC\, 975 Wharf St SW\, Washington\, DC\, 20024\, United States
CATEGORIES:Show
ATTACH;FMTTYPE=image/jpeg:https://19thstreetband.com/wp-content/uploads/2019/02/charm-city-3.jpg
END:VEVENT
BEGIN:VEVENT
DTSTART;TZID=America/New_York:20190308T200000
DTEND;TZID=America/New_York:20190308T230000
DTSTAMP:20260422T180227
CREATED:20190219T012646Z
LAST-MODIFIED:20190219T012646Z
UID:11021-1552075200-1552086000@19thstreetband.com
SUMMARY:The Music Cafe
DESCRIPTION:Join us for our first show at The Music Café on March 8th! We play 8-11pm. $10 cover.  \nReservations are strongly recommended as space is limited\, call 301-253-1500.
URL:https://19thstreetband.com/event/the-music-cafe/
LOCATION:The Music Cafe\, 26528-B Ridge Road\, Damascus\, MD\, 20872\, United States
CATEGORIES:Show
ATTACH;FMTTYPE=image/jpeg:https://19thstreetband.com/wp-content/uploads/2019/02/nye-color-.jpg
END:VEVENT
BEGIN:VEVENT
DTSTART;TZID=America/New_York:20190306T200000
DTEND;TZID=America/New_York:20190306T230000
DTSTAMP:20260422T180227
CREATED:20190208T222533Z
LAST-MODIFIED:20190208T222533Z
UID:10955-1551902400-1551913200@19thstreetband.com
SUMMARY:The Irish Inn
DESCRIPTION:
URL:https://19thstreetband.com/event/the-irish-inn-37/
LOCATION:Irish Inn\, 6119 Tulane Ave\, Glen Echo\, MD\, 20812\, United States
CATEGORIES:Show
ATTACH;FMTTYPE=image/jpeg:https://19thstreetband.com/wp-content/uploads/2018/04/ml-pic-3.jpg
END:VEVENT
BEGIN:VEVENT
DTSTART;TZID=America/New_York:20190302T160000
DTEND;TZID=America/New_York:20190302T200000
DTSTAMP:20260422T180227
CREATED:20190208T222346Z
LAST-MODIFIED:20190208T222346Z
UID:10952-1551542400-1551556800@19thstreetband.com
SUMMARY:Leprechaun Luau
DESCRIPTION:The Leprechaun Luau is the signature fundraising event of The Rotary Club of Frederick\, one of the largest and most active service clubs in the area. Established in 1920\, the Rotary Club of Frederick has funded dozens of projects that have helped make our community a better place to live and work. \nThe event will be held on Saturday\, March 2nd\, 2019\,  from 4-8 at the Frederick Community College Field House. There is plenty of convenient\, free parking. \nAdmission is $60/person\, which includes a wide variety of foods served from many different “stations” around the room. Admission includes a souvenir mug\, which you may fill with a selection of Flying Dog beers. Assorted wines and frozen margaritas will be available as well as a wide selection of non-alcoholic beverages.  All entertainment included too!  Your ticket price will include one chance at our Pot of Gold at the End of the Rainbow raffle and a few surprises will keep the evening in high gear! \nSponsorships are vitally important to the event’s success—we’d love to have you on board. And remember: space is limited\, so get your tickets early!  Tickets go on sale December 1st\, 2018. \nTo ask a question or request an information\, please contact us at (240) 394-LUAU (5828) or use our online contact form.
URL:https://19thstreetband.com/event/leprechaun-luau-3/
LOCATION:Frederick Community College Field House\, 7932 Opossumtown Pike\, Frederick\, MD\, 21702\, United States
CATEGORIES:Show
ATTACH;FMTTYPE=image/png:https://19thstreetband.com/wp-content/uploads/2019/02/leplu.png
END:VEVENT
BEGIN:VEVENT
DTSTART;TZID=America/New_York:20190301T213000
DTEND;TZID=America/New_York:20190302T013000
DTSTAMP:20260422T180227
CREATED:20190208T221945Z
LAST-MODIFIED:20190208T221945Z
UID:10949-1551475800-1551490200@19thstreetband.com
SUMMARY:Flanagan's Harp & Fiddle
DESCRIPTION:
URL:https://19thstreetband.com/event/flanagans-harp-fiddle-26/
LOCATION:Flanagan’s Harp & Fiddle\, 4844 Cordell Ave\, Bethesda\, MD\, 20814\, United States
CATEGORIES:Show
ATTACH;FMTTYPE=image/jpeg:https://19thstreetband.com/wp-content/uploads/2019/02/nye-color-.jpg
END:VEVENT
BEGIN:VEVENT
DTSTART;TZID=America/New_York:20190228T210000
DTEND;TZID=America/New_York:20190301T003000
DTSTAMP:20260422T180227
CREATED:20190208T221731Z
LAST-MODIFIED:20190208T221731Z
UID:10947-1551387600-1551400200@19thstreetband.com
SUMMARY:Samuel Beckett's
DESCRIPTION:
URL:https://19thstreetband.com/event/samuel-becketts-18/
LOCATION:Samuel Beckett’s\, 2800 S Randolph St #110\, Arlington\, VA\, 22206\, United States
CATEGORIES:Show
END:VEVENT
BEGIN:VEVENT
DTSTART;TZID=America/New_York:20190223T200000
DTEND;TZID=America/New_York:20190224T010000
DTSTAMP:20260422T180227
CREATED:20190208T221553Z
LAST-MODIFIED:20190208T221553Z
UID:10944-1550952000-1550970000@19thstreetband.com
SUMMARY:Dewey Business Partnership Winter Gala "Havana Nights"
DESCRIPTION:Join us for this year’s Dewey Business Partnership Winter Gala: Havana Nights! Saturday February 23rd 8pm to 1am. Enjoy open bar\, food stations and a cigar bar! \nMusic is by \nOpening act is Blue Cat Blues Band\, followed by The 19th Street band and headliner Chris Ferrara and the Common Good. \nBenefiting Dewey Beach Public Safety & Dewey Beach Events presented by your Dewey Business Partnership
URL:https://19thstreetband.com/event/dewey-business-partnership-winter-gala-havana-nights/
LOCATION:The Starboard\, 2009 Coastal Hwy\, Dewey Beach\, DE\, 19971\, United States
CATEGORIES:Show
ATTACH;FMTTYPE=image/jpeg:https://19thstreetband.com/wp-content/uploads/2019/02/starboard-gcfl-4.jpg
END:VEVENT
BEGIN:VEVENT
DTSTART;TZID=America/New_York:20190221T190000
DTEND;TZID=America/New_York:20190221T230000
DTSTAMP:20260422T180227
CREATED:20181231T054157Z
LAST-MODIFIED:20181231T054157Z
UID:10774-1550775600-1550790000@19thstreetband.com
SUMMARY:The 8x10 - Third Thursday Bluegrass
DESCRIPTION:Third Thursday Bluegrass\nLarry Keel\nThe 19th Street Band\nEdgar Allen and the Poe Boys\n\n\n\nThursday\, February 21\, 2019 7:00 PM\n\n\n\n\n\n \nThe 8×10  \nDoor Time: 7:00 PM\nThis event is ages 18+\n \nhttps://www.mt.cm/third-thursday-bluegrasslarry-keelthe-19th-street-bandedgar-allen-and-poe-boys\n 
URL:https://19thstreetband.com/event/the-8x10-third-thursday-bluegrass-2/
LOCATION:The 8×10\, 10 East Cross St\, Baltimore\, MD\, 21230\, United States
CATEGORIES:Show
ATTACH;FMTTYPE=image/jpeg:https://19thstreetband.com/wp-content/uploads/2018/05/IMG_1803-scaled.jpg
END:VEVENT
BEGIN:VEVENT
DTSTART;TZID=America/New_York:20190220T200000
DTEND;TZID=America/New_York:20190220T230000
DTSTAMP:20260422T180227
CREATED:20190108T044536Z
LAST-MODIFIED:20190108T044536Z
UID:10821-1550692800-1550703600@19thstreetband.com
SUMMARY:Lahinch Tavern & Grill
DESCRIPTION:
URL:https://19thstreetband.com/event/lahinch-tavern-grill-32/
LOCATION:Lahinch Tavern & Grill\, 7747 Tuckerman Lane\, Potomac\, MD\, 20854\, United States
CATEGORIES:Show
ATTACH;FMTTYPE=image/jpeg:https://19thstreetband.com/wp-content/uploads/2018/11/lahinch-tavern.jpg
END:VEVENT
BEGIN:VEVENT
DTSTART;TZID=America/New_York:20190215T213000
DTEND;TZID=America/New_York:20190216T013000
DTSTAMP:20260422T180227
CREATED:20190108T044416Z
LAST-MODIFIED:20190108T044416Z
UID:10819-1550266200-1550280600@19thstreetband.com
SUMMARY:Daniel O'Connell's Irish Restaurant & Bar
DESCRIPTION:
URL:https://19thstreetband.com/event/daniel-oconnells-irish-restaurant-bar-2/
LOCATION:Daniel O’Connell’s Restaurant & Bar\, 112 King St\, Alexandria\, VA\, 22314\, United States
CATEGORIES:Show
ATTACH;FMTTYPE=image/jpeg:https://19thstreetband.com/wp-content/uploads/2018/10/oconnells.jpg
END:VEVENT
BEGIN:VEVENT
DTSTART;TZID=America/New_York:20190214T180000
DTEND;TZID=America/New_York:20190214T220000
DTSTAMP:20260422T180227
CREATED:20190208T220849Z
LAST-MODIFIED:20190208T220849Z
UID:10939-1550167200-1550181600@19thstreetband.com
SUMMARY:'Duty + Devotion' Yellow Ribbon Fund Event
DESCRIPTION:DUTY + DEVOTION \nAN EVENING HONORING SERVICE MEMBERS & THEIR CAREGIVERS \n“DATE NIGHT” FOR OUR HEROES \nTHE ARMY & NAVY CLUB \nTHURSDAY\, FEBRUARY 14\, 2019 \n6-10 PM \nThe Yellow Ribbon Fund’s Duty + Devotion aims to provide a special evening for wounded\, ill\, and injured service members and their compassionate caregivers\, not only as a “Date Night” but also an opportunity to raise awareness for The Yellow Ribbon Fund’s programs and services. \nThe Yellow Ribbon will offer 100 tickets\, which includes 40 tickets reserved for service members and caregivers from Walter Reed National Military Medical Center in Bethesda\, MD. \nPlease consider sponsoring a service member and their caregiver to attend.
URL:https://19thstreetband.com/event/duty-devotion-yellow-ribbon-fund-event/
LOCATION:Army and Navy Club\, 901 17th St NW\, Washington\, DC\, 20006\, United States
CATEGORIES:Show
END:VEVENT
BEGIN:VEVENT
DTSTART;TZID=America/New_York:20190213T203000
DTEND;TZID=America/New_York:20190214T003000
DTSTAMP:20260422T180227
CREATED:20190108T044142Z
LAST-MODIFIED:20190203T053125Z
UID:10817-1550089800-1550104200@19thstreetband.com
SUMMARY:JV's Restaurant
DESCRIPTION:
URL:https://19thstreetband.com/event/jvs-restaurant-14/
LOCATION:JV’s Restaurant\, 6666  Arlington Blvd.\, Falls Church\, VA\, 22042\, United States
CATEGORIES:Show
END:VEVENT
BEGIN:VEVENT
DTSTART;TZID=America/New_York:20190210T153000
DTEND;TZID=America/New_York:20190210T190000
DTSTAMP:20260422T180227
CREATED:20190108T035304Z
LAST-MODIFIED:20190208T212231Z
UID:10803-1549812600-1549825200@19thstreetband.com
SUMMARY:DC St. Patrick's Day Parade Fundraiser at Harp & Fiddle
DESCRIPTION:Come on out to Flanagan’s Harp & Fiddle for live music\, Irish dancing\, auctions and more to help raise money for the 2020 DC St. Patrick’s Day Parade!
URL:https://19thstreetband.com/event/dc-st-patricks-day-parade-fundraiser-at-harp-fiddle/
LOCATION:Flanagan’s Harp & Fiddle\, 4844 Cordell Ave\, Bethesda\, MD\, 20814\, United States
CATEGORIES:Show
ATTACH;FMTTYPE=image/jpeg:https://19thstreetband.com/wp-content/uploads/2019/01/HarpFiddle-32.jpg
END:VEVENT
BEGIN:VEVENT
DTSTART;TZID=America/New_York:20190209T190000
DTEND;TZID=America/New_York:20190209T230000
DTSTAMP:20260422T180227
CREATED:20190108T044004Z
LAST-MODIFIED:20190108T044004Z
UID:10814-1549738800-1549753200@19thstreetband.com
SUMMARY:The Soundry
DESCRIPTION:
URL:https://19thstreetband.com/event/the-soundry-3/
LOCATION:The Soundry\, 10221 Wincopin Circle\, Columbia\, MD\, 21044\, United States
CATEGORIES:Show
ATTACH;FMTTYPE=image/jpeg:https://19thstreetband.com/wp-content/uploads/2019/01/soundry-ami-chastain.jpg
END:VEVENT
BEGIN:VEVENT
DTSTART;TZID=America/New_York:20190208T213000
DTEND;TZID=America/New_York:20190209T013000
DTSTAMP:20260422T180227
CREATED:20190108T041149Z
LAST-MODIFIED:20190108T041149Z
UID:10812-1549661400-1549675800@19thstreetband.com
SUMMARY:Flanagan's Harp & Fiddle
DESCRIPTION:
URL:https://19thstreetband.com/event/flanagans-harp-fiddle-25/
LOCATION:Flanagan’s Harp & Fiddle\, 4844 Cordell Ave\, Bethesda\, MD\, 20814\, United States
CATEGORIES:Show
ATTACH;FMTTYPE=image/jpeg:https://19thstreetband.com/wp-content/uploads/2018/12/harp-ml-pic-2.jpg
END:VEVENT
BEGIN:VEVENT
DTSTART;TZID=America/New_York:20190206T200000
DTEND;TZID=America/New_York:20190206T230000
DTSTAMP:20260422T180227
CREATED:20190108T040957Z
LAST-MODIFIED:20190108T040957Z
UID:10810-1549483200-1549494000@19thstreetband.com
SUMMARY:The Irish Inn
DESCRIPTION:
URL:https://19thstreetband.com/event/the-irish-inn-36/
LOCATION:Irish Inn\, 6119 Tulane Ave\, Glen Echo\, MD\, 20812\, United States
CATEGORIES:Show
ATTACH;FMTTYPE=image/jpeg:https://19thstreetband.com/wp-content/uploads/2017/12/harp-pic-5-2017_11_30-18_34_59-UTC.jpg
END:VEVENT
BEGIN:VEVENT
DTSTART;VALUE=DATE:20190126
DTEND;VALUE=DATE:20190204
DTSTAMP:20260422T180227
CREATED:20180217T043202Z
LAST-MODIFIED:20180422T173851Z
UID:9448-1548475200-1549166399@19thstreetband.com
SUMMARY:Andy Cooney's 21st Cruise of Irish Stars
DESCRIPTION:We’re CRUISIN’ in 2019 and you are all invited to join! We’ll be performing on a 7-day Western Caribbean Cruise on the Celebrity Equinox ship\, departing out of Miami on January 26\, 2019. All details in flyers attached. Reserve your cabin NOW by calling 800-724-9511 or mailing in the bottom portion of the flyer. Be sure to mention “The 19th Street Band“ so that you can be a part of our group and enjoy all of the entertainment on the ship. We can’t wait to get away to some warm weather and party with y’all! \n 
URL:https://19thstreetband.com/event/andy-cooneys-21st-cruise-irish-stars/
LOCATION:Celebrity Equinox Cruise\, Miami\, Mexico\, Grand Cayman
CATEGORIES:Show
END:VEVENT
BEGIN:VEVENT
DTSTART;TZID=America/New_York:20190123T203000
DTEND;TZID=America/New_York:20190124T003000
DTSTAMP:20260422T180227
CREATED:20181229T212643Z
LAST-MODIFIED:20181229T212643Z
UID:10767-1548275400-1548289800@19thstreetband.com
SUMMARY:JV's Restaurant
DESCRIPTION:Join us for a special Wednesday night show at JV’s! Get on the dance floor!!
URL:https://19thstreetband.com/event/jvs-restaurant-13/
LOCATION:JV’s Restaurant\, 6666  Arlington Blvd.\, Falls Church\, VA\, 22042\, United States
CATEGORIES:Show
END:VEVENT
BEGIN:VEVENT
DTSTART;TZID=America/New_York:20190119T210000
DTEND;TZID=America/New_York:20190120T000000
DTSTAMP:20260422T180227
CREATED:20190108T040210Z
LAST-MODIFIED:20190108T040210Z
UID:10808-1547931600-1547942400@19thstreetband.com
SUMMARY:Shaw's Tavern
DESCRIPTION:
URL:https://19thstreetband.com/event/shaws-tavern-8/
LOCATION:Shaw’s Tavern\, 520 Florida Ave NW\, Washington\, DC\, 20001\, United States
CATEGORIES:Show
ATTACH;FMTTYPE=image/jpeg:https://19thstreetband.com/wp-content/uploads/2018/02/ml-pic-5.jpg
END:VEVENT
END:VCALENDAR