BEGIN:VCALENDAR
VERSION:2.0
PRODID:-//The 19th Street Band - ECPv6.15.20//NONSGML v1.0//EN
CALSCALE:GREGORIAN
METHOD:PUBLISH
X-WR-CALNAME:The 19th Street Band
X-ORIGINAL-URL:https://19thstreetband.com
X-WR-CALDESC:Events for The 19th Street Band
REFRESH-INTERVAL;VALUE=DURATION:PT1H
X-Robots-Tag:noindex
X-PUBLISHED-TTL:PT1H
BEGIN:VTIMEZONE
TZID:Europe/London
BEGIN:DAYLIGHT
TZOFFSETFROM:+0000
TZOFFSETTO:+0100
TZNAME:BST
DTSTART:20180325T010000
END:DAYLIGHT
BEGIN:STANDARD
TZOFFSETFROM:+0100
TZOFFSETTO:+0000
TZNAME:GMT
DTSTART:20181028T010000
END:STANDARD
BEGIN:DAYLIGHT
TZOFFSETFROM:+0000
TZOFFSETTO:+0100
TZNAME:BST
DTSTART:20190331T010000
END:DAYLIGHT
BEGIN:STANDARD
TZOFFSETFROM:+0100
TZOFFSETTO:+0000
TZNAME:GMT
DTSTART:20191027T010000
END:STANDARD
BEGIN:DAYLIGHT
TZOFFSETFROM:+0000
TZOFFSETTO:+0100
TZNAME:BST
DTSTART:20200329T010000
END:DAYLIGHT
BEGIN:STANDARD
TZOFFSETFROM:+0100
TZOFFSETTO:+0000
TZNAME:GMT
DTSTART:20201025T010000
END:STANDARD
END:VTIMEZONE
BEGIN:VTIMEZONE
TZID:America/New_York
BEGIN:DAYLIGHT
TZOFFSETFROM:-0500
TZOFFSETTO:-0400
TZNAME:EDT
DTSTART:20180311T070000
END:DAYLIGHT
BEGIN:STANDARD
TZOFFSETFROM:-0400
TZOFFSETTO:-0500
TZNAME:EST
DTSTART:20181104T060000
END:STANDARD
BEGIN:DAYLIGHT
TZOFFSETFROM:-0500
TZOFFSETTO:-0400
TZNAME:EDT
DTSTART:20190310T070000
END:DAYLIGHT
BEGIN:STANDARD
TZOFFSETFROM:-0400
TZOFFSETTO:-0500
TZNAME:EST
DTSTART:20191103T060000
END:STANDARD
BEGIN:DAYLIGHT
TZOFFSETFROM:-0500
TZOFFSETTO:-0400
TZNAME:EDT
DTSTART:20200308T070000
END:DAYLIGHT
BEGIN:STANDARD
TZOFFSETFROM:-0400
TZOFFSETTO:-0500
TZNAME:EST
DTSTART:20201101T060000
END:STANDARD
END:VTIMEZONE
BEGIN:VEVENT
DTSTART;TZID=Europe/London:20190817T180000
DTEND;TZID=Europe/London:20190817T220000
DTSTAMP:20260420T154847
CREATED:20190723T033238Z
LAST-MODIFIED:20190724T170519Z
UID:11674-1566064800-1566079200@19thstreetband.com
SUMMARY:Open House Festival - Groomsport Harbour
DESCRIPTION:Join us in Groomsport for this year’s music and fireworks with headline act Bootleg Blondie and opening act The 19th Street Band.\nSaturday 17 August \nLive Music from 6.30pm \nCockle Row Cottages\, open 11am-8pm \n2pm-4pm I Free family fun I Sand Crafts \nFunfair* and food stalls from 4pm \n*(Charges apply) \nHeadline act Bootleg Blondie \nThe official Debbie Harry and Blondie tribute band. Lead vocalist of Bootleg Blondie has the looks\, voice and attitude of the original Blondie bombshell. \n19th Street Band \nA USA four-piece fusion of Americana\, country and rock on guitar\, fiddle\, mandolin\, bass and drums. \nCompere for the evening\, Ralph McClean of BBC Radio Ulster\, TV presenter and newspaper columnist. \nWhen the music ends the night isn’t over as the skies above Groomsport Harbour will light up with a spectacular fireworks display finale from 10pm. The perfect end to a great night of entertainment. \nFree buses to and from the event \n\n\n\nBangor Bus Station to Groomsport Main Street\n5.30pm\, 6.30pm\, 7.30pm and 8.30pm\n\n\nGroomsport Main Street to Bangor Bus Station\n10.30pm and 11pm\n\n\n\nRegular services are available throughout the day until 6.55pm (normal fares apply). Visit Translink for timetable information. \nhttps://www.visitardsandnorthdown.com/events/groomsport-music-and-fireworks
URL:https://19thstreetband.com/event/open-house-festival-groomsport-harbour/
LOCATION:Groomsport Harbour\, Main Street\, Groomsport\, Co. Down\, BT19 6JP\, United Kingdom
CATEGORIES:Show
END:VEVENT
BEGIN:VEVENT
DTSTART;TZID=Europe/London:20190816T220000
DTEND;TZID=Europe/London:20190817T010000
DTSTAMP:20260420T154847
CREATED:20190618T002114Z
LAST-MODIFIED:20190618T002114Z
UID:11539-1565992800-1566003600@19thstreetband.com
SUMMARY:Open House Festival - Jamaica Inn
DESCRIPTION:Open House Festival \nThe transatlantic four piece\, based in Washington DC\, return to Open House for a third year due to their memorable live performances and growing fan base. Husband and wife team Caolaidhe and Meghan Davis (guitar\, fiddle and mandolin) and pumping rhythm section\, Patty Dougherty (drums) and Greg Hardin (bass)\, play a fusion of Americana\, country and rock\, with heartfelt original songs\, strong vocal harmonies and total commitment to giving their audiences one helluva good night out.
URL:https://19thstreetband.com/event/open-house-festival-jamaica-inn/
LOCATION:The Jamaica Inn\, 188 Seacliff Rd\, Bangor\, Northern Ireland\, BT20 5HA\, United Kingdom
CATEGORIES:Show
END:VEVENT
BEGIN:VEVENT
DTSTART;TZID=Europe/London:20190816T150000
DTEND;TZID=Europe/London:20190816T170000
DTSTAMP:20260420T154847
CREATED:20190816T004813Z
LAST-MODIFIED:20190816T004813Z
UID:11818-1565967600-1565974800@19thstreetband.com
SUMMARY:BBC Radio Ulster Interview
DESCRIPTION:We’ll be chatting with Gerry Kelly on BBC Radio Ulster and playing some tunes live in the studio. \nTUNE IN: https://www.bbc.co.uk/programmes/m0007l08 \n3pm GMT | 10am EST
URL:https://19thstreetband.com/event/bbc-radio-ulster-interview/
LOCATION:BBC Radio Ulster\, Belfast\, United Kingdom
CATEGORIES:Show
ATTACH;FMTTYPE=image/jpeg:https://19thstreetband.com/wp-content/uploads/2018/01/radio-2-scaled.jpg
END:VEVENT
BEGIN:VEVENT
DTSTART;TZID=America/New_York:20190808T200000
DTEND;TZID=America/New_York:20190808T230000
DTSTAMP:20260420T154847
CREATED:20190808T190507Z
LAST-MODIFIED:20190808T190507Z
UID:11775-1565294400-1565305200@19thstreetband.com
SUMMARY:Lahinch Tavern & Grill
DESCRIPTION:
URL:https://19thstreetband.com/event/lahinch-tavern-grill-38/
LOCATION:Lahinch Tavern & Grill\, 7747 Tuckerman Lane\, Potomac\, MD\, 20854\, United States
CATEGORIES:Show
ATTACH;FMTTYPE=image/jpeg:https://19thstreetband.com/wp-content/uploads/2018/12/harp-ml-pic-2.jpg
END:VEVENT
BEGIN:VEVENT
DTSTART;TZID=America/New_York:20190807T203000
DTEND;TZID=America/New_York:20190808T003000
DTSTAMP:20260420T154847
CREATED:20190808T185754Z
LAST-MODIFIED:20190808T185754Z
UID:11773-1565209800-1565224200@19thstreetband.com
SUMMARY:JV's Restaurant
DESCRIPTION:
URL:https://19thstreetband.com/event/jvs-restaurant-19/
LOCATION:JV’s Restaurant\, 6666  Arlington Blvd.\, Falls Church\, VA\, 22042\, United States
CATEGORIES:Show
ATTACH;FMTTYPE=image/jpeg:https://19thstreetband.com/wp-content/uploads/2019/03/jvs.jpg
END:VEVENT
BEGIN:VEVENT
DTSTART;VALUE=DATE:20190803
DTEND;VALUE=DATE:20190805
DTSTAMP:20260420T154847
CREATED:20190612T212708Z
LAST-MODIFIED:20190723T025824Z
UID:11524-1564804800-1564891199@19thstreetband.com
SUMMARY:Iowa Irish Fest - Day 2
DESCRIPTION:We are VERY excited for our first appearance at the Iowa Irish Fest this summer in Waterloo\, IA. We will have two performances plus a workshop. Check out the great music all weekend long\, including Gaelic Storm\, The Screaming Orphans\, Scythian and more! Grab your tickets and join the 50\,000 attendees to this top-ranked national festival. \nWEBSITE: https://iowairishfest.com/category/music-dance/ \nTIX: https://app.tikly.co/events/3217 \nFULL SCHEDULE: https://iowairishfest.com/schedule/ \nThe 19th Street Band WORKSHOP – “Journey of the Northern Irish Hillbilly” – will take place on SATURDAY in the Black’s Building Music Room from 4:15-5pm. \nThe 19th Street Band will perform on SATURDAY from 10:30pm-midnight on the Van G. Miller Family Charitable Foundation Stage.
URL:https://19thstreetband.com/event/iowa-irish-fest-day-2/
LOCATION:Iowa Irish Fest\, Lincoln Park\, Waterloo\, IA\, 50703\, United States
CATEGORIES:Show
END:VEVENT
BEGIN:VEVENT
DTSTART;VALUE=DATE:20190802
DTEND;VALUE=DATE:20190804
DTSTAMP:20260420T154847
CREATED:20190612T212156Z
LAST-MODIFIED:20190723T030403Z
UID:11519-1564718400-1564804799@19thstreetband.com
SUMMARY:Iowa Irish Fest - Day 1
DESCRIPTION:We are VERY excited for our first appearance at the Iowa Irish Fest this summer in Waterloo\, IA. We will have two performances plus a workshop. Check out the great music all weekend long\, including Gaelic Storm\, The Screaming Orphans\, Scythian and more! Grab your tickets and join the 50\,000 attendees to this top-ranked national festival. \nWEBSITE: https://iowairishfest.com/category/music-dance/ \nTIX: https://app.tikly.co/events/3217 \nFULL SCHEDULE: https://iowairishfest.com/schedule/ \nThe 19th Street Band will play on FRIDAY from 10:45pm-midnight on the Lincoln Savings Bank Stage.
URL:https://19thstreetband.com/event/iowa-irish-fest-day-1/
LOCATION:Iowa Irish Fest\, Lincoln Park\, Waterloo\, IA\, 50703\, United States
CATEGORIES:Show
END:VEVENT
BEGIN:VEVENT
DTSTART;TZID=America/New_York:20190727T160000
DTEND;TZID=America/New_York:20190727T190000
DTSTAMP:20260420T154847
CREATED:20190723T024639Z
LAST-MODIFIED:20190723T024639Z
UID:11667-1564243200-1564254000@19thstreetband.com
SUMMARY:The Starboard - Dewey Beach
DESCRIPTION:Surprise! We’ve got one EXTRA final show of the summer at The Starboard!!!! Join us at 4pm on Saturday\, July 27th.
URL:https://19thstreetband.com/event/the-starboard-dewey-beach/
LOCATION:The Starboard\, 2009 Coastal Hwy\, Dewey Beach\, DE\, 19971\, United States
CATEGORIES:Show
ATTACH;FMTTYPE=image/jpeg:https://19thstreetband.com/wp-content/uploads/2019/05/starboard-3-2017_11_30-18_34_59-UTC.jpg
END:VEVENT
BEGIN:VEVENT
DTSTART;TZID=America/New_York:20190726T220000
DTEND;TZID=America/New_York:20190727T010000
DTSTAMP:20260420T154847
CREATED:20190723T024133Z
LAST-MODIFIED:20190723T024133Z
UID:11664-1564178400-1564189200@19thstreetband.com
SUMMARY:Public Bar Live - DC
DESCRIPTION:We’re playing a brand new music venue in DC near Dupont Circle!!! Great stage\, state of the art sound system….plus it’s a free show. \nCome join us from 10pm-1am!
URL:https://19thstreetband.com/event/public-bar-live-dc/
LOCATION:Public Bar Live\, 1214 18th Street NW\, Washington\, DC\, 20036\, United States
CATEGORIES:Show
ATTACH;FMTTYPE=image/jpeg:https://19thstreetband.com/wp-content/uploads/2019/05/promo-pic-2019-scaled.jpg
END:VEVENT
BEGIN:VEVENT
DTSTART;TZID=America/New_York:20190725T190000
DTEND;TZID=America/New_York:20190725T210000
DTSTAMP:20260420T154847
CREATED:20190612T210802Z
LAST-MODIFIED:20190612T210802Z
UID:11517-1564081200-1564088400@19thstreetband.com
SUMMARY:Midlands Beer Garden
DESCRIPTION:
URL:https://19thstreetband.com/event/midlands-beer-garden-2/
LOCATION:Midlands Beer Garden\, 3333 Georgia Ave NW\, Washington\, DC\, 20010\, United States
CATEGORIES:Show
ATTACH;FMTTYPE=image/jpeg:https://19thstreetband.com/wp-content/uploads/2018/09/239F2D15-C1F3-4390-8D6E-B1968E7517DB.jpeg
END:VEVENT
BEGIN:VEVENT
DTSTART;TZID=America/New_York:20190724T183000
DTEND;TZID=America/New_York:20190724T203000
DTSTAMP:20260420T154847
CREATED:20190612T204625Z
LAST-MODIFIED:20190612T204625Z
UID:11513-1563993000-1564000200@19thstreetband.com
SUMMARY:Shirlington Village Summer Concert Series
DESCRIPTION:Decades of Summer: Shirlington Summer Concert Series\nWe’re jammin’ in the Village at Shirlington! So kick back\, enjoy $5 wine tastings courtesy of Cheesetique\, take out a meal from your favorite Shirlington restaurant\, and soak in the setting sun to live music. \nWednesdays\, 6:30-8:30pm
URL:https://19thstreetband.com/event/shirlington-village-summer-concert-series/
LOCATION:The Village at Shirlington Plaza\, 4200 Campbell Avenue\, Arlington\, VA\, 22206\, United States
CATEGORIES:Show
END:VEVENT
BEGIN:VEVENT
DTSTART;TZID=America/New_York:20190721T140000
DTEND;TZID=America/New_York:20190721T173000
DTSTAMP:20260420T154847
CREATED:20190519T033434Z
LAST-MODIFIED:20190519T033434Z
UID:11430-1563717600-1563730200@19thstreetband.com
SUMMARY:The Starboard
DESCRIPTION:
URL:https://19thstreetband.com/event/the-starboard-6/
LOCATION:The Starboard\, 2009 Coastal Hwy\, Dewey Beach\, DE\, 19971\, United States
CATEGORIES:Show
ATTACH;FMTTYPE=image/jpeg:https://19thstreetband.com/wp-content/uploads/2018/10/starboard-pic-gcfl.jpg
END:VEVENT
BEGIN:VEVENT
DTSTART;TZID=America/New_York:20190720T214500
DTEND;TZID=America/New_York:20190720T234500
DTSTAMP:20260420T154847
CREATED:20190519T033210Z
LAST-MODIFIED:20190519T033210Z
UID:11428-1563659100-1563666300@19thstreetband.com
SUMMARY:Mango's Bethany Beach
DESCRIPTION:
URL:https://19thstreetband.com/event/mangos-bethany-beach-10/
LOCATION:Mango’s Bethany Beach\, 97 Garfield Pkwy\, Bethany Beach\, DE\, 19930\, United States
CATEGORIES:Show
ATTACH;FMTTYPE=image/jpeg:https://19thstreetband.com/wp-content/uploads/2018/04/mangos-bar-2.jpg
END:VEVENT
BEGIN:VEVENT
DTSTART;TZID=America/New_York:20190719T190000
DTEND;TZID=America/New_York:20190719T210000
DTSTAMP:20260420T154847
CREATED:20190519T033018Z
LAST-MODIFIED:20190519T033018Z
UID:11426-1563562800-1563570000@19thstreetband.com
SUMMARY:Yards Park
DESCRIPTION:The free Capitol Riverfront Friday Night Concert Series is back for its 9th Season. Every Friday night this summer\, head to Yards Park to relax and enjoy the river view\, fantastic bands\, food and beverage\, and a large variety of great restaurants within a few minutes walk from the park. Family-friendly lyrics and grassy open space make this an enjoyable event for adults and kids alike.
URL:https://19thstreetband.com/event/yards-park-3/
LOCATION:Yards Park\, 355 Water St SE\, Washington\, DC\, 20003\, United States
CATEGORIES:Show
END:VEVENT
BEGIN:VEVENT
DTSTART;TZID=America/New_York:20190718T180000
DTEND;TZID=America/New_York:20190718T200000
DTSTAMP:20260420T154847
CREATED:20190507T044825Z
LAST-MODIFIED:20190531T053020Z
UID:11328-1563472800-1563480000@19thstreetband.com
SUMMARY:Veterans Park Summer Concert Series
DESCRIPTION:Free outdoor Summer Concert Series in Bethesda at the Corner of Norfolk & Woodmont Aves \nFood & Drink by Smoke BBQ \n6-8pm \n 
URL:https://19thstreetband.com/event/veterans-park-summer-concert-series/
LOCATION:Veterans Park Bethesda\, Corner of Norfolk & Woodmont Aves\, Bethesda\, MD\, 20814\, United States
CATEGORIES:Show
ATTACH;FMTTYPE=image/jpeg:https://19thstreetband.com/wp-content/uploads/2018/09/239F2D15-C1F3-4390-8D6E-B1968E7517DB.jpeg
END:VEVENT
BEGIN:VEVENT
DTSTART;TZID=America/New_York:20190717T200000
DTEND;TZID=America/New_York:20190717T230000
DTSTAMP:20260420T154847
CREATED:20190519T032411Z
LAST-MODIFIED:20190519T032411Z
UID:11424-1563393600-1563404400@19thstreetband.com
SUMMARY:Lahinch Tavern & Grill
DESCRIPTION:
URL:https://19thstreetband.com/event/lahinch-tavern-grill-37/
LOCATION:Lahinch Tavern & Grill\, 7747 Tuckerman Lane\, Potomac\, MD\, 20854\, United States
CATEGORIES:Show
ATTACH;FMTTYPE=image/jpeg:https://19thstreetband.com/wp-content/uploads/2018/11/lahinch-tavern.jpg
END:VEVENT
BEGIN:VEVENT
DTSTART;TZID=America/New_York:20190713T180000
DTEND;TZID=America/New_York:20190713T220000
DTSTAMP:20260420T154847
CREATED:20190519T032018Z
LAST-MODIFIED:20190519T032018Z
UID:11422-1563040800-1563055200@19thstreetband.com
SUMMARY:Nick's Fish House
DESCRIPTION:
URL:https://19thstreetband.com/event/nicks-fish-house-3/
LOCATION:Nick’s Fish House\, 2600 Insulator Dr\, Baltimore\, MD\, 21230\, United States
CATEGORIES:Show
ATTACH;FMTTYPE=image/jpeg:https://19thstreetband.com/wp-content/uploads/2019/04/IMG_7125.jpg
END:VEVENT
BEGIN:VEVENT
DTSTART;TZID=America/New_York:20190712T193000
DTEND;TZID=America/New_York:20190712T203000
DTSTAMP:20260420T154847
CREATED:20190612T203539Z
LAST-MODIFIED:20190612T203539Z
UID:11509-1562959800-1562963400@19thstreetband.com
SUMMARY:Mount Vernon Nights Summer Concert Series
DESCRIPTION:Mount Vernon Nights Concert Series at Grist Mill Park and the Workhouse Arts Center \nThis series of free\, public concerts features a variety of musical performances reflecting Fairfax County’s diversity\, culture and community spirit. Bring a picnic dinner and a blanket and enjoy one of Fairfax County’s special summer traditions. Come early to the Workhouse Arts Center to explore its vibrant arts scene.
URL:https://19thstreetband.com/event/mount-vernon-nights-summer-concert-series/
LOCATION:Grist Mill Park\, 4710 Mt. Vernon Memorial Hwy\, Alexandria\, VA\, 22309\, United States
CATEGORIES:Show
END:VEVENT
BEGIN:VEVENT
DTSTART;TZID=America/New_York:20190711T203000
DTEND;TZID=America/New_York:20190712T003000
DTSTAMP:20260420T154847
CREATED:20190519T031622Z
LAST-MODIFIED:20190519T031622Z
UID:11420-1562877000-1562891400@19thstreetband.com
SUMMARY:JV's Restaurant & Live Music Venue
DESCRIPTION:
URL:https://19thstreetband.com/event/jvs-restaurant-live-music-venue-2/
LOCATION:JV’s Restaurant\, 6666  Arlington Blvd.\, Falls Church\, VA\, 22042\, United States
CATEGORIES:Show
ATTACH;FMTTYPE=image/jpeg:https://19thstreetband.com/wp-content/uploads/2019/03/jvs.jpg
END:VEVENT
BEGIN:VEVENT
DTSTART;TZID=America/New_York:20190710T183000
DTEND;TZID=America/New_York:20190710T213000
DTSTAMP:20260420T154847
CREATED:20190519T031356Z
LAST-MODIFIED:20190519T031356Z
UID:11416-1562783400-1562794200@19thstreetband.com
SUMMARY:"Dinner Under the Stars" Annapolis
DESCRIPTION:The first block of West Street (from Church Circle to Calvert Street)\, located in the heart of the Arts District\, will be closed to traffic on Wednesday evenings and with cafe tables reminiscent of the open air cafes in France and the piazzas of Rome\, Italy and Venice\, Italy. Live music will softly fill the air\, and special art exhibits will appear. As the sun sets\, an overhead light canopy will fill the air with soft light adding to the ambiance.  \nIt’s a night of relaxation\, dining and fine wines. It’s a place for families and friends to come together and for romantic evenings under the stars. For 12 Wednesday evenings from July through September\, Dinner under the stars will take place from 6pm to 10pm on the first block of West Street off Church Circle. These evenings are sure to become a new Annapolis tradition where the city can come together and enjoy the culinary arts. As outdoor space is limited\, reservations are recommended to secure your place at Dinner Under The Stars. Reservations can be made by calling the restaurants directly or by visiting Dinner Under the Stars online and reserving your table HERE. \nParticipating restaurants will give you a wide choice of international and hometown flavors. Make your reservations for Dinner under the stars with the following likely participating restaurants; Luna Blu Ristorante\, El Toro Bravo\, Tsunami Sushi Bar and Lounge\, 49 West Coffeehouse\, Stan and Joe’s Saloon\, and Rams Head Tavern Annapolis.
URL:https://19thstreetband.com/event/dinner-under-the-stars-annapolis/
LOCATION:Stan and Joe’s Parking Lot\, Between 37 & 45 West Street\, Annapolis\, MD\, 21401\, United States
CATEGORIES:Show
END:VEVENT
BEGIN:VEVENT
DTSTART;TZID=America/New_York:20190706T140000
DTEND;TZID=America/New_York:20190706T173000
DTSTAMP:20260420T154847
CREATED:20190519T030108Z
LAST-MODIFIED:20190519T030108Z
UID:11414-1562421600-1562434200@19thstreetband.com
SUMMARY:The Starboard Dewey
DESCRIPTION:Join us for a rockin’ Saturday afternoon full of tunes and dancing and orange crushes on the deck at The Starboard! 2-5:30pm
URL:https://19thstreetband.com/event/the-starboard-dewey-3/
LOCATION:The Starboard\, 2009 Coastal Hwy\, Dewey Beach\, DE\, 19971\, United States
CATEGORIES:Show
ATTACH;FMTTYPE=image/jpeg:https://19thstreetband.com/wp-content/uploads/2018/10/starboard.jpg
END:VEVENT
BEGIN:VEVENT
DTSTART;TZID=America/New_York:20190704T214500
DTEND;TZID=America/New_York:20190704T234500
DTSTAMP:20260420T154847
CREATED:20190519T025721Z
LAST-MODIFIED:20190519T025721Z
UID:11412-1562276700-1562283900@19thstreetband.com
SUMMARY:Mangos - 4th of July Celebration
DESCRIPTION:
URL:https://19thstreetband.com/event/mangos-4th-of-july-celebration/
LOCATION:Mango’s Bethany Beach\, 97 Garfield Pkwy\, Bethany Beach\, DE\, 19930\, United States
CATEGORIES:Show
ATTACH;FMTTYPE=image/jpeg:https://19thstreetband.com/wp-content/uploads/2018/05/IMG_0044.jpg
END:VEVENT
BEGIN:VEVENT
DTSTART;TZID=America/New_York:20190703T170000
DTEND;TZID=America/New_York:20190703T235900
DTSTAMP:20260420T154847
CREATED:20190612T202627Z
LAST-MODIFIED:20190612T202627Z
UID:11505-1562173200-1562198340@19thstreetband.com
SUMMARY:Derwoodstock 12
DESCRIPTION:Yeah\, baby\, yeah! Derwoodstock is back at Outta the Way Cafe on Wednesday\, July 3rd — and you’ve gotta be there! SIX great acts keep ya jamming and feelin’ good! We’re welcoming four new amazing acts… Headlining the show is Danger Bird specializing in passionately delivering the very best of Neil Young. Regional sensation The 19th Street Band brings their fabulously infectious fun high energy Americana country rock with all the killer harmonies! Highly acclaimed super charged roots rockers Moonshine Society will get you dancing and singing to their soulful New Orleans tinged R&B. Local groove-monsters Soul Gravity are back to host the show and get ya jamming’ and shakin’ all over. The Lifters return to rock your socks with killer guitar driven awesomeness\, and The Uncommoners will make you get funk rock freak on for sure with their super tight sound and stellar songs. \nIt’s gonna be over-the-top awesome! We’re ALL looking forward to rippin’ it up and rockin’ OUTTA! You just cannot miss this once a year blow out Derwood-style! Bring a friend and spread the word. Outta the Way Cafe is the only place to be for Derwoodstock 12. Rock on! \nDerwoodstock 12 – Wednesday\, July 3rd\nOutta the Way Cafe\n17503 Redland Road\, Derwood MD 20855 \nFeaturing:\nDanger Bird 10:40+\nThe 19th Street Band 9:30-10:30\nMoonshine Society 8:30 – 9:20\nSoul Gravity 7:40 – 8:20\nThe Lifters 6:50 – 7:30\nThe Uncommoners 6:00 – 6:40\nDoors open @ 5:00pm \nKiller t-shirts available at the show. Happy summer!!! \n#derwoodstock
URL:https://19thstreetband.com/event/derwoodstock-12/
LOCATION:Outta the Way Cafe\, 17503 Redland Rd\, Derwood\, MD\, 20855\, United States
CATEGORIES:Show
END:VEVENT
BEGIN:VEVENT
DTSTART;TZID=America/New_York:20190628T180000
DTEND;TZID=America/New_York:20190628T220000
DTSTAMP:20260420T154847
CREATED:20190517T185854Z
LAST-MODIFIED:20190517T185854Z
UID:11404-1561744800-1561759200@19thstreetband.com
SUMMARY:Poolesville Friday on the Commons - Red\, White\, & Brews Fest
DESCRIPTION:Red\, White\, & Brews \n June 28th – We’re feeling a bit patriotic!  Join us in our beer & wine garden\, we’ll be serving up reds & whites\, along with Barley & Hops brews!  We’ll have kids inflatables and activities\, farmers market and Food Trucks!  Local Singer/Songwriter Brian Harris will be playing tunes under the tent from 6:00 – 8:00 and the bandshell will be rocking to the sounds of the 19th Street Band from 8:00 – 10:00 pm – You don’t want to miss it. 
URL:https://19thstreetband.com/event/poolesville-friday-on-the-commons-red-white-brews-fest/
LOCATION:Whalen Commons\, 19701 Fisher Ave\, Poolesville\, MD\, 20837\, United States
END:VEVENT
BEGIN:VEVENT
DTSTART;TZID=America/New_York:20190627T210000
DTEND;TZID=America/New_York:20190628T003000
DTSTAMP:20260420T154847
CREATED:20190517T185206Z
LAST-MODIFIED:20190517T185206Z
UID:11402-1561669200-1561681800@19thstreetband.com
SUMMARY:Samuel Beckett's Irish Gastropub
DESCRIPTION:
URL:https://19thstreetband.com/event/samuel-becketts-irish-gastropub-9/
LOCATION:Samuel Beckett’s\, 2800 S Randolph St #110\, Arlington\, VA\, 22206\, United States
CATEGORIES:Show
END:VEVENT
BEGIN:VEVENT
DTSTART;TZID=America/New_York:20190626T183000
DTEND;TZID=America/New_York:20190626T210000
DTSTAMP:20260420T154847
CREATED:20190517T184143Z
LAST-MODIFIED:20190626T050712Z
UID:11400-1561573800-1561582800@19thstreetband.com
SUMMARY:The Wharf
DESCRIPTION:Wednesday at The Wharf is a free summer concert series that brings live music to Transit Pier Floating Stage every Wednesday.  
URL:https://19thstreetband.com/event/the-wharf/
LOCATION:Wharf DC\, 975 Wharf St SW\, Washington\, DC\, 20024\, United States
CATEGORIES:Show
ATTACH;FMTTYPE=image/jpeg:https://19thstreetband.com/wp-content/uploads/2018/09/wharf-dc.jpg
END:VEVENT
BEGIN:VEVENT
DTSTART;TZID=America/New_York:20190623T140000
DTEND;TZID=America/New_York:20190623T173000
DTSTAMP:20260420T154847
CREATED:20190517T183220Z
LAST-MODIFIED:20190517T183220Z
UID:11397-1561298400-1561311000@19thstreetband.com
SUMMARY:The Starboard
DESCRIPTION:
URL:https://19thstreetband.com/event/the-starboard-5/
LOCATION:The Starboard\, 2009 Coastal Hwy\, Dewey Beach\, DE\, 19971\, United States
CATEGORIES:Show
ATTACH;FMTTYPE=image/jpeg:https://19thstreetband.com/wp-content/uploads/2019/05/starboard-3-2017_11_30-18_34_59-UTC.jpg
END:VEVENT
BEGIN:VEVENT
DTSTART;TZID=America/New_York:20190622T214500
DTEND;TZID=America/New_York:20190622T234500
DTSTAMP:20260420T154847
CREATED:20190517T182814Z
LAST-MODIFIED:20190517T182814Z
UID:11394-1561239900-1561247100@19thstreetband.com
SUMMARY:Mango's Bethany Beach
DESCRIPTION:
URL:https://19thstreetband.com/event/mangos-bethany-beach-9/
LOCATION:Mango’s Bethany Beach\, 97 Garfield Pkwy\, Bethany Beach\, DE\, 19930\, United States
CATEGORIES:Show
ATTACH;FMTTYPE=image/jpeg:https://19thstreetband.com/wp-content/uploads/2019/05/mangos-natalee.jpg
END:VEVENT
BEGIN:VEVENT
DTSTART;TZID=America/New_York:20190621T193000
DTEND;TZID=America/New_York:20190621T210000
DTSTAMP:20260420T154847
CREATED:20190517T174233Z
LAST-MODIFIED:20190517T174233Z
UID:11390-1561145400-1561150800@19thstreetband.com
SUMMARY:Bethany Beach Bandstand
DESCRIPTION:7:30-9pm on the Boardwalk in Bethany Beach!
URL:https://19thstreetband.com/event/bethany-beach-bandstand/
LOCATION:Bethany Beach Bandstand\, Boardwalk\, Bethany Beach\, DE\, 19930\, United States
CATEGORIES:Show
END:VEVENT
BEGIN:VEVENT
DTSTART;TZID=America/New_York:20190620T180000
DTEND;TZID=America/New_York:20190620T200000
DTSTAMP:20260420T154847
CREATED:20190517T173312Z
LAST-MODIFIED:20190517T173312Z
UID:11388-1561053600-1561060800@19thstreetband.com
SUMMARY:Rock the Fountain Summer Concert Series @ Fair Hill
DESCRIPTION:
URL:https://19thstreetband.com/event/rock-the-fountain-summer-concert-series-fair-hill/
LOCATION:Fair Hill Shops\, 18100 Town Center Dr\, Olney\, MD\, 20832\, United States
CATEGORIES:Show
ATTACH;FMTTYPE=image/jpeg:https://19thstreetband.com/wp-content/uploads/2018/09/239F2D15-C1F3-4390-8D6E-B1968E7517DB.jpeg
END:VEVENT
END:VCALENDAR