BEGIN:VCALENDAR
VERSION:2.0
PRODID:-//The 19th Street Band - ECPv6.15.20//NONSGML v1.0//EN
CALSCALE:GREGORIAN
METHOD:PUBLISH
X-WR-CALNAME:The 19th Street Band
X-ORIGINAL-URL:https://19thstreetband.com
X-WR-CALDESC:Events for The 19th Street Band
REFRESH-INTERVAL;VALUE=DURATION:PT1H
X-Robots-Tag:noindex
X-PUBLISHED-TTL:PT1H
BEGIN:VTIMEZONE
TZID:America/New_York
BEGIN:DAYLIGHT
TZOFFSETFROM:-0500
TZOFFSETTO:-0400
TZNAME:EDT
DTSTART:20180311T070000
END:DAYLIGHT
BEGIN:STANDARD
TZOFFSETFROM:-0400
TZOFFSETTO:-0500
TZNAME:EST
DTSTART:20181104T060000
END:STANDARD
BEGIN:DAYLIGHT
TZOFFSETFROM:-0500
TZOFFSETTO:-0400
TZNAME:EDT
DTSTART:20190310T070000
END:DAYLIGHT
BEGIN:STANDARD
TZOFFSETFROM:-0400
TZOFFSETTO:-0500
TZNAME:EST
DTSTART:20191103T060000
END:STANDARD
BEGIN:DAYLIGHT
TZOFFSETFROM:-0500
TZOFFSETTO:-0400
TZNAME:EDT
DTSTART:20200308T070000
END:DAYLIGHT
BEGIN:STANDARD
TZOFFSETFROM:-0400
TZOFFSETTO:-0500
TZNAME:EST
DTSTART:20201101T060000
END:STANDARD
END:VTIMEZONE
BEGIN:VTIMEZONE
TZID:Europe/Dublin
BEGIN:STANDARD
TZOFFSETFROM:+0000
TZOFFSETTO:+0100
TZNAME:IST
DTSTART:20180325T010000
END:STANDARD
BEGIN:DAYLIGHT
TZOFFSETFROM:+0100
TZOFFSETTO:+0000
TZNAME:GMT
DTSTART:20181028T010000
END:DAYLIGHT
BEGIN:STANDARD
TZOFFSETFROM:+0000
TZOFFSETTO:+0100
TZNAME:IST
DTSTART:20190331T010000
END:STANDARD
BEGIN:DAYLIGHT
TZOFFSETFROM:+0100
TZOFFSETTO:+0000
TZNAME:GMT
DTSTART:20191027T010000
END:DAYLIGHT
BEGIN:STANDARD
TZOFFSETFROM:+0000
TZOFFSETTO:+0100
TZNAME:IST
DTSTART:20200329T010000
END:STANDARD
BEGIN:DAYLIGHT
TZOFFSETFROM:+0100
TZOFFSETTO:+0000
TZNAME:GMT
DTSTART:20201025T010000
END:DAYLIGHT
END:VTIMEZONE
BEGIN:VTIMEZONE
TZID:Europe/London
BEGIN:DAYLIGHT
TZOFFSETFROM:+0000
TZOFFSETTO:+0100
TZNAME:BST
DTSTART:20180325T010000
END:DAYLIGHT
BEGIN:STANDARD
TZOFFSETFROM:+0100
TZOFFSETTO:+0000
TZNAME:GMT
DTSTART:20181028T010000
END:STANDARD
BEGIN:DAYLIGHT
TZOFFSETFROM:+0000
TZOFFSETTO:+0100
TZNAME:BST
DTSTART:20190331T010000
END:DAYLIGHT
BEGIN:STANDARD
TZOFFSETFROM:+0100
TZOFFSETTO:+0000
TZNAME:GMT
DTSTART:20191027T010000
END:STANDARD
BEGIN:DAYLIGHT
TZOFFSETFROM:+0000
TZOFFSETTO:+0100
TZNAME:BST
DTSTART:20200329T010000
END:DAYLIGHT
BEGIN:STANDARD
TZOFFSETFROM:+0100
TZOFFSETTO:+0000
TZNAME:GMT
DTSTART:20201025T010000
END:STANDARD
END:VTIMEZONE
BEGIN:VEVENT
DTSTART;TZID=America/New_York:20191012T213000
DTEND;TZID=America/New_York:20191013T013000
DTSTAMP:20260420T134414
CREATED:20190909T221516Z
LAST-MODIFIED:20190909T221516Z
UID:11925-1570915800-1570930200@19thstreetband.com
SUMMARY:Flanagan's Harp & Fiddle
DESCRIPTION:
URL:https://19thstreetband.com/event/flanagans-harp-fiddle-30/
LOCATION:Flanagan’s Harp & Fiddle\, 4844 Cordell Ave\, Bethesda\, MD\, 20814\, United States
CATEGORIES:Show
ATTACH;FMTTYPE=image/jpeg:https://19thstreetband.com/wp-content/uploads/2019/03/100EAC2D-6E09-4E0E-9F77-95742AE6BCEC-scaled.jpeg
END:VEVENT
BEGIN:VEVENT
DTSTART;TZID=America/New_York:20191010T203000
DTEND;TZID=America/New_York:20191011T003000
DTSTAMP:20260420T134414
CREATED:20190909T221154Z
LAST-MODIFIED:20190909T221154Z
UID:11923-1570739400-1570753800@19thstreetband.com
SUMMARY:JV's Restaurant
DESCRIPTION:
URL:https://19thstreetband.com/event/jvs-restaurant-21/
LOCATION:JV’s Restaurant\, 6666  Arlington Blvd.\, Falls Church\, VA\, 22042\, United States
CATEGORIES:Show
ATTACH;FMTTYPE=image/jpeg:https://19thstreetband.com/wp-content/uploads/2019/03/jvs.jpg
END:VEVENT
BEGIN:VEVENT
DTSTART;TZID=America/New_York:20191002T200000
DTEND;TZID=America/New_York:20191002T230000
DTSTAMP:20260420T134414
CREATED:20190930T210318Z
LAST-MODIFIED:20190930T210318Z
UID:12047-1570046400-1570057200@19thstreetband.com
SUMMARY:The Irish Inn
DESCRIPTION:After a summer away of touring and traveling\, we’re excited to be returning to The Irish Inn for the first Wednesday of October! See y’all in the pub!!!
URL:https://19thstreetband.com/event/the-irish-inn-41/
LOCATION:Irish Inn\, 6119 Tulane Ave\, Glen Echo\, MD\, 20812\, United States
CATEGORIES:Show
ATTACH;FMTTYPE=image/jpeg:https://19thstreetband.com/wp-content/uploads/2017/11/Screen-Shot-2017-11-23-at-8.32.28-AM.jpg
END:VEVENT
BEGIN:VEVENT
DTSTART;TZID=America/New_York:20190929T120000
DTEND;TZID=America/New_York:20190929T170000
DTSTAMP:20260420T134414
CREATED:20190909T220434Z
LAST-MODIFIED:20190909T220434Z
UID:11918-1569758400-1569776400@19thstreetband.com
SUMMARY:Arlington ValleyFest '19
DESCRIPTION:ValleyFest 2019 is a street festival style celebration of Arts\, Business\, and Community taking place on September 29th. The festival features performances from local musicians\, food trucks\, tasty beer\, a kids zone\, and local artists. While free to enter\, those wishing to purchase tickets in advance for Beer at a discount of 3 tickets for $15 ($7/each day of) may do so at this Eventbrite page until September 1st when early bird discount ends. Get yours Today and we’ll see you at the festival! \nhttps://www.eventbrite.com/e/valleyfest-early-bird-tickets-65961238841aff=erelexpmlt&fbclid=IwAR2PFCqLcfKv9OyJciSbGxO7FAEb3DuRiRR0a9IuOkaw7M8kBQfUSovigkI \nEvent is 12-5pm \nThe 19th Street Band performs around 3pm. \n 
URL:https://19thstreetband.com/event/arlington-valleyfest-19/
LOCATION:New District Brewing Company\, 2709 S Oakland St\, Arlington\, VA\, 22206\, United States
CATEGORIES:Show
END:VEVENT
BEGIN:VEVENT
DTSTART;TZID=America/New_York:20190927T180000
DTEND;TZID=America/New_York:20190927T220000
DTSTAMP:20260420T134414
CREATED:20190909T215533Z
LAST-MODIFIED:20190909T215533Z
UID:11915-1569607200-1569621600@19thstreetband.com
SUMMARY:DEFHR Festival Kick-Off Concert Under The Stars
DESCRIPTION:Join Days End Farm Horse Rescue (DEFHR) and The 19th Street Band (https://19thstreetband.com/) for our Fall Festival Kick-Off Concert Under The Starts as we say “CHEERS TO 30 YEARS” and officially open our Hops for Horses Beer Garden! \nEquine Ambassadors will be your bouncers for the evening and available for photo ops\, while good food cooking will getting your taste buds going. The Hops for Horses Beer Garden will be serving seasonal brews – paired perfectly with good music and good food.  Twilight tours of the farm will also be offered so you can see firsthand the great work DEFHR does. \nYou WILL NOT want to miss this concert under the stars at one of Maryland’s premier horse farms. \nGates open at 6:00pm\, admission is $5 per person – parking is on site and 1st come 1st serve until lots are full. Music starts at 7:00pm. This is a community event and we want everyone to come out and celebrate our 30 year milestone all while enjoying good music\, good food\, good company and maybe a little bit of corn hole – all for the horses! Brew\, Parking and a portion of Food proceeds go back to DEFHR’s rehabilitation fund. This is a cash only event – ATM will be on site. For more information visit: www.deflr.org \nMark Your Calendars – Looking forward to seeing everyone!
URL:https://19thstreetband.com/event/defhr-festival-kick-off-concert-under-the-stars/
LOCATION:Days End Farm Horse Rescue\, 1372 Woodbine Rd\, Woodbine\, MD\, 21797\, United States
CATEGORIES:Show
END:VEVENT
BEGIN:VEVENT
DTSTART;TZID=America/New_York:20190921T170000
DTEND;TZID=America/New_York:20190921T210000
DTSTAMP:20260420T134414
CREATED:20190909T214617Z
LAST-MODIFIED:20190909T214617Z
UID:11911-1569085200-1569099600@19thstreetband.com
SUMMARY:Dewey Beach End of Season Party
DESCRIPTION:Join us to celebrate the end of summer with some fun on the beach between New Orleans & Dagsworthy Streets! Food from your favorite Dewey Beach restaurants\, beer\, wine & a crush bar. Bonfire\, live music and all around fun! Two bands this year. \nBen Leroy and the Snap 5:00 -6:30pm \nThe 19th Street Band 7-9pm \nGeneral admission: $5 donation at the entrance.  \nTables available…10 seats…$125\nSign-up for a table at Eventbrite starting August 2 at 8:00 a.m.\n30 table limit.\nhttps://www.eventbrite.com/e/copy-of-dewey-beach-end-of-season-party-vip-tables-tickets-67547029985 \nHosted by Dewey Beach Partnership \nDescription\n\n\n\nDewey Beach End of Season Party! Join us as a VIP for this “best loved” Dewey tradtion! \nWant to be a VIP? Reserve your VIP table today! \nTable includes ten seats. \nYour table reservation helps cover the cost of the production of the party for the Dewey Business Partnership as we are dedicated to providing well-rounded\, family freindly events in Dewey Beach. We can’t thank you enough for helping support the Dewey Business Partnership. \nFAQs \nAre there ID or minimum age requirements to enter the event? \nAll ages event… but you must hold a VALID ID of 21 or older to consume alcohol. BRING ID! \nStrictly enforced. \nWhat can I bring into the event? \nBeach chairs\, beach blankets and cash. \nIf you and your guests would like to roast marshmallows at the bonfire please bring your own supplies. \nPlease do not bring your own alcohol. Thanks! \nWe will have beer\, wine waters\, and a crush bar. All proceeds from the bar go towards event funding. \nFood vendors…cash only as well. \nHow can I contact the organizer with any questions? \nkellydewey@comcast.net or text 3022283701. No phone calls please. \nDo I have to bring my printed ticket to the event? \nThanks for supporting the Dewey Business Partnership.\nFollow these instructions.\n1. Print receipt.\n2. You may pick up your ten wristbands at the Starboard T shirt shop after September 6.\n3. Wristbands that are not picked up before Saturday\, Sept. 21 at 3:00 p.m. will be available at the entrance to the party. Entrance is located at Dagsworthy Street Beach.\n4. Please have your guests wear their wristbands BEFORE entering the party and show to the attendants at the entrance. \n5. Tables will be marked with your name. \nIf you have any special seating requests\, please email kellydewey@comcast.net. I will try to honor all requests. PLEASE do not bring in outside alcohol
URL:https://19thstreetband.com/event/dewey-beach-end-of-season-party/
LOCATION:Dewey Beach\, Bellevue Street Beach\, Dewey Beach\, DE\, 19971\, United States
CATEGORIES:Show
END:VEVENT
BEGIN:VEVENT
DTSTART;TZID=America/New_York:20190920T170000
DTEND;TZID=America/New_York:20190920T210000
DTSTAMP:20260420T134414
CREATED:20190909T212429Z
LAST-MODIFIED:20190909T212430Z
UID:11907-1568998800-1569013200@19thstreetband.com
SUMMARY:Seacrets OCMD
DESCRIPTION:Join us in the Tiki Bar from 5-9pm where summer never ends!
URL:https://19thstreetband.com/event/seacrets-ocmd/
LOCATION:Seacrets Jamaica USA\, 117 49th street\, Ocean City\, MD\, 21842\, United States
CATEGORIES:Show
ATTACH;FMTTYPE=image/jpeg:https://19thstreetband.com/wp-content/uploads/2019/09/IMG_7442.jpg
END:VEVENT
BEGIN:VEVENT
DTSTART;TZID=America/New_York:20190919T190000
DTEND;TZID=America/New_York:20190920T003000
DTSTAMP:20260420T134414
CREATED:20190808T205417Z
LAST-MODIFIED:20190808T210042Z
UID:11793-1568919600-1568939400@19thstreetband.com
SUMMARY:The 8x10 with Jakob's Ferry Stragglers & Unstrung Heroes
DESCRIPTION:Time for another fantastic THIRD THURSDAY BLUEGRASS show at The 8×10 in Baltimore! \nDoors are at 7PM \nMusic sets:\nUnstrung Heroes 8:00-9:15\n19th Street Band    9:30-10:45\nThe Jakob’s Ferry Stragglers   11:00-12:30 \nTICKETS: https://www.mt.cm/third-thursday-bluegrassjakobs-ferry-stragglersthe-19th-street-band \nBulleit Bourbon sponsors the night and The 8×10 gives away 2 – $25 Bulleit Bar tabs in drawings in between sets. \nThere are also raffle tickets available to purchase for prizes and all the proceeds going to  the VA Way (an organization with the mission to bridge the gap between Veterans and employers ensuring our veterans are given the opportunity to enhance their quality of life through employment).
URL:https://19thstreetband.com/event/the-8x10-with-jakobs-ferry-stragglers-unstrung-heroes/
LOCATION:The 8×10\, 10 East Cross St\, Baltimore\, MD\, 21230\, United States
CATEGORIES:Show
ATTACH;FMTTYPE=image/jpeg:https://19thstreetband.com/wp-content/uploads/2018/05/IMG_1803-scaled.jpg
END:VEVENT
BEGIN:VEVENT
DTSTART;TZID=America/New_York:20190918T200000
DTEND;TZID=America/New_York:20190918T230000
DTSTAMP:20260420T134414
CREATED:20190808T205027Z
LAST-MODIFIED:20190808T205027Z
UID:11791-1568836800-1568847600@19thstreetband.com
SUMMARY:Lahinch Tavern & Grill
DESCRIPTION:
URL:https://19thstreetband.com/event/lahinch-tavern-grill-39/
LOCATION:Lahinch Tavern & Grill\, 7747 Tuckerman Lane\, Potomac\, MD\, 20854\, United States
CATEGORIES:Show
ATTACH;FMTTYPE=image/jpeg:https://19thstreetband.com/wp-content/uploads/2018/11/lahinch-tavern.jpg
END:VEVENT
BEGIN:VEVENT
DTSTART;TZID=America/New_York:20190913T213000
DTEND;TZID=America/New_York:20190914T013000
DTSTAMP:20260420T134414
CREATED:20190808T204754Z
LAST-MODIFIED:20190808T204754Z
UID:11789-1568410200-1568424600@19thstreetband.com
SUMMARY:Daniel O'Connell's
DESCRIPTION:
URL:https://19thstreetband.com/event/daniel-oconnells/
LOCATION:Daniel O’Connell’s Restaurant & Bar\, 112 King St\, Alexandria\, VA\, 22314\, United States
CATEGORIES:Show
ATTACH;FMTTYPE=image/jpeg:https://19thstreetband.com/wp-content/uploads/2019/06/uluru-.jpg
END:VEVENT
BEGIN:VEVENT
DTSTART;TZID=America/New_York:20190912T203000
DTEND;TZID=America/New_York:20190913T003000
DTSTAMP:20260420T134414
CREATED:20190808T203916Z
LAST-MODIFIED:20190808T203916Z
UID:11787-1568320200-1568334600@19thstreetband.com
SUMMARY:JV's Restaurant
DESCRIPTION:
URL:https://19thstreetband.com/event/jvs-restaurant-20/
LOCATION:JV’s Restaurant\, 6666  Arlington Blvd.\, Falls Church\, VA\, 22042\, United States
CATEGORIES:Show
ATTACH;FMTTYPE=image/jpeg:https://19thstreetband.com/wp-content/uploads/2019/03/jvs.jpg
END:VEVENT
BEGIN:VEVENT
DTSTART;TZID=America/New_York:20190906T183000
DTEND;TZID=America/New_York:20190906T213000
DTSTAMP:20260420T134414
CREATED:20190808T202959Z
LAST-MODIFIED:20190808T202959Z
UID:11783-1567794600-1567805400@19thstreetband.com
SUMMARY:Boots & Bowties
DESCRIPTION:WHEN | Friday\, September 6\, 2019\nWHERE | Falling Branch Brewery (Street\, MD) \nWe’re celebrating 30 years of providing housing\, resources and support to families with children experiencing homelessness here in Harford County. What better way to celebrate the more than 1\,900 individuals and 600 families we’ve helped over the years than a birthday bash!? \nJoin us Friday\, September 6\, 2019\, at Falling Branch Brewery in Street\, MD and enjoy unlimited craft beer and wine\, with delectable fare provided by Pairings Bistro and Laurrapin Catering! \nTickets are available NOW!  Get yours before it is too late by clicking here!
URL:https://19thstreetband.com/event/boots-bowties/
LOCATION:Falling Branch Brewery\, 825 Highland Rd\, Street\, MD\, 21154\, United States
CATEGORIES:Show
END:VEVENT
BEGIN:VEVENT
DTSTART;TZID=America/New_York:20190905T170000
DTEND;TZID=America/New_York:20190905T210000
DTSTAMP:20260420T134414
CREATED:20190808T200157Z
LAST-MODIFIED:20190808T200157Z
UID:11781-1567702800-1567717200@19thstreetband.com
SUMMARY:Nick's Fish House
DESCRIPTION:
URL:https://19thstreetband.com/event/nicks-fish-house-4/
LOCATION:Nick’s Fish House\, 2600 Insulator Dr\, Baltimore\, MD\, 21230\, United States
CATEGORIES:Show
ATTACH;FMTTYPE=image/jpeg:https://19thstreetband.com/wp-content/uploads/2019/04/IMG_7125.jpg
END:VEVENT
BEGIN:VEVENT
DTSTART;TZID=Europe/Dublin:20190825T200000
DTEND;TZID=Europe/Dublin:20190825T220000
DTSTAMP:20260420T134414
CREATED:20190723T043340Z
LAST-MODIFIED:20190723T043340Z
UID:11678-1566763200-1566770400@19thstreetband.com
SUMMARY:The Leeson Lounge
DESCRIPTION:The last night of our 2019 Kickin’ Up Dust Tour!
URL:https://19thstreetband.com/event/the-leeson-lounge/
LOCATION:The Leeson Lounge\, 148 Leeson Street Upper\, Dublin\, Dublin\, Ireland
CATEGORIES:Show
END:VEVENT
BEGIN:VEVENT
DTSTART;TZID=America/New_York:20190824T210000
DTEND;TZID=America/New_York:20190824T233000
DTSTAMP:20260420T134414
CREATED:20190618T021507Z
LAST-MODIFIED:20190816T003551Z
UID:11552-1566680400-1566689400@19thstreetband.com
SUMMARY:The Uluru\, Waterford
DESCRIPTION:Get on the dance floor and Kick Up Dust with us at The Uluru in Waterford\, Ireland! A Saturday night not to be missed!!!
URL:https://19thstreetband.com/event/the-uluru-waterford-2/
LOCATION:The Uluru Outback Bar & Restaurant\, Dunmore Road\, Co. Waterford\, Waterford\, Ireland
CATEGORIES:Show
ATTACH;FMTTYPE=image/jpeg:https://19thstreetband.com/wp-content/uploads/2019/06/uluru-.jpg
END:VEVENT
BEGIN:VEVENT
DTSTART;TZID=America/New_York:20190823T220000
DTEND;TZID=America/New_York:20190823T230000
DTSTAMP:20260420T134414
CREATED:20190808T193053Z
LAST-MODIFIED:20190816T003816Z
UID:11777-1566597600-1566601200@19thstreetband.com
SUMMARY:Dunmore East Bluegrass Festival
DESCRIPTION:Catch our set at The Strand Inn at 10pm for the Dunmore East Bluegrass Festival!!!
URL:https://19thstreetband.com/event/dunmore-east-bluegrass-festival/
LOCATION:Dunmore East Bluegrass Festival\, Dunmore East\, Dunmore East\, Co. Waterford\, Ireland
CATEGORIES:Show
END:VEVENT
BEGIN:VEVENT
DTSTART;TZID=Europe/London:20190822T200000
DTEND;TZID=Europe/London:20190822T230000
DTSTAMP:20260420T134414
CREATED:20190618T020240Z
LAST-MODIFIED:20190618T020240Z
UID:11549-1566504000-1566514800@19thstreetband.com
SUMMARY:Bakers Bar\, Tipperary
DESCRIPTION:Spread the word – we’ll be returning to Bakers Bar in Clonmel\, Tipperary for our Kickin’ Up Dust Tour. Don’t miss this special opportunity to hear us perform with the legendary\, Philip Donnelly!
URL:https://19thstreetband.com/event/bakers-bar-tipperary/
LOCATION:Bakers Bar\, 17 Parnell St\, Clonmel\, Co. Tipperary\, Ireland
CATEGORIES:Show
END:VEVENT
BEGIN:VEVENT
DTSTART;TZID=Europe/Dublin:20190822T103000
DTEND;TZID=Europe/Dublin:20190822T120000
DTSTAMP:20260420T134414
CREATED:20190816T005442Z
LAST-MODIFIED:20190816T005442Z
UID:11821-1566469800-1566475200@19thstreetband.com
SUMMARY:TippFM Radio Interview
DESCRIPTION:Tune in while we get to hang out with Trudy Lawlor (Fran Curry show) on TippFM to promote our show at Bakers Bar and our new single! \nhttp://tippfm.com
URL:https://19thstreetband.com/event/tippfm-radio-interview/
LOCATION:TippFM\, Tipperary
CATEGORIES:Show
END:VEVENT
BEGIN:VEVENT
DTSTART;TZID=Europe/London:20190820T220000
DTEND;TZID=Europe/London:20190820T235900
DTSTAMP:20260420T134414
CREATED:20190618T015740Z
LAST-MODIFIED:20190816T004007Z
UID:11547-1566338400-1566345540@19thstreetband.com
SUMMARY:The Chasin Bull\, Bundoran
DESCRIPTION:Can’t wait to get back to The Chasin’ Bull in Bundoran\, Donegal this summer as part of our Kickin’ Up Dust Tour!
URL:https://19thstreetband.com/event/the-chasin-bull-bundoran/
LOCATION:The Chasin’ Bull\, Main Street\, Bundoran\, Donegal\, Ireland
CATEGORIES:Show
ATTACH;FMTTYPE=image/png:https://19thstreetband.com/wp-content/uploads/2018/03/slide3.png
END:VEVENT
BEGIN:VEVENT
DTSTART;TZID=America/New_York:20190818T190000
DTEND;TZID=America/New_York:20190818T210000
DTSTAMP:20260420T134414
CREATED:20190618T015219Z
LAST-MODIFIED:20190724T165201Z
UID:11544-1566154800-1566162000@19thstreetband.com
SUMMARY:The Belfast Barge
DESCRIPTION:The 19th Street Band returns to The Belfast Barge this August for their 2019 Kickin’ Up Dust Tour! Bringing the tunes all the way from Washington\, DC\, this group is no stranger to the Barge as this will be their third appearance aboard. The Barge will be a-rockin’ on Sunday\, 18th of August as they showcase new songs from their upcoming album – don’t miss it!!! \nGrab some friends and BYO. \nDoors 6:30pm  |  Show 7pm \nTICKETS: https://www.wegottickets.com/event/478605
URL:https://19thstreetband.com/event/the-belfast-barge-3/
LOCATION:The Belfast Barge\, 1 Lanyon Quay\, Belfast\, Northern Ireland\, BT1 3LG\, United Kingdom
CATEGORIES:Show
END:VEVENT
BEGIN:VEVENT
DTSTART;TZID=Europe/London:20190817T180000
DTEND;TZID=Europe/London:20190817T220000
DTSTAMP:20260420T134414
CREATED:20190723T033238Z
LAST-MODIFIED:20190724T170519Z
UID:11674-1566064800-1566079200@19thstreetband.com
SUMMARY:Open House Festival - Groomsport Harbour
DESCRIPTION:Join us in Groomsport for this year’s music and fireworks with headline act Bootleg Blondie and opening act The 19th Street Band.\nSaturday 17 August \nLive Music from 6.30pm \nCockle Row Cottages\, open 11am-8pm \n2pm-4pm I Free family fun I Sand Crafts \nFunfair* and food stalls from 4pm \n*(Charges apply) \nHeadline act Bootleg Blondie \nThe official Debbie Harry and Blondie tribute band. Lead vocalist of Bootleg Blondie has the looks\, voice and attitude of the original Blondie bombshell. \n19th Street Band \nA USA four-piece fusion of Americana\, country and rock on guitar\, fiddle\, mandolin\, bass and drums. \nCompere for the evening\, Ralph McClean of BBC Radio Ulster\, TV presenter and newspaper columnist. \nWhen the music ends the night isn’t over as the skies above Groomsport Harbour will light up with a spectacular fireworks display finale from 10pm. The perfect end to a great night of entertainment. \nFree buses to and from the event \n\n\n\nBangor Bus Station to Groomsport Main Street\n5.30pm\, 6.30pm\, 7.30pm and 8.30pm\n\n\nGroomsport Main Street to Bangor Bus Station\n10.30pm and 11pm\n\n\n\nRegular services are available throughout the day until 6.55pm (normal fares apply). Visit Translink for timetable information. \nhttps://www.visitardsandnorthdown.com/events/groomsport-music-and-fireworks
URL:https://19thstreetband.com/event/open-house-festival-groomsport-harbour/
LOCATION:Groomsport Harbour\, Main Street\, Groomsport\, Co. Down\, BT19 6JP\, United Kingdom
CATEGORIES:Show
END:VEVENT
BEGIN:VEVENT
DTSTART;TZID=Europe/London:20190816T220000
DTEND;TZID=Europe/London:20190817T010000
DTSTAMP:20260420T134414
CREATED:20190618T002114Z
LAST-MODIFIED:20190618T002114Z
UID:11539-1565992800-1566003600@19thstreetband.com
SUMMARY:Open House Festival - Jamaica Inn
DESCRIPTION:Open House Festival \nThe transatlantic four piece\, based in Washington DC\, return to Open House for a third year due to their memorable live performances and growing fan base. Husband and wife team Caolaidhe and Meghan Davis (guitar\, fiddle and mandolin) and pumping rhythm section\, Patty Dougherty (drums) and Greg Hardin (bass)\, play a fusion of Americana\, country and rock\, with heartfelt original songs\, strong vocal harmonies and total commitment to giving their audiences one helluva good night out.
URL:https://19thstreetband.com/event/open-house-festival-jamaica-inn/
LOCATION:The Jamaica Inn\, 188 Seacliff Rd\, Bangor\, Northern Ireland\, BT20 5HA\, United Kingdom
CATEGORIES:Show
END:VEVENT
BEGIN:VEVENT
DTSTART;TZID=Europe/London:20190816T150000
DTEND;TZID=Europe/London:20190816T170000
DTSTAMP:20260420T134414
CREATED:20190816T004813Z
LAST-MODIFIED:20190816T004813Z
UID:11818-1565967600-1565974800@19thstreetband.com
SUMMARY:BBC Radio Ulster Interview
DESCRIPTION:We’ll be chatting with Gerry Kelly on BBC Radio Ulster and playing some tunes live in the studio. \nTUNE IN: https://www.bbc.co.uk/programmes/m0007l08 \n3pm GMT | 10am EST
URL:https://19thstreetband.com/event/bbc-radio-ulster-interview/
LOCATION:BBC Radio Ulster\, Belfast\, United Kingdom
CATEGORIES:Show
ATTACH;FMTTYPE=image/jpeg:https://19thstreetband.com/wp-content/uploads/2018/01/radio-2-scaled.jpg
END:VEVENT
BEGIN:VEVENT
DTSTART;TZID=America/New_York:20190808T200000
DTEND;TZID=America/New_York:20190808T230000
DTSTAMP:20260420T134414
CREATED:20190808T190507Z
LAST-MODIFIED:20190808T190507Z
UID:11775-1565294400-1565305200@19thstreetband.com
SUMMARY:Lahinch Tavern & Grill
DESCRIPTION:
URL:https://19thstreetband.com/event/lahinch-tavern-grill-38/
LOCATION:Lahinch Tavern & Grill\, 7747 Tuckerman Lane\, Potomac\, MD\, 20854\, United States
CATEGORIES:Show
ATTACH;FMTTYPE=image/jpeg:https://19thstreetband.com/wp-content/uploads/2018/12/harp-ml-pic-2.jpg
END:VEVENT
BEGIN:VEVENT
DTSTART;TZID=America/New_York:20190807T203000
DTEND;TZID=America/New_York:20190808T003000
DTSTAMP:20260420T134414
CREATED:20190808T185754Z
LAST-MODIFIED:20190808T185754Z
UID:11773-1565209800-1565224200@19thstreetband.com
SUMMARY:JV's Restaurant
DESCRIPTION:
URL:https://19thstreetband.com/event/jvs-restaurant-19/
LOCATION:JV’s Restaurant\, 6666  Arlington Blvd.\, Falls Church\, VA\, 22042\, United States
CATEGORIES:Show
ATTACH;FMTTYPE=image/jpeg:https://19thstreetband.com/wp-content/uploads/2019/03/jvs.jpg
END:VEVENT
BEGIN:VEVENT
DTSTART;VALUE=DATE:20190803
DTEND;VALUE=DATE:20190805
DTSTAMP:20260420T134414
CREATED:20190612T212708Z
LAST-MODIFIED:20190723T025824Z
UID:11524-1564804800-1564891199@19thstreetband.com
SUMMARY:Iowa Irish Fest - Day 2
DESCRIPTION:We are VERY excited for our first appearance at the Iowa Irish Fest this summer in Waterloo\, IA. We will have two performances plus a workshop. Check out the great music all weekend long\, including Gaelic Storm\, The Screaming Orphans\, Scythian and more! Grab your tickets and join the 50\,000 attendees to this top-ranked national festival. \nWEBSITE: https://iowairishfest.com/category/music-dance/ \nTIX: https://app.tikly.co/events/3217 \nFULL SCHEDULE: https://iowairishfest.com/schedule/ \nThe 19th Street Band WORKSHOP – “Journey of the Northern Irish Hillbilly” – will take place on SATURDAY in the Black’s Building Music Room from 4:15-5pm. \nThe 19th Street Band will perform on SATURDAY from 10:30pm-midnight on the Van G. Miller Family Charitable Foundation Stage.
URL:https://19thstreetband.com/event/iowa-irish-fest-day-2/
LOCATION:Iowa Irish Fest\, Lincoln Park\, Waterloo\, IA\, 50703\, United States
CATEGORIES:Show
END:VEVENT
BEGIN:VEVENT
DTSTART;VALUE=DATE:20190802
DTEND;VALUE=DATE:20190804
DTSTAMP:20260420T134414
CREATED:20190612T212156Z
LAST-MODIFIED:20190723T030403Z
UID:11519-1564718400-1564804799@19thstreetband.com
SUMMARY:Iowa Irish Fest - Day 1
DESCRIPTION:We are VERY excited for our first appearance at the Iowa Irish Fest this summer in Waterloo\, IA. We will have two performances plus a workshop. Check out the great music all weekend long\, including Gaelic Storm\, The Screaming Orphans\, Scythian and more! Grab your tickets and join the 50\,000 attendees to this top-ranked national festival. \nWEBSITE: https://iowairishfest.com/category/music-dance/ \nTIX: https://app.tikly.co/events/3217 \nFULL SCHEDULE: https://iowairishfest.com/schedule/ \nThe 19th Street Band will play on FRIDAY from 10:45pm-midnight on the Lincoln Savings Bank Stage.
URL:https://19thstreetband.com/event/iowa-irish-fest-day-1/
LOCATION:Iowa Irish Fest\, Lincoln Park\, Waterloo\, IA\, 50703\, United States
CATEGORIES:Show
END:VEVENT
BEGIN:VEVENT
DTSTART;TZID=America/New_York:20190727T160000
DTEND;TZID=America/New_York:20190727T190000
DTSTAMP:20260420T134414
CREATED:20190723T024639Z
LAST-MODIFIED:20190723T024639Z
UID:11667-1564243200-1564254000@19thstreetband.com
SUMMARY:The Starboard - Dewey Beach
DESCRIPTION:Surprise! We’ve got one EXTRA final show of the summer at The Starboard!!!! Join us at 4pm on Saturday\, July 27th.
URL:https://19thstreetband.com/event/the-starboard-dewey-beach/
LOCATION:The Starboard\, 2009 Coastal Hwy\, Dewey Beach\, DE\, 19971\, United States
CATEGORIES:Show
ATTACH;FMTTYPE=image/jpeg:https://19thstreetband.com/wp-content/uploads/2019/05/starboard-3-2017_11_30-18_34_59-UTC.jpg
END:VEVENT
BEGIN:VEVENT
DTSTART;TZID=America/New_York:20190726T220000
DTEND;TZID=America/New_York:20190727T010000
DTSTAMP:20260420T134414
CREATED:20190723T024133Z
LAST-MODIFIED:20190723T024133Z
UID:11664-1564178400-1564189200@19thstreetband.com
SUMMARY:Public Bar Live - DC
DESCRIPTION:We’re playing a brand new music venue in DC near Dupont Circle!!! Great stage\, state of the art sound system….plus it’s a free show. \nCome join us from 10pm-1am!
URL:https://19thstreetband.com/event/public-bar-live-dc/
LOCATION:Public Bar Live\, 1214 18th Street NW\, Washington\, DC\, 20036\, United States
CATEGORIES:Show
ATTACH;FMTTYPE=image/jpeg:https://19thstreetband.com/wp-content/uploads/2019/05/promo-pic-2019-scaled.jpg
END:VEVENT
BEGIN:VEVENT
DTSTART;TZID=America/New_York:20190725T190000
DTEND;TZID=America/New_York:20190725T210000
DTSTAMP:20260420T134414
CREATED:20190612T210802Z
LAST-MODIFIED:20190612T210802Z
UID:11517-1564081200-1564088400@19thstreetband.com
SUMMARY:Midlands Beer Garden
DESCRIPTION:
URL:https://19thstreetband.com/event/midlands-beer-garden-2/
LOCATION:Midlands Beer Garden\, 3333 Georgia Ave NW\, Washington\, DC\, 20010\, United States
CATEGORIES:Show
ATTACH;FMTTYPE=image/jpeg:https://19thstreetband.com/wp-content/uploads/2018/09/239F2D15-C1F3-4390-8D6E-B1968E7517DB.jpeg
END:VEVENT
END:VCALENDAR