BEGIN:VCALENDAR
VERSION:2.0
PRODID:-//The 19th Street Band - ECPv6.15.20//NONSGML v1.0//EN
CALSCALE:GREGORIAN
METHOD:PUBLISH
X-WR-CALNAME:The 19th Street Band
X-ORIGINAL-URL:https://19thstreetband.com
X-WR-CALDESC:Events for The 19th Street Band
REFRESH-INTERVAL;VALUE=DURATION:PT1H
X-Robots-Tag:noindex
X-PUBLISHED-TTL:PT1H
BEGIN:VTIMEZONE
TZID:America/New_York
BEGIN:DAYLIGHT
TZOFFSETFROM:-0500
TZOFFSETTO:-0400
TZNAME:EDT
DTSTART:20190310T070000
END:DAYLIGHT
BEGIN:STANDARD
TZOFFSETFROM:-0400
TZOFFSETTO:-0500
TZNAME:EST
DTSTART:20191103T060000
END:STANDARD
BEGIN:DAYLIGHT
TZOFFSETFROM:-0500
TZOFFSETTO:-0400
TZNAME:EDT
DTSTART:20200308T070000
END:DAYLIGHT
BEGIN:STANDARD
TZOFFSETFROM:-0400
TZOFFSETTO:-0500
TZNAME:EST
DTSTART:20201101T060000
END:STANDARD
BEGIN:DAYLIGHT
TZOFFSETFROM:-0500
TZOFFSETTO:-0400
TZNAME:EDT
DTSTART:20210314T070000
END:DAYLIGHT
BEGIN:STANDARD
TZOFFSETFROM:-0400
TZOFFSETTO:-0500
TZNAME:EST
DTSTART:20211107T060000
END:STANDARD
END:VTIMEZONE
BEGIN:VEVENT
DTSTART;TZID=America/New_York:20200503T090000
DTEND;TZID=America/New_York:20200503T120000
DTSTAMP:20260420T095318
CREATED:20200502T230431Z
LAST-MODIFIED:20200502T230431Z
UID:12791-1588496400-1588507200@19thstreetband.com
SUMMARY:Forbidden Alliance Radio Show - WOWD Takoma Park
DESCRIPTION:The 19th Street Band will be interviewed by Robbie White on the Forbidden Alliance Radio Show. \nShow starts at 9am\, with interview and music from The 19th Street Band from 11am-noon. \nNot local to Takoma Park? Listen online! \nSongs from the upcoming album!
URL:https://19thstreetband.com/event/forbidden-alliance-radio-show-wowd-takoma-park/
LOCATION:Takoma Radio WOWD\, Forbidden Alliance with Weasal & Robbie White\, MD\, United States
CATEGORIES:Show
END:VEVENT
BEGIN:VEVENT
DTSTART;TZID=America/New_York:20200502T200000
DTEND;TZID=America/New_York:20200503T000000
DTSTAMP:20260420T095318
CREATED:20200502T225919Z
LAST-MODIFIED:20200502T225919Z
UID:12788-1588449600-1588464000@19thstreetband.com
SUMMARY:Harp and Fiddle Virtual Show
DESCRIPTION:Flanagan’s Harp and Fiddle is taking our pub into the future! Join us Saturday\, May 2\, on Facebook for a live event featuring an ALL-STAR lineup of your favorite Harp musicians. \nBeginning at 8pm\, just head over to the Harp N Fiddle page\, and the video will be live-streaming there. No cover charge\, but donations to the Harp are welcome and deeply appreciated. A link will be available in the video. \nCome have a drink with us\, chat with Steve\, and enjoy performances from the Harp’s huge bench of talent\, all coming together to support our home. All you’ve gotta do is head to our facebook page from 8pm-midnight this Saturday\, and the video will be live streaming. \nRemember to tip your bartender\, and tell that virus to #farcough! #virtualharp \nFeatured Acts\n19th Street Band\nPigeon Kings\nSean Chyun\nTK (Thomas Keith\nConor Malone\nJordan Friend\nAndrew Scott Zimmer\nMike Hull\nBert Keith \nand more!
URL:https://19thstreetband.com/event/harp-and-fiddle-virtual-show/
LOCATION:Facebook Live\, The 19th Street Band\, The 19th Street Band
CATEGORIES:Show
END:VEVENT
BEGIN:VEVENT
DTSTART;TZID=America/New_York:20200430T173000
DTEND;TZID=America/New_York:20200430T190000
DTSTAMP:20260420T095318
CREATED:20200430T145956Z
LAST-MODIFIED:20200430T145956Z
UID:12777-1588267800-1588273200@19thstreetband.com
SUMMARY:The 19th Street Band at The Hamilton Virtual Happy Hour Show
DESCRIPTION:Time for another virtual quarantunes concert! \n\nJoin The 19th Street Band on Thursday at 5:30pm EDT | 10:30pm Irish Time for The Hamilton’s Virtual Happy Hour Concert Series.\n\nThe Health & Happiness Show will be streaming live from Caolaidhe & Meghan’s home to yours. Share and check it out on The Hamilton’s page and The 19th Street Band’s page. \n\nDon’t have Facebook? Click HERE to watch!
URL:https://19thstreetband.com/event/the-19th-street-band-at-the-hamilton-virtual-happy-hour-show/
LOCATION:Facebook Live\, The 19th Street Band\, The 19th Street Band
CATEGORIES:Show
END:VEVENT
BEGIN:VEVENT
DTSTART;TZID=America/New_York:20200426T120000
DTEND;TZID=America/New_York:20200426T170000
DTSTAMP:20260420T095318
CREATED:20200421T013231Z
LAST-MODIFIED:20200421T013231Z
UID:12752-1587902400-1587920400@19thstreetband.com
SUMMARY:Charm City Bluegrass Presents: Digi-Fest Live at Gordon Center
DESCRIPTION:We’re all in this together! So let’s have some fun while in quarantine. \nCharm City Bluegrass Presents: Digi-Fest LIVE at the Gordon Center for Performing Arts (streamed on FB Live) with a series of local\, regional\, and national artists. Also\, presented in partnership with WTMD and UNION Craft Brewing. \nJoin us on Facebook Live for a series of performances from 11am – 5PM on Sunday\, April 26th! Grab your favorite beverage(s)\, food\, and people (socially distant of course)\, and join us for a continuous live stream live from the Gordon Center. Tune in for great jams\, hosts\, and much more! Here’s the schedule: \nHost Sam Sessa (WTMD)\n12:00 – 12:45: 19th Street Band\n1:00 – 1:45: The High and Wides\n2:00 – 2:45: Ken & Brad Kolodner\n3:00 – 3:45: The Honey Dewdrops\n4:00 – 4:45: Caleb Stine
URL:https://19thstreetband.com/event/charm-city-bluegrass-presents-digi-fest-live-at-gordon-center/
LOCATION:Facebook Live\, The 19th Street Band\, The 19th Street Band
END:VEVENT
BEGIN:VEVENT
DTSTART;TZID=America/New_York:20200423T173000
DTEND;TZID=America/New_York:20200423T183000
DTSTAMP:20260420T095318
CREATED:20200421T012459Z
LAST-MODIFIED:20200422T223450Z
UID:12749-1587663000-1587666600@19thstreetband.com
SUMMARY:The Health & Happiness Show: Virtual Quarantune Concert
DESCRIPTION:Caolaidhe & Meghan will be live streaming from their home via The 19th Street Band Facebook page with some happy hour tunes on Thursday at 5:30pm EST / 10:30pm Irish Time. Grab a beverage and have a wee dance! Don’t forget to share your “CHEERS” photos with us so we can see your happy faces. Thank you for all the love. Stay safe y’all!
URL:https://19thstreetband.com/event/the-health-happiness-show/
LOCATION:The Health & Happiness Show\, From Our Home to Yours\, Facebook Live
CATEGORIES:Show
ATTACH;FMTTYPE=image/jpeg:https://19thstreetband.com/wp-content/uploads/2020/04/08BE4AFC-1511-4DF5-8F7A-A9D373ED54A4.jpg
END:VEVENT
BEGIN:VEVENT
DTSTART;TZID=America/New_York:20200409T173000
DTEND;TZID=America/New_York:20200409T190000
DTSTAMP:20260420T095318
CREATED:20200421T010813Z
LAST-MODIFIED:20200421T010813Z
UID:12747-1586453400-1586458800@19thstreetband.com
SUMMARY:Virtual Quarantune Concert #2
DESCRIPTION:Caolaidhe & Meghan will be bringing you some happy hour tunes from their home on Thursday at 5:30pm EST. Grab a beverage and have a wee dance with us! \nThis week’s show is sponsored by Guinness!!
URL:https://19thstreetband.com/event/virtual-quarantune-concert-2/
LOCATION:The Health & Happiness Show\, From Our Home to Yours\, Facebook Live
CATEGORIES:Show
ATTACH;FMTTYPE=image/jpeg:https://19thstreetband.com/wp-content/uploads/2020/04/97336418-E75B-4FB7-A7A9-C941DD28A021.jpg
END:VEVENT
BEGIN:VEVENT
DTSTART;TZID=America/New_York:20200402T173000
DTEND;TZID=America/New_York:20200402T190000
DTSTAMP:20260420T095318
CREATED:20200421T005553Z
LAST-MODIFIED:20200421T005553Z
UID:12743-1585848600-1585854000@19thstreetband.com
SUMMARY:Caolaidhe & Meghan's Quarantune Concert
DESCRIPTION:Caolaidhe & Meghan will be bringing you some happy hour tunes from their home on Thursday at 5:30pm EST. Grab a beverage and have a wee dance with us! \nThe Health & Happiness Show….from our home to yours via Facebook Live.
URL:https://19thstreetband.com/event/caolaidhe-meghans-quarantune-concert/
LOCATION:The Health & Happiness Show\, From Our Home to Yours\, Facebook Live
CATEGORIES:Show
ATTACH;FMTTYPE=image/jpeg:https://19thstreetband.com/wp-content/uploads/2020/04/97336418-E75B-4FB7-A7A9-C941DD28A021.jpg
END:VEVENT
BEGIN:VEVENT
DTSTART;TZID=America/New_York:20200325T200000
DTEND;TZID=America/New_York:20200325T230000
DTSTAMP:20260420T095318
CREATED:20200222T220319Z
LAST-MODIFIED:20200319T210805Z
UID:12574-1585166400-1585177200@19thstreetband.com
SUMMARY:CANCELLED: Lahinch Tavern & Grill
DESCRIPTION:
URL:https://19thstreetband.com/event/lahinch-tavern-grill-44/
LOCATION:Lahinch Tavern & Grill\, 7747 Tuckerman Lane\, Potomac\, MD\, 20854\, United States
CATEGORIES:Show
END:VEVENT
BEGIN:VEVENT
DTSTART;TZID=America/New_York:20200320T220000
DTEND;TZID=America/New_York:20200321T013000
DTSTAMP:20260420T095318
CREATED:20200222T220056Z
LAST-MODIFIED:20200319T210830Z
UID:12572-1584741600-1584754200@19thstreetband.com
SUMMARY:CANCELLED: O'Connell's Irish Bar
DESCRIPTION:
URL:https://19thstreetband.com/event/oconnells-irish-bar/
LOCATION:Daniel O’Connell’s Restaurant & Bar\, 112 King St\, Alexandria\, VA\, 22314\, United States
CATEGORIES:Show
ATTACH;FMTTYPE=image/jpeg:https://19thstreetband.com/wp-content/uploads/2020/01/oconnells-ml.jpg
END:VEVENT
BEGIN:VEVENT
DTSTART;TZID=America/New_York:20200317T140000
DTEND;TZID=America/New_York:20200318T020000
DTSTAMP:20260420T095318
CREATED:20200222T215825Z
LAST-MODIFIED:20200319T210916Z
UID:12569-1584453600-1584496800@19thstreetband.com
SUMMARY:CANCELLED: Paddy's Day at Flanagan's Harp & Fiddle
DESCRIPTION:There’s no better way to celebrate St. Patrick’s Day than with The 19th Street Band at Flanagans Harp Fiddle.  They’ll be rocking the house in true Irish party-style from 2:00 pm until closing. \nSpecific details about the days’ events\, reservations\, lunch and dinner seatings\, etc.\, will be available on Flanagan’s website (https://www.flanagansharpandfiddle.com/)\, but mark your calendars now to party with Caolaidhe Neill Davis\, Meghan\, Patty Dougherty\, and Greg Hardin.
URL:https://19thstreetband.com/event/paddys-day-at-flanagans-harp-fiddle/
LOCATION:Flanagan’s Harp & Fiddle\, 4844 Cordell Ave\, Bethesda\, MD\, 20814\, United States
CATEGORIES:Show
END:VEVENT
BEGIN:VEVENT
DTSTART;TZID=America/New_York:20200314T130000
DTEND;TZID=America/New_York:20200314T180000
DTSTAMP:20260420T095318
CREATED:20200222T215047Z
LAST-MODIFIED:20200312T073228Z
UID:12565-1584190800-1584208800@19thstreetband.com
SUMMARY:POSTPONED - Ireland at the Wharf Festival
DESCRIPTION:**Per recommendations by Mayor Bowser and the DC Department of Health\, this event has been postponed. It will be rescheduled for a future date TBD. All VIP tickets will be refunded.** \nWe’re bringing the luck of the Irish to the waterfront for our Ireland at The Wharf festival—DC’s biggest St. Patrick’s Day party! \nCelebrate the Emerald Isle with bagpipers\, Irish dancers\, and the Guinness beer garden on District Pier. Don’t miss live music from Poor Man’s Gambit\, 19th Street Band\, and festival headliner Scythian! \nNew this year: enjoy a special samplings from Roe & Co. Irish Whiskey and Baileys Irish Cream\, as well as an exclusive VIP Experience. \nFeeling lucky? Get your green on VIP style with backstage access\, Guinness and Roe. & Co Whiskey bars\, light fare\, meet and greets with the bands\, amazing waterfront views and more. Tickets are limited\, order here: irelandatwharf.eventbrite.com \nFinally\, don’t miss the official after party at Kirwan’s On The Wharf and a ticketed encore performance by Scythian at Union Stage. \nEntrance to the festival is FREE; food and drinks sold on site. All ages welcome\, must be 21+ to consume alcohol. Sláinte! \nLearn more: https://www.wharfdcevents.com/
URL:https://19thstreetband.com/event/ireland-at-the-wharf-festival/
LOCATION:Wharf DC\, 975 Wharf St SW\, Washington\, DC\, 20024\, United States
CATEGORIES:Show
ATTACH;FMTTYPE=image/jpeg:https://19thstreetband.com/wp-content/uploads/2020/02/B13E2C2A-1E6F-4D67-AE64-699CDFAC0E74-scaled.jpg
END:VEVENT
BEGIN:VEVENT
DTSTART;TZID=America/New_York:20200313T210000
DTEND;TZID=America/New_York:20200314T000000
DTSTAMP:20260420T095318
CREATED:20200222T213629Z
LAST-MODIFIED:20200222T213629Z
UID:12562-1584133200-1584144000@19thstreetband.com
SUMMARY:Shaw's Tavern
DESCRIPTION:
URL:https://19thstreetband.com/event/shaws-tavern-10/
LOCATION:Shaw’s Tavern\, 520 Florida Ave NW\, Washington\, DC\, 20001\, United States
CATEGORIES:Show
ATTACH;FMTTYPE=image/jpeg:https://19thstreetband.com/wp-content/uploads/2020/02/shaws-pic.jpg
END:VEVENT
BEGIN:VEVENT
DTSTART;TZID=America/New_York:20200312T203000
DTEND;TZID=America/New_York:20200313T003000
DTSTAMP:20260420T095318
CREATED:20200222T213035Z
LAST-MODIFIED:20200222T213035Z
UID:12560-1584045000-1584059400@19thstreetband.com
SUMMARY:JV's
DESCRIPTION:
URL:https://19thstreetband.com/event/jvs-9/
LOCATION:JV’s Restaurant\, 6666  Arlington Blvd.\, Falls Church\, VA\, 22042\, United States
CATEGORIES:Show
ATTACH;FMTTYPE=image/jpeg:https://19thstreetband.com/wp-content/uploads/2019/03/jvs.jpg
END:VEVENT
BEGIN:VEVENT
DTSTART;TZID=America/New_York:20200308T180000
DTEND;TZID=America/New_York:20200308T230000
DTSTAMP:20260420T095318
CREATED:20200219T031531Z
LAST-MODIFIED:20200219T031531Z
UID:12551-1583690400-1583708400@19thstreetband.com
SUMMARY:Frank Solivan & Dirty Kitchen w/ The 19th Street Band and Pierce Edens
DESCRIPTION:Frank Solivan & Dirty Kitchen\nw/ Pierce Edens & The 19th Street Band!\n\nDoors: 6 PM\nShowtime: 7 PM\nTickets: $17 ADV/$20 DOS \n\nJoin us for a very special show on Frank Solivan’s birthday weekend! \nFrank Solivan & Dirty Kitchen play a wide variety of New Acoustic American Roots Music focusing on bluegrass and acoustic country\, yet blues\, folk\, swing\, and jazz also shine through as influences. Powerful vocal harmonies\, expressive songwriting\, smooth ballads\, and instrumental prowess lend this versatile group of musicians to any type of venue. Each member is an inventive powerhouse. \n \nYou must be 18 or over to enter unless accompanied by your parent. Valid ID required. \nSave some money! There’s only a $1 fee when you buy your ticket in person at the  box office.
URL:https://19thstreetband.com/event/frank-solivan-dirty-kitchen-w-the-19th-street-band-and-pierce-edens/
LOCATION:The State Theatre\, 220 N. Washington St.\, Falls Church\, VA\, 22046\, United States
CATEGORIES:Show
END:VEVENT
BEGIN:VEVENT
DTSTART;TZID=America/New_York:20200307T160000
DTEND;TZID=America/New_York:20200307T200000
DTSTAMP:20260420T095318
CREATED:20200219T025421Z
LAST-MODIFIED:20200219T025421Z
UID:12548-1583596800-1583611200@19thstreetband.com
SUMMARY:Leprechaun Luau in Frederick\, MD
DESCRIPTION:No matter where you hail from\, everybody’s Irish around St. Patrick’s Day! And who doesn’t love a luau? Put them together\, and you’ve got a party like no other! \nAnd when it’s all to benefit the Rotary Club of Frederick’s signature service project\, it’s an event not to be missed! \nPlease explore the site\, like us on Facebook and tell your friends! Plan on attending this unique celebration of delicious food\, Flying Dog brew\, dancing and general merriment! \nJOIN US ON SATURDAY\, MARCH 7th\, 2020 for LepLu IX! \nAll Food\, Beer\, Margaritas and Entertainment included in your ticket price of $65.00 and a chance to win the grand prize \, compliments of CRUISE HOLIDAYS OF FREDERICK – EXPERTS AT LAND AND SEA! (prize has no cash value) \nGET YOUR TICKETS EARLY – THIS EVENT WILL SELL OUT! (You must be 21 or older to attend)\n \nSince our founding in 1920\, The Rotary Club of Frederick has supported a wide variety of service projects\, all of which have benefited our local\, regional and international communities in vital ways. \nThank you to our talented vendors…Just Smoking Around BBQ\, JB Seafood\, On The Half Shell\, aka Friscos\, Ragin’ Reef\, Silver Diner\, Flying Dog Brewery\, The Margarita Man\, Dublin Roasters\, Uncle Ralphs Cookies and Bruster’s Real Ice Cream! \nThe event will be held on Saturday\, March 7th\, 2020\,  from 4-8 at the Frederick Community College Field House. There is plenty of convenient\, free parking. \nAdmission is $65/person\, which includes a wide variety of foods served from many different “stations” around the room. Admission includes a souvenir mug\, which you may fill with a selection of Flying Dog beers. Assorted wines and frozen margaritas will be available as well as a wide selection of non-alcoholic beverages.  All entertainment included too!  Your ticket price will include one chance at our Pot of Gold at the End of the Rainbow raffle and a few surprises will keep the evening in high gear! \nSponsorships are vitally important to the event’s success—we’d love to have you on board. And remember: space is limited\, so get your tickets early!  Tickets go on sale December 1st\, 2019. \nTo ask a question or request an information\, please contact us at (240) 394-LUAU (5828) or use our online contact form.
URL:https://19thstreetband.com/event/leprechaun-luau-in-frederick-md/
LOCATION:Frederick Community College Field House\, 7932 Opossumtown Pike\, Frederick\, MD\, 21702\, United States
CATEGORIES:Show
ATTACH;FMTTYPE=image/jpeg:https://19thstreetband.com/wp-content/uploads/2020/02/IMG_6750-scaled.jpg
END:VEVENT
BEGIN:VEVENT
DTSTART;TZID=America/New_York:20200306T213000
DTEND;TZID=America/New_York:20200307T013000
DTSTAMP:20260420T095318
CREATED:20200219T023141Z
LAST-MODIFIED:20200219T023141Z
UID:12546-1583530200-1583544600@19thstreetband.com
SUMMARY:Flanagan's Harp & Fiddle
DESCRIPTION:
URL:https://19thstreetband.com/event/flanagans-harp-fiddle-39/
LOCATION:Flanagan’s Harp & Fiddle\, 4844 Cordell Ave\, Bethesda\, MD\, 20814\, United States
CATEGORIES:Show
ATTACH;FMTTYPE=image/jpeg:https://19thstreetband.com/wp-content/uploads/2019/03/100EAC2D-6E09-4E0E-9F77-95742AE6BCEC-scaled.jpeg
END:VEVENT
BEGIN:VEVENT
DTSTART;TZID=America/New_York:20200304T200000
DTEND;TZID=America/New_York:20200304T230000
DTSTAMP:20260420T095318
CREATED:20200219T022922Z
LAST-MODIFIED:20200219T022922Z
UID:12544-1583352000-1583362800@19thstreetband.com
SUMMARY:The Irish Inn
DESCRIPTION:
URL:https://19thstreetband.com/event/the-irish-inn-44/
LOCATION:Irish Inn\, 6119 Tulane Ave\, Glen Echo\, MD\, 20812\, United States
CATEGORIES:Show
END:VEVENT
BEGIN:VEVENT
DTSTART;TZID=America/New_York:20200222T213000
DTEND;TZID=America/New_York:20200223T013000
DTSTAMP:20260420T095318
CREATED:20200103T041552Z
LAST-MODIFIED:20200103T041552Z
UID:12392-1582407000-1582421400@19thstreetband.com
SUMMARY:Flanagan's Harp & Fiddle
DESCRIPTION:
URL:https://19thstreetband.com/event/flanagans-harp-fiddle-38/
LOCATION:Flanagan’s Harp & Fiddle\, 4844 Cordell Ave\, Bethesda\, MD\, 20814\, United States
CATEGORIES:Show
ATTACH;FMTTYPE=image/jpeg:https://19thstreetband.com/wp-content/uploads/2018/02/ml-pic-9.jpg
END:VEVENT
BEGIN:VEVENT
DTSTART;TZID=America/New_York:20200221T213000
DTEND;TZID=America/New_York:20200222T013000
DTSTAMP:20260420T095318
CREATED:20200103T040922Z
LAST-MODIFIED:20200103T040922Z
UID:12390-1582320600-1582335000@19thstreetband.com
SUMMARY:Daniel O'Connell's Irish Bar
DESCRIPTION:
URL:https://19thstreetband.com/event/daniel-oconnells-irish-bar-3/
LOCATION:Daniel O’Connell’s Restaurant & Bar\, 112 King St\, Alexandria\, VA\, 22314\, United States
CATEGORIES:Show
ATTACH;FMTTYPE=image/jpeg:https://19thstreetband.com/wp-content/uploads/2020/01/oconnells-ml.jpg
END:VEVENT
BEGIN:VEVENT
DTSTART;TZID=America/New_York:20200219T200000
DTEND;TZID=America/New_York:20200219T230000
DTSTAMP:20260420T095318
CREATED:20200103T040727Z
LAST-MODIFIED:20200103T040727Z
UID:12388-1582142400-1582153200@19thstreetband.com
SUMMARY:Lahinch Tavern & Grill
DESCRIPTION:
URL:https://19thstreetband.com/event/lahinch-tavern-grill-43/
LOCATION:Lahinch Tavern & Grill\, 7747 Tuckerman Lane\, Potomac\, MD\, 20854\, United States
CATEGORIES:Show
END:VEVENT
BEGIN:VEVENT
DTSTART;TZID=America/New_York:20200214T220000
DTEND;TZID=America/New_York:20200215T010000
DTSTAMP:20260420T095318
CREATED:20200219T022435Z
LAST-MODIFIED:20200219T022435Z
UID:12541-1581717600-1581728400@19thstreetband.com
SUMMARY:Crafthouse Reston
DESCRIPTION:
URL:https://19thstreetband.com/event/crafthouse-reston/
LOCATION:Crafthouse Reston\, 1888 Explorer St\, Reston\, VA\, 20190\, United States
CATEGORIES:Show
ATTACH;FMTTYPE=image/jpeg:https://19thstreetband.com/wp-content/uploads/2019/09/IMG_7442.jpg
END:VEVENT
BEGIN:VEVENT
DTSTART;TZID=America/New_York:20200213T203000
DTEND;TZID=America/New_York:20200214T003000
DTSTAMP:20260420T095318
CREATED:20200103T040536Z
LAST-MODIFIED:20200103T040536Z
UID:12386-1581625800-1581640200@19thstreetband.com
SUMMARY:JV's Restaurant
DESCRIPTION:
URL:https://19thstreetband.com/event/jvs-restaurant-22/
LOCATION:JV’s Restaurant\, 6666  Arlington Blvd.\, Falls Church\, VA\, 22042\, United States
CATEGORIES:Show
ATTACH;FMTTYPE=image/jpeg:https://19thstreetband.com/wp-content/uploads/2019/03/jvs.jpg
END:VEVENT
BEGIN:VEVENT
DTSTART;TZID=America/New_York:20200208T213000
DTEND;TZID=America/New_York:20200209T013000
DTSTAMP:20260420T095318
CREATED:20200102T231908Z
LAST-MODIFIED:20200102T231908Z
UID:12383-1581197400-1581211800@19thstreetband.com
SUMMARY:Flanagan's Harp & Fiddle
DESCRIPTION:
URL:https://19thstreetband.com/event/flanagans-harp-fiddle-37/
LOCATION:Flanagan’s Harp & Fiddle\, 4844 Cordell Ave\, Bethesda\, MD\, 20814\, United States
CATEGORIES:Show
ATTACH;FMTTYPE=image/jpeg:https://19thstreetband.com/wp-content/uploads/2018/12/harp-ml-pic-2.jpg
END:VEVENT
BEGIN:VEVENT
DTSTART;TZID=America/New_York:20200205T200000
DTEND;TZID=America/New_York:20200205T230000
DTSTAMP:20260420T095318
CREATED:20200102T230933Z
LAST-MODIFIED:20200102T230933Z
UID:12381-1580932800-1580943600@19thstreetband.com
SUMMARY:The Irish Inn
DESCRIPTION:
URL:https://19thstreetband.com/event/the-irish-inn-43/
LOCATION:Irish Inn\, 6119 Tulane Ave\, Glen Echo\, MD\, 20812\, United States
CATEGORIES:Show
END:VEVENT
BEGIN:VEVENT
DTSTART;VALUE=DATE:20200125
DTEND;VALUE=DATE:20200203
DTSTAMP:20260420T095318
CREATED:20191120T214139Z
LAST-MODIFIED:20191120T214139Z
UID:12238-1579924800-1580615999@19thstreetband.com
SUMMARY:Cruise of Irish Stars 2020
DESCRIPTION:Escape the winter chill & join us for an Eastern Caribbean Cruise to Princess Cays (Bahamas)\, St. Thomas (USVI)\, and St. Maarten aboard the Brand New SKY PRINCESS with Andy Cooney’s Cruise of Irish Stars 2020. Live music\, blue water\, great food and great fun!!! 7-day cruise leaving from Fort Lauderdale\, FL. \nCall Travel Professionals: 800-724-9511 and tell them The 19th Street Band sent you! \nhttps://www.cruiseofirishstars.com/ \n  \n\nThe Ship\n\n\n \nSky Princess℠\, the newest addition to our fleet\, elevates the distinctive\, contemporary design and luxurious attractions of our renowned Royal-class ships to even loftier heights. You can look forward to our most exciting entertainment venues yet\, our newest dining choices and award-winning chef partnerships\, as well as more staterooms than ever to relax in.And that’s just the start! \nGuests 3\,660 Crew 1\,346 Debuting 2019\nView Sky Princess deck plans \nTo book or for more information:\nTravel Professionals\n62 N. Main Street Ste 114\nFlorida\, NY 10921-1314 \n845-651-4441\n800-724-9511 (toll free)\n001-845-651-4441 (international) \ne-mail: travelpro@warwick.net\ne-mail: jstravel@warwick.net\nwebsite: www.trav-pro.com \nAdmission to performances are exclusive to those booking through Travel Professionals
URL:https://19thstreetband.com/event/cruise-of-irish-stars-2020/
LOCATION:Sky Princess Cruise
END:VEVENT
BEGIN:VEVENT
DTSTART;TZID=America/New_York:20200118T190000
DTEND;TZID=America/New_York:20200118T230000
DTSTAMP:20260420T095318
CREATED:20191220T224729Z
LAST-MODIFIED:20191220T224729Z
UID:12329-1579374000-1579388400@19thstreetband.com
SUMMARY:O'Neals Pub
DESCRIPTION:
URL:https://19thstreetband.com/event/oneals-pub/
LOCATION:O’Neals Pub\, 611 S 3rd St\, Philadelphia\, PA\, 19147\, United States
CATEGORIES:Show
ATTACH;FMTTYPE=image/jpeg:https://19thstreetband.com/wp-content/uploads/2019/03/100EAC2D-6E09-4E0E-9F77-95742AE6BCEC-scaled.jpeg
END:VEVENT
BEGIN:VEVENT
DTSTART;TZID=America/New_York:20200115T200000
DTEND;TZID=America/New_York:20200115T230000
DTSTAMP:20260420T095318
CREATED:20200102T230738Z
LAST-MODIFIED:20200102T230738Z
UID:12379-1579118400-1579129200@19thstreetband.com
SUMMARY:Lahinch Tavern & Grill
DESCRIPTION:
URL:https://19thstreetband.com/event/lahinch-tavern-grill-42/
LOCATION:Lahinch Tavern & Grill\, 7747 Tuckerman Lane\, Potomac\, MD\, 20854\, United States
CATEGORIES:Show
ATTACH;FMTTYPE=image/jpeg:https://19thstreetband.com/wp-content/uploads/2018/02/ml-pic-5.jpg
END:VEVENT
BEGIN:VEVENT
DTSTART;TZID=America/New_York:20200110T213000
DTEND;TZID=America/New_York:20200111T013000
DTSTAMP:20260420T095318
CREATED:20200102T230516Z
LAST-MODIFIED:20200102T230516Z
UID:12377-1578691800-1578706200@19thstreetband.com
SUMMARY:Flanagan's Harp & Fiddle
DESCRIPTION:
URL:https://19thstreetband.com/event/flanagans-harp-fiddle-36/
LOCATION:Flanagan’s Harp & Fiddle\, 4844 Cordell Ave\, Bethesda\, MD\, 20814\, United States
CATEGORIES:Show
ATTACH;FMTTYPE=image/jpeg:https://19thstreetband.com/wp-content/uploads/2018/05/ml-pic-10.jpg
END:VEVENT
BEGIN:VEVENT
DTSTART;TZID=America/New_York:20200109T203000
DTEND;TZID=America/New_York:20200110T003000
DTSTAMP:20260420T095318
CREATED:20200102T230259Z
LAST-MODIFIED:20200102T230259Z
UID:12375-1578601800-1578616200@19thstreetband.com
SUMMARY:JV's Live Music Venue
DESCRIPTION:
URL:https://19thstreetband.com/event/jvs-live-music-venue/
LOCATION:JV’s Restaurant\, 6666  Arlington Blvd.\, Falls Church\, VA\, 22042\, United States
CATEGORIES:Show
ATTACH;FMTTYPE=image/jpeg:https://19thstreetband.com/wp-content/uploads/2019/03/jvs.jpg
END:VEVENT
BEGIN:VEVENT
DTSTART;TZID=America/New_York:20200104T213000
DTEND;TZID=America/New_York:20200105T013000
DTSTAMP:20260420T095318
CREATED:20200102T230013Z
LAST-MODIFIED:20200102T230013Z
UID:12372-1578173400-1578187800@19thstreetband.com
SUMMARY:Daniel O'Connell's Irish Bar
DESCRIPTION:
URL:https://19thstreetband.com/event/daniel-oconnells-irish-bar-2/
LOCATION:Daniel O’Connell’s Restaurant & Bar\, 112 King St\, Alexandria\, VA\, 22314\, United States
CATEGORIES:Show
ATTACH;FMTTYPE=image/jpeg:https://19thstreetband.com/wp-content/uploads/2020/01/oconnells-ml.jpg
END:VEVENT
END:VCALENDAR