BEGIN:VCALENDAR
VERSION:2.0
PRODID:-//The 19th Street Band - ECPv6.15.20//NONSGML v1.0//EN
CALSCALE:GREGORIAN
METHOD:PUBLISH
X-WR-CALNAME:The 19th Street Band
X-ORIGINAL-URL:https://19thstreetband.com
X-WR-CALDESC:Events for The 19th Street Band
REFRESH-INTERVAL;VALUE=DURATION:PT1H
X-Robots-Tag:noindex
X-PUBLISHED-TTL:PT1H
BEGIN:VTIMEZONE
TZID:America/New_York
BEGIN:DAYLIGHT
TZOFFSETFROM:-0500
TZOFFSETTO:-0400
TZNAME:EDT
DTSTART:20210314T070000
END:DAYLIGHT
BEGIN:STANDARD
TZOFFSETFROM:-0400
TZOFFSETTO:-0500
TZNAME:EST
DTSTART:20211107T060000
END:STANDARD
BEGIN:DAYLIGHT
TZOFFSETFROM:-0500
TZOFFSETTO:-0400
TZNAME:EDT
DTSTART:20220313T070000
END:DAYLIGHT
BEGIN:STANDARD
TZOFFSETFROM:-0400
TZOFFSETTO:-0500
TZNAME:EST
DTSTART:20221106T060000
END:STANDARD
BEGIN:DAYLIGHT
TZOFFSETFROM:-0500
TZOFFSETTO:-0400
TZNAME:EDT
DTSTART:20230312T070000
END:DAYLIGHT
BEGIN:STANDARD
TZOFFSETFROM:-0400
TZOFFSETTO:-0500
TZNAME:EST
DTSTART:20231105T060000
END:STANDARD
END:VTIMEZONE
BEGIN:VTIMEZONE
TZID:Europe/London
BEGIN:DAYLIGHT
TZOFFSETFROM:+0000
TZOFFSETTO:+0100
TZNAME:BST
DTSTART:20210328T010000
END:DAYLIGHT
BEGIN:STANDARD
TZOFFSETFROM:+0100
TZOFFSETTO:+0000
TZNAME:GMT
DTSTART:20211031T010000
END:STANDARD
BEGIN:DAYLIGHT
TZOFFSETFROM:+0000
TZOFFSETTO:+0100
TZNAME:BST
DTSTART:20220327T010000
END:DAYLIGHT
BEGIN:STANDARD
TZOFFSETFROM:+0100
TZOFFSETTO:+0000
TZNAME:GMT
DTSTART:20221030T010000
END:STANDARD
BEGIN:DAYLIGHT
TZOFFSETFROM:+0000
TZOFFSETTO:+0100
TZNAME:BST
DTSTART:20230326T010000
END:DAYLIGHT
BEGIN:STANDARD
TZOFFSETFROM:+0100
TZOFFSETTO:+0000
TZNAME:GMT
DTSTART:20231029T010000
END:STANDARD
END:VTIMEZONE
BEGIN:VEVENT
DTSTART;TZID=America/New_York:20221105T183000
DTEND;TZID=America/New_York:20221105T213000
DTSTAMP:20260419T153509
CREATED:20220831T024859Z
LAST-MODIFIED:20220831T024859Z
UID:14748-1667673000-1667683800@19thstreetband.com
SUMMARY:Flat Iron Crossroads
DESCRIPTION:Flat Iron Crossroads is a nonprofit organization that has revitalized the site of a 100-year-old gas station into an intimate\, modern performing arts center located on the corner of Flat Iron Road and Daffodil Lane in Gloucester\, Virginia. Just as gas stations have prepared travelers for journeys since the advent of motor transportation\, Flat Iron Crossroads strives to help patrons discover “avenues” of musical adventure both familiar and untraveled. \nThe 19th Street Band is excited to be included in this cool venue’s upcoming lineup on Nov 5th! Get your tickets and come support live music!
URL:https://19thstreetband.com/event/flat-iron-crossroads/
LOCATION:Flat Iron Crossroads\, 7709 Flat Iron Road\, Gloucester\, VA\, 23061\, United States
CATEGORIES:Show
ATTACH;FMTTYPE=image/jpeg:https://19thstreetband.com/wp-content/uploads/2022/08/warner-theatre-cal.jpg
END:VEVENT
BEGIN:VEVENT
DTSTART;TZID=America/New_York:20221022T213000
DTEND;TZID=America/New_York:20221023T010000
DTSTAMP:20260419T153509
CREATED:20220929T041306Z
LAST-MODIFIED:20220929T041306Z
UID:14793-1666474200-1666486800@19thstreetband.com
SUMMARY:The Hunter's Hound
DESCRIPTION:So excited to be back at The Hunter’s Hound in Chevy Chase\, MD on Oct 22nd for a rockin’ good night of live music and merriment!!
URL:https://19thstreetband.com/event/the-hunters-hound-2/
LOCATION:The Hunter’s Hound\, 5471 Wisconsin Ave 206 A\, Chevy Chase\, MD\, 20815\, United States
CATEGORIES:Show
ATTACH;FMTTYPE=image/jpeg:https://19thstreetband.com/wp-content/uploads/2020/01/oconnells-ml.jpg
END:VEVENT
BEGIN:VEVENT
DTSTART;TZID=America/New_York:20221020T193000
DTEND;TZID=America/New_York:20221020T213000
DTSTAMP:20260419T153509
CREATED:20221009T044333Z
LAST-MODIFIED:20221009T044851Z
UID:14808-1666294200-1666301400@19thstreetband.com
SUMMARY:State Theatre - Outdoor Show
DESCRIPTION:We’ve got a free outdoor show at The State Theatre in Falls Church\, VA on Thursday\, Oct 20th! It’s been too long since our last show there – grab some friends and come on out for all the fun!! 7:30pm! Tips are encouraged\, thank you!
URL:https://19thstreetband.com/event/state-theatre-outdoor-show/
LOCATION:The State Theatre\, 220 N. Washington St.\, Falls Church\, VA\, 22046\, United States
CATEGORIES:Show
ATTACH;FMTTYPE=image/jpeg:https://19thstreetband.com/wp-content/uploads/2021/03/Barge-2018-Samu-scaled.jpeg
END:VEVENT
BEGIN:VEVENT
DTSTART;TZID=America/New_York:20221016T160000
DTEND;TZID=America/New_York:20221016T183000
DTSTAMP:20260419T153509
CREATED:20221009T042452Z
LAST-MODIFIED:20221009T043331Z
UID:14804-1665936000-1665945000@19thstreetband.com
SUMMARY:Old Bowie Town Grille
DESCRIPTION:Very excited to be back at Old Bowie Town Grille for a fun Sunday show on Oct 16th! Let’s rock the lot outside together with live music starting at 4pm! \n$10 cover. \n  \n  \nPhoto by Mike Landsman at Old Bowie Town Grille
URL:https://19thstreetband.com/event/old-bowie-town-grille-2/
LOCATION:Old Bowie Town Grille\, 8604 Chestnut Avenue\, Bowie\, MD\, 20715\, United States
CATEGORIES:Show
ATTACH;FMTTYPE=image/jpeg:https://19thstreetband.com/wp-content/uploads/2022/04/ml-outdoors-2.jpg
END:VEVENT
BEGIN:VEVENT
DTSTART;TZID=America/New_York:20221015T140000
DTEND;TZID=America/New_York:20221015T160000
DTSTAMP:20260419T153509
CREATED:20221009T035456Z
LAST-MODIFIED:20221009T035456Z
UID:14800-1665842400-1665849600@19thstreetband.com
SUMMARY:Fall Fest!
DESCRIPTION:ROCK STAR Realtor Tori McKinney is partnering up with Founders Row (VERSO & Modera) in Falls Church to host Fall Fest on Saturday\, Oct 15th! Free & open to the public!!! Come out for live music from The 19th Street Band and festive treats from 2-4pm. 
URL:https://19thstreetband.com/event/fall-fest/
LOCATION:Founders Row\, 110 Founders Ave\, Falls Church\, VA\, 22046\, United States
ATTACH;FMTTYPE=image/jpeg:https://19thstreetband.com/wp-content/uploads/2022/10/Fall-Fest-2022.jpg
END:VEVENT
BEGIN:VEVENT
DTSTART;TZID=America/New_York:20221014T170000
DTEND;TZID=America/New_York:20221014T203000
DTSTAMP:20260419T153509
CREATED:20220929T035845Z
LAST-MODIFIED:20221014T205920Z
UID:14790-1665766800-1665779400@19thstreetband.com
SUMMARY:Starr Hill Biergarten Tysons
DESCRIPTION:Join us for a fun show on the rooftop at the Starr Hill Biergarten in Tysons\, VA!\nLOCATION: CAPITAL ONE CENTER @ THE PERCH\n1805 CAPITAL ONE CENTER DRIVE\nABOVE WEGMANS & CAPITAL ONE HALL\nUSE NORTH OR SOUTH ELEVATORS TO ACCESS THE 11TH FLOOR FOR THE BIERGARTEN
URL:https://19thstreetband.com/event/starr-hill-biergarten-tysons-3/
LOCATION:Starr Hill Biergarten Tysons\, 1805 Capital One Dr\, Suite 1100\, Tysons\, VA\, 22102\, United States
CATEGORIES:Show
ATTACH;FMTTYPE=image/jpeg:https://19thstreetband.com/wp-content/uploads/2022/03/ml-hamilton-2021.jpg
END:VEVENT
BEGIN:VEVENT
DTSTART;TZID=America/New_York:20221013T180000
DTEND;TZID=America/New_York:20221013T210000
DTSTAMP:20260419T153509
CREATED:20220929T035225Z
LAST-MODIFIED:20220929T035317Z
UID:14787-1665684000-1665694800@19thstreetband.com
SUMMARY:Charm City Craft Fundraiser
DESCRIPTION:COMMUNITY. COCKTAILS. CUISINE. CAUSE.\n\nJoin us for the second annual signature Charm City Craft featuring local cuisine\, a craft cocktail competition\, and live music celebrating our resilient IBD Community! Hosted by The Crohn’s & Colitis Foundation – DMV Chapter\, they provide support\, advocacy\, community building and fundraising events to help find cures for the more than 165\,000+ DC/VA/MD IBD Patients and 3.1 Million Americans impacted. Visit us at https://www.crohnscolitisfoundation.org/chapters/dc\n\nMeet our 2022 Honorees:\nChair Citation Award Recipients – Tom and Shari Warzinski\nCorporate Impact Award Recipient – McCormick & Company Inc.\n\nGet your tickets TODAY!
URL:https://19thstreetband.com/event/charm-city-craft-fundraiser-2/
LOCATION:Sagamore Spirit Distillery\, 301 E Cromwell St\, Baltimore\, MD\, 21230\, United States
ATTACH;FMTTYPE=image/jpeg:https://19thstreetband.com/wp-content/uploads/2022/09/charm-city-craft-2022.jpg
END:VEVENT
BEGIN:VEVENT
DTSTART;TZID=America/New_York:20220924T180000
DTEND;TZID=America/New_York:20220924T193000
DTSTAMP:20260419T153509
CREATED:20220831T023005Z
LAST-MODIFIED:20220924T060734Z
UID:14746-1664042400-1664047800@19thstreetband.com
SUMMARY:Bethany Beach Bandstand
DESCRIPTION:We’re SO excited to be back at the Bethany Beach Bandstand this Fall. What a great spot and always a fun crowd right by the water! Grab some peeps\, head down the ocean\, and join us for a fun\, beautiful evening of music on Saturday\, September 24th!!!
URL:https://19thstreetband.com/event/bethany-beach-bandstand-2/
LOCATION:Bethany Beach Bandstand\, Boardwalk\, Bethany Beach\, DE\, 19930\, United States
CATEGORIES:Show
ATTACH;FMTTYPE=image/jpeg:https://19thstreetband.com/wp-content/uploads/2022/08/bethany-bandstand-2019.jpg
END:VEVENT
BEGIN:VEVENT
DTSTART;TZID=America/New_York:20220917T170000
DTEND;TZID=America/New_York:20220917T210000
DTSTAMP:20260419T153509
CREATED:20220829T184957Z
LAST-MODIFIED:20220829T184957Z
UID:14740-1663434000-1663448400@19thstreetband.com
SUMMARY:Halfway to Paddy's Day @ Guinness Brewery
DESCRIPTION:We’re halfway there! Celebrate Halfway to St. Patrick’s Day with us at Guinness Open Gate Brewery in Baltimore. Enjoy your favorite Irish beers – Harp\, Smithwicks\, Kilkenny and Guinness Draught. They’ll also have half-off select Paddy’s Day merchandise along with food specials and music all weekend long!\n\nSaturday\, September 17: The 19th Street Band from 5-9pm\nAND Half-off Belgian-style Wit\n\nStop by to raise a pint in cheers to the greatest holiday.\n\nThe brewery is located just 10 minutes from downtown Baltimore and short trips from Washington\, D.C\, Virginia\, Philadelphia and New York. Brewery visitors are encouraged to share photos of their experience using #GuinnessBmore\nPlease enjoy responsibly.\n\nPhoto taken in Ardmore\, Ireland by Samu Qureshi.
URL:https://19thstreetband.com/event/halfway-to-paddys-day-guinness-brewery/
LOCATION:Guinness Open Gate Brewery\, 5001 Washington Blvd\, Halethorpe\, MD\, 21227\, United States
CATEGORIES:Show
ATTACH;FMTTYPE=image/jpeg:https://19thstreetband.com/wp-content/uploads/2022/08/Guinness.jpg
END:VEVENT
BEGIN:VEVENT
DTSTART;TZID=America/New_York:20220916T210000
DTEND;TZID=America/New_York:20220917T000000
DTSTAMP:20260419T153509
CREATED:20220829T183751Z
LAST-MODIFIED:20220915T172202Z
UID:14737-1663362000-1663372800@19thstreetband.com
SUMMARY:The Starboard
DESCRIPTION:Fall may have arrived\, but that doesn’t mean we can’t still party in Dewey Beach! Join us on Friday\, Sept 16th as we rock the INSIDE stage at The Starboard! 9pm-midnight \nPhoto by GCFL
URL:https://19thstreetband.com/event/the-starboard-9/
LOCATION:The Starboard\, 2009 Coastal Hwy\, Dewey Beach\, DE\, 19971\, United States
CATEGORIES:Show
ATTACH;FMTTYPE=image/jpeg:https://19thstreetband.com/wp-content/uploads/2022/08/starboard-inside-gcfl.jpg
END:VEVENT
BEGIN:VEVENT
DTSTART;TZID=America/New_York:20220910T133000
DTEND;TZID=America/New_York:20220910T213000
DTSTAMP:20260419T153509
CREATED:20220822T204545Z
LAST-MODIFIED:20220829T182736Z
UID:14727-1662816600-1662845400@19thstreetband.com
SUMMARY:Days End Farm Horse Rescue Benefit Concert
DESCRIPTION:Join DEFHR and The 19th Street Band\, for a Benefit Concert with ALL proceeds going to our life-saving programs for equines in need! \n\n\nAbout this event\n\n\n\nYou asked for MORE and we LISTENED! This year\, our annual concert on the front lawn is now a FULL DAY mini festival featuring 3 bands at one of Maryland’s premier horse farms. With popular food trucks\, beer & wine\, lawn + kids games\, and farm tours to meet our rescue horses – there is something for the whole family! \nBook a day out in the country\, watch the sunset over our fields\, while swaying to the music of 3 awesome bands! Enjoy yourself while knowing ALL money raised goes to the horses and allows us to continue our life-saving work in the community. \nWhat can I expect? \n\nGreat music by The 19th Street Band\, The Dirty Grass Players and Patty Reese\n3 popular food trucks serving a variety of cuisine\nHops for Horses Beer Garden serving seasonal brews and wine\nTours of the farm to see firsthand the great work DEFHR does\nShopping area featuring the latest DEFHR swag\nLawn games for family fun\nFire pits & s’mores\n\n1:30PM-Gates Open \n2:30PM-4:00PM – Patty Reese \n4:30PM-6:00PM – The Dirty Grass Players \n6:30PM- Close– The 19th Street Band \nFood trucks that will be joining us include Taco Bar Food Truck\, Rollin’ SMOKE BBQ and Uberstuffed. \n\nGeneral Admission – $30/person\nAt the gate – $40/person\nKids 5 and under are free\n\nParking is on site and 1st come 1st serve until lots are full. \nYou may bring small blankets or lawn chairs. We will have seating and picnic tables available for seating too\, so not a requirement. \nFor more information visit: DEFHR.org \nTICKETS: https://www.eventbrite.com/e/days-end-farm-horse-rescue-benefit-concert-tickets-375375597517
URL:https://19thstreetband.com/event/days-end-farm-horse-rescue-benefit-concert-2/
LOCATION:Days End Farm Horse Rescue\, 1372 Woodbine Rd\, Woodbine\, MD\, 21797\, United States
ATTACH;FMTTYPE=image/jpeg:https://19thstreetband.com/wp-content/uploads/2022/08/defhr-2022-1.jpg
END:VEVENT
BEGIN:VEVENT
DTSTART;TZID=America/New_York:20220902T170000
DTEND;TZID=America/New_York:20220902T210000
DTSTAMP:20260419T153509
CREATED:20220822T205517Z
LAST-MODIFIED:20220822T205517Z
UID:14730-1662138000-1662152400@19thstreetband.com
SUMMARY:Nick's Fish House
DESCRIPTION:Join us for LIVE MUSIC at Nick’s Fish House in Baltimore!
URL:https://19thstreetband.com/event/nicks-fish-house-8/
LOCATION:Nick’s Fish House\, 2600 Insulator Dr\, Baltimore\, MD\, 21230\, United States
CATEGORIES:Show
ATTACH;FMTTYPE=image/jpeg:https://19thstreetband.com/wp-content/uploads/2022/04/nicks-bw.jpg
END:VEVENT
BEGIN:VEVENT
DTSTART;TZID=America/New_York:20220826T193000
DTEND;TZID=America/New_York:20220826T210000
DTSTAMP:20260419T153509
CREATED:20220822T152508Z
LAST-MODIFIED:20220822T152508Z
UID:14725-1661542200-1661547600@19thstreetband.com
SUMMARY:Fairfax Summer Concert Series @ Grist Mill Park
DESCRIPTION:SUMMER ENTERTAINMENT SERIES IN THE PARKS\, 2022\nThe Fairfax County Park Authority\, in partnership with the SUPPORTERS OF THE SUMMER\nENTERTAINMENT SERIES and with generous contributions through the Fairfax County Park\nFoundation from local businesses\, corporations and individual donors like you bring you\nthese free summer performances. \nGrist Mill Park: 4710 Mt. Vernon Memorial Hwy\, Alexandria\, VA 22309\nFREE 7:30 p.m. – 9:00 p.m. 703-324-SHOW (7469)\nWine tasting and sale by The Woodlawn Press Winery\nwww.fairfaxcounty.gov/parks/performances \nPack a picnic basket\, umbrella\, blankets and lawn chairs to enjoy an evening of music in the park!
URL:https://19thstreetband.com/event/fairfax-summer-concert-series-grist-mill-park/
LOCATION:Grist Mill Park\, 4710 Mt. Vernon Memorial Hwy\, Alexandria\, VA\, 22309\, United States
CATEGORIES:Show
ATTACH;FMTTYPE=image/jpeg:https://19thstreetband.com/wp-content/uploads/2022/03/bullpen-ml.jpg
END:VEVENT
BEGIN:VEVENT
DTSTART;TZID=Europe/London:20220819T193000
DTEND;TZID=Europe/London:20220819T233000
DTSTAMP:20260419T153509
CREATED:20220413T160338Z
LAST-MODIFIED:20220413T160338Z
UID:14602-1660937400-1660951800@19thstreetband.com
SUMMARY:The Empire Music Hall - Belfast
DESCRIPTION:Join us for our premiere show at The Empire Music Hall in Belfast\, Northern Ireland on the 19th of August with one of the best things to come out of Northern Ireland\, The Logues!!! With two high-energy bands ready to bring you great music & craic from both sides of the Atlantic\, this show is not to be missed!  \nTickets are £20 in advance | £24 at the door. \nTICKETS HERE: https://www.ticketmaster.ie/the-19th-street-band-the-logues-belfast-19-08-2022/event/38005C8783151552 
URL:https://19thstreetband.com/event/the-empire-music-hall-belfast/
LOCATION:The Belfast Empire Music Hall\, 42 Botanic Avenue\, Belfast\, Northern Ireland\, BT7 1JQ\, United Kingdom
ATTACH;FMTTYPE=image/png:https://19thstreetband.com/wp-content/uploads/2022/04/the-empire-19sb-logues-final-aug-2022.png
END:VEVENT
BEGIN:VEVENT
DTSTART;TZID=America/New_York:20220806T200000
DTEND;TZID=America/New_York:20220806T223000
DTSTAMP:20260419T153509
CREATED:20220705T202405Z
LAST-MODIFIED:20220705T202405Z
UID:14714-1659816000-1659825000@19thstreetband.com
SUMMARY:Bandhouse Gigs Tribute To WHFS Music 1969-75
DESCRIPTION:BandHouse Gigs presents a tribute to the legendary Bethesda\, MD based FM radio station WHFS and the music promoted by them between 1969-75. Listeners were introduced to artists including: Little Feat\, Bonnie Raitt\, Jackson Browne\, Tom Waits\, Bob Marley\, Tower of Power\, Frank Zappa\, John Prine\, Stevie Wonder\, Linda Ronstadt\, Richard Thompson\, Traffic\, Jeff Beck\, Neil Young\, Bruce Springsteen\, and NRBQ to name just a few. It was an explosive time for music and WHFS was the catalyst helping launch the careers of many of these iconic artists. Joining us on stage to recreate their broadcasts will be several WHFS DJs\, including Weasel\, Adele and others. BandHouse has assembled an all-star lineup of performers to pay tribute to the music of this era including: Kelly Bell\, Jenny Langer\, Jonathan Sloane Trio\, The 19th Street Band\, Jon Carroll\, The Sidleys\, Danger Bird (Tribute to Neil Young)\, The Texas Chainsaw Horns\, The Half Smokes\, Me & The Boys (Tribute to NRBQ)\, Holly Montgomery & more TBA. Come out and see WHFS DJs and hear some great music at the fabulous Warner Theatre in DC!  \nTICKETS start at just $25. \nhttps://concerts.livenation.com/bandhouse-gigs-tribute-to-whfs-music-washington-district-of-columbia-08-06-2022/event/15005AE24FBC5103?_ga=2.72436752.2003572176.1657051430-1463607359.1657051430 
URL:https://19thstreetband.com/event/bandhouse-gigs-tribute-to-whfs-music-1969-75/
LOCATION:Warner Theatre\, 513 13th St NW\, Washington\, DC\, 20004\, United States
CATEGORIES:Show
ATTACH;FMTTYPE=image/jpeg:https://19thstreetband.com/wp-content/uploads/2022/07/whfs-tribute-image.jpg
END:VEVENT
BEGIN:VEVENT
DTSTART;TZID=America/New_York:20220731T143000
DTEND;TZID=America/New_York:20220731T180000
DTSTAMP:20260419T153509
CREATED:20220705T193557Z
LAST-MODIFIED:20220705T193557Z
UID:14712-1659277800-1659290400@19thstreetband.com
SUMMARY:The Starboard Dewey Beach
DESCRIPTION:Don’t miss our last show of Summer 2022 at The Starboard!
URL:https://19thstreetband.com/event/the-starboard-dewey-beach-5/
LOCATION:The Starboard\, 2009 Coastal Hwy\, Dewey Beach\, DE\, 19971\, United States
CATEGORIES:Show
ATTACH;FMTTYPE=image/jpeg:https://19thstreetband.com/wp-content/uploads/2021/06/starboard-deck.jpg
END:VEVENT
BEGIN:VEVENT
DTSTART;TZID=America/New_York:20220730T220000
DTEND;TZID=America/New_York:20220731T000000
DTSTAMP:20260419T153509
CREATED:20220705T193312Z
LAST-MODIFIED:20220705T193312Z
UID:14710-1659218400-1659225600@19thstreetband.com
SUMMARY:Mango's Bethany Beach
DESCRIPTION:Don’t miss our last show of Summer 2022 at Mango’s in Bethany Beach!
URL:https://19thstreetband.com/event/mangos-bethany-beach-15/
LOCATION:Mango’s Bethany Beach\, 97 Garfield Pkwy\, Bethany Beach\, DE\, 19930\, United States
CATEGORIES:Show
ATTACH;FMTTYPE=image/jpeg:https://19thstreetband.com/wp-content/uploads/2020/06/mangos-gcfl.jpg
END:VEVENT
BEGIN:VEVENT
DTSTART;TZID=America/New_York:20220729T173000
DTEND;TZID=America/New_York:20220729T190000
DTSTAMP:20260419T153509
CREATED:20220705T192823Z
LAST-MODIFIED:20220705T192823Z
UID:14707-1659115800-1659121200@19thstreetband.com
SUMMARY:Washington Nationals Budweiser Terrace Concert Series
DESCRIPTION:Every Friday Washington Nationals home game\, the best place to pregame is at the Budweiser Terrace inside the ballpark from 5 to 7pm. Join us there before the Nats vs. Cardinals home game for amazing live music by The 19th Street Band and enjoy ice cold beer! \nGame Tickets: https://www.mlb.com/nationals/tickets
URL:https://19thstreetband.com/event/washington-nationals-budweiser-terrace-concert-series/
LOCATION:Nationals Park\, 1500 S Capitol St SE\, Washington\, DC\, 20003\, United States
ATTACH;FMTTYPE=image/jpeg:https://19thstreetband.com/wp-content/uploads/2021/03/street-photo-bw-ml-album-scaled.jpg
END:VEVENT
BEGIN:VEVENT
DTSTART;TZID=America/New_York:20220724T140000
DTEND;TZID=America/New_York:20220724T170000
DTSTAMP:20260419T153509
CREATED:20220705T184522Z
LAST-MODIFIED:20220705T184522Z
UID:14705-1658671200-1658682000@19thstreetband.com
SUMMARY:Silo Falls
DESCRIPTION:Sunday Funday with live music at Silo Falls in Olney\, MD! 2-5pm
URL:https://19thstreetband.com/event/silo-falls-7/
LOCATION:Silo Falls\, 19501 Georgia Avenue\, Brookeville\, MD\, 20833\, United States
CATEGORIES:Show
ATTACH;FMTTYPE=image/jpeg:https://19thstreetband.com/wp-content/uploads/2022/04/silo-falls.jpg
END:VEVENT
BEGIN:VEVENT
DTSTART;TZID=America/New_York:20220723T213000
DTEND;TZID=America/New_York:20220724T010000
DTSTAMP:20260419T153509
CREATED:20220702T200441Z
LAST-MODIFIED:20220704T012803Z
UID:14699-1658611800-1658624400@19thstreetband.com
SUMMARY:The Hunter's Hound
DESCRIPTION:Gather all your friends and join us for our first show at The Hunter’s Hound in Chevy Chase\, MD! See y’all on July 23rd!
URL:https://19thstreetband.com/event/the-hunters-hound/
LOCATION:The Hunter’s Hound\, 5471 Wisconsin Ave 206 A\, Chevy Chase\, MD\, 20815\, United States
ATTACH;FMTTYPE=image/jpeg:https://19thstreetband.com/wp-content/uploads/2022/07/5F0850B0-F2FC-4BB8-B70B-D663EE86D49B.jpeg
END:VEVENT
BEGIN:VEVENT
DTSTART;TZID=America/New_York:20220722T170000
DTEND;TZID=America/New_York:20220722T210000
DTSTAMP:20260419T153509
CREATED:20220705T183821Z
LAST-MODIFIED:20220705T183821Z
UID:14703-1658509200-1658523600@19thstreetband.com
SUMMARY:Nick's Fish House
DESCRIPTION:Can’t wait to see y’all back at Nick’s Fish House in Baltimore!
URL:https://19thstreetband.com/event/nicks-fish-house-7/
LOCATION:Nick’s Fish House\, 2600 Insulator Dr\, Baltimore\, MD\, 21230\, United States
CATEGORIES:Show
ATTACH;FMTTYPE=image/jpeg:https://19thstreetband.com/wp-content/uploads/2022/04/nicks-bw.jpg
END:VEVENT
BEGIN:VEVENT
DTSTART;TZID=America/New_York:20220717T143000
DTEND;TZID=America/New_York:20220717T180000
DTSTAMP:20260419T153509
CREATED:20220424T203351Z
LAST-MODIFIED:20220424T203351Z
UID:14674-1658068200-1658080800@19thstreetband.com
SUMMARY:The Starboard - Dewey Beach
DESCRIPTION:Deck party with live music by The 19th Street Band at The Starboard!
URL:https://19thstreetband.com/event/the-starboard-dewey-beach-4/
LOCATION:The Starboard\, 2009 Coastal Hwy\, Dewey Beach\, DE\, 19971\, United States
CATEGORIES:Show
ATTACH;FMTTYPE=image/jpeg:https://19thstreetband.com/wp-content/uploads/2022/04/19th-St-Band-square-event-scaled-1.jpg
END:VEVENT
BEGIN:VEVENT
DTSTART;TZID=America/New_York:20220716T214500
DTEND;TZID=America/New_York:20220717T000000
DTSTAMP:20260419T153509
CREATED:20220424T203200Z
LAST-MODIFIED:20220424T203200Z
UID:14672-1658007900-1658016000@19thstreetband.com
SUMMARY:Mango's
DESCRIPTION:
URL:https://19thstreetband.com/event/mangos-3/
LOCATION:Mango’s Bethany Beach\, 97 Garfield Pkwy\, Bethany Beach\, DE\, 19930\, United States
CATEGORIES:Show
ATTACH;FMTTYPE=image/jpeg:https://19thstreetband.com/wp-content/uploads/2020/06/mangos-gcfl.jpg
END:VEVENT
BEGIN:VEVENT
DTSTART;TZID=America/New_York:20220715T190000
DTEND;TZID=America/New_York:20220715T220000
DTSTAMP:20260419T153509
CREATED:20220702T194511Z
LAST-MODIFIED:20220702T194511Z
UID:14696-1657911600-1657922400@19thstreetband.com
SUMMARY:Denizens Brewing Co.
DESCRIPTION:Live music at Denizens Silver Spring is back\, baby!\nJoin us to celebrate our good friends at Denizens’ 8TH ANNIVERSARY! We will be performing in their sweet new event space on the lower level. This is a free show with indoor seating first come\, first served.\nWe look forward to celebrating with you all!
URL:https://19thstreetband.com/event/denizens-brewing-co/
LOCATION:Denizens Brewing Co.\, 1115 East West Highway\, Silver Spring\, MD\, 20910\, United States
ATTACH;FMTTYPE=image/jpeg:https://19thstreetband.com/wp-content/uploads/2021/03/cruise-kick-crop.jpg
END:VEVENT
BEGIN:VEVENT
DTSTART;TZID=America/New_York:20220714T190000
DTEND;TZID=America/New_York:20220714T210000
DTSTAMP:20260419T153509
CREATED:20220424T202300Z
LAST-MODIFIED:20220424T202300Z
UID:14669-1657825200-1657832400@19thstreetband.com
SUMMARY:Lewes Canalfront Park
DESCRIPTION:Outdoor summer concert in Lewes\, DE!
URL:https://19thstreetband.com/event/lewes-canalfront-park/
LOCATION:Canalfront Park\, 211 Front Street\, Lewes\, DE\, 19958\, United States
CATEGORIES:Show
ATTACH;FMTTYPE=image/jpeg:https://19thstreetband.com/wp-content/uploads/2022/04/ml-outdoors-2.jpg
END:VEVENT
BEGIN:VEVENT
DTSTART;TZID=America/New_York:20220710T113000
DTEND;TZID=America/New_York:20220710T183000
DTSTAMP:20260419T153509
CREATED:20220314T203734Z
LAST-MODIFIED:20220702T195058Z
UID:14577-1657452600-1657477800@19thstreetband.com
SUMMARY:NoVA MusicFest
DESCRIPTION:NoVA MusicFest is big\, and bigger this year than ever before. Seven hours of incredible music from local\, regional\, and international musicians who are committed to raising money for the Cancer Can Rock foundation.\n\nFor 2022\, the scheduled musicians include:\nThe Greek and The Freak\nJuliet Lloyd\nGary Smallwood\nEric Scott Trio \nMary Ann Redmond Band\nThe 19th Street Band\nTommy Gann \nChris Timbers Band\n\n\nCancer Can Rock uses the money raised to invite musicians facing aggressive cancer into a studio with professionals to produce a song which serves as a tangible reminder of their recording experience. These songs have provided both pride for those who have survived and solace for those who survive them.\nMusic all day\, food\, wine\, craft vendors and more. Plan to spend the day with us at 868. This fundraiser is a ticketed event and is open to all.\n\nAdvance tickets\, $15. Day of the show\, $20.\n\nEVENT: Events | 868 Estate Vineyards
URL:https://19thstreetband.com/event/nova-musicfest/
LOCATION:868 Estate Vineyards\, 14001 Harpers Ferry Rd\, Hillsboro\, VA\, 20132\, United States
ATTACH;FMTTYPE=image/jpeg:https://19thstreetband.com/wp-content/uploads/2022/03/bullpen-ml.jpg
END:VEVENT
BEGIN:VEVENT
DTSTART;TZID=America/New_York:20220709T183000
DTEND;TZID=America/New_York:20220709T220000
DTSTAMP:20260419T153509
CREATED:20220424T201950Z
LAST-MODIFIED:20220424T201950Z
UID:14667-1657391400-1657404000@19thstreetband.com
SUMMARY:Starr Hill Biergarten Tysons
DESCRIPTION:Starr Hill’s outdoor rooftop biergarten in Tysons!\n\nLOCATION: CAPITAL ONE CENTER @ THE PERCH\n(Above Wegmans & Capital One Hall) \nUSE NORTH OR SOUTH ELEVATORS TO ACCESS THE 11TH FLOOR FOR THE BIERGARTEN
URL:https://19thstreetband.com/event/starr-hill-biergarten-tysons-2/
LOCATION:Starr Hill Biergarten Tysons\, 1805 Capital One Dr\, Suite 1100\, Tysons\, VA\, 22102\, United States
CATEGORIES:Show
ATTACH;FMTTYPE=image/jpeg:https://19thstreetband.com/wp-content/uploads/2022/03/Starr-hill-ml-2.jpg
END:VEVENT
BEGIN:VEVENT
DTSTART;TZID=America/New_York:20220708T180000
DTEND;TZID=America/New_York:20220708T200000
DTSTAMP:20260419T153509
CREATED:20220424T201517Z
LAST-MODIFIED:20220424T201517Z
UID:14664-1657303200-1657310400@19thstreetband.com
SUMMARY:The Bethesda Streetery
DESCRIPTION:The 19th Street Band will be rockin’ The Bethesda Streetery on July 8th! \nConcerts begin at 6pm at the corner of Norfolk & St. Elmo Avenues\, sponsored by Bethesda Urban Partnership.
URL:https://19thstreetband.com/event/the-bethesda-streetery-2/
LOCATION:Bethesda Streetery\, Corner of Norfolk and Del Ray Avenues\, Bethesda\, MD\, 20814\, United States
CATEGORIES:Show
ATTACH;FMTTYPE=image/jpeg:https://19thstreetband.com/wp-content/uploads/2022/04/ml-streetery.jpg
END:VEVENT
BEGIN:VEVENT
DTSTART;TZID=America/New_York:20220704T213000
DTEND;TZID=America/New_York:20220704T233000
DTSTAMP:20260419T153509
CREATED:20220424T195345Z
LAST-MODIFIED:20220424T195345Z
UID:14662-1656970200-1656977400@19thstreetband.com
SUMMARY:4th of July at Mango's
DESCRIPTION:Join us after the Bethany Beach fireworks for the best after party in town! It’s a Mango’s tradition. Music starts right after the fireworks finale!
URL:https://19thstreetband.com/event/4th-of-july-at-mangos-2/
LOCATION:Mango’s Bethany Beach\, 97 Garfield Pkwy\, Bethany Beach\, DE\, 19930\, United States
CATEGORIES:Show
ATTACH;FMTTYPE=image/jpeg:https://19thstreetband.com/wp-content/uploads/2018/04/mangos-bar-2.jpg
END:VEVENT
BEGIN:VEVENT
DTSTART;TZID=America/New_York:20220702T214500
DTEND;TZID=America/New_York:20220703T000000
DTSTAMP:20260419T153509
CREATED:20220424T195139Z
LAST-MODIFIED:20220424T195139Z
UID:14660-1656798300-1656806400@19thstreetband.com
SUMMARY:Mango's Bethany Beach
DESCRIPTION:
URL:https://19thstreetband.com/event/mangos-bethany-beach-14/
LOCATION:Mango’s Bethany Beach\, 97 Garfield Pkwy\, Bethany Beach\, DE\, 19930\, United States
CATEGORIES:Show
ATTACH;FMTTYPE=image/jpeg:https://19thstreetband.com/wp-content/uploads/2020/06/mangos-gcfl.jpg
END:VEVENT
END:VCALENDAR