BEGIN:VCALENDAR
VERSION:2.0
PRODID:-//The 19th Street Band - ECPv6.15.20//NONSGML v1.0//EN
CALSCALE:GREGORIAN
METHOD:PUBLISH
X-WR-CALNAME:The 19th Street Band
X-ORIGINAL-URL:https://19thstreetband.com
X-WR-CALDESC:Events for The 19th Street Band
REFRESH-INTERVAL;VALUE=DURATION:PT1H
X-Robots-Tag:noindex
X-PUBLISHED-TTL:PT1H
BEGIN:VTIMEZONE
TZID:America/New_York
BEGIN:DAYLIGHT
TZOFFSETFROM:-0500
TZOFFSETTO:-0400
TZNAME:EDT
DTSTART:20210314T070000
END:DAYLIGHT
BEGIN:STANDARD
TZOFFSETFROM:-0400
TZOFFSETTO:-0500
TZNAME:EST
DTSTART:20211107T060000
END:STANDARD
BEGIN:DAYLIGHT
TZOFFSETFROM:-0500
TZOFFSETTO:-0400
TZNAME:EDT
DTSTART:20220313T070000
END:DAYLIGHT
BEGIN:STANDARD
TZOFFSETFROM:-0400
TZOFFSETTO:-0500
TZNAME:EST
DTSTART:20221106T060000
END:STANDARD
BEGIN:DAYLIGHT
TZOFFSETFROM:-0500
TZOFFSETTO:-0400
TZNAME:EDT
DTSTART:20230312T070000
END:DAYLIGHT
BEGIN:STANDARD
TZOFFSETFROM:-0400
TZOFFSETTO:-0500
TZNAME:EST
DTSTART:20231105T060000
END:STANDARD
END:VTIMEZONE
BEGIN:VEVENT
DTSTART;TZID=America/New_York:20220723T213000
DTEND;TZID=America/New_York:20220724T010000
DTSTAMP:20260419T141110
CREATED:20220702T200441Z
LAST-MODIFIED:20220704T012803Z
UID:14699-1658611800-1658624400@19thstreetband.com
SUMMARY:The Hunter's Hound
DESCRIPTION:Gather all your friends and join us for our first show at The Hunter’s Hound in Chevy Chase\, MD! See y’all on July 23rd!
URL:https://19thstreetband.com/event/the-hunters-hound/
LOCATION:The Hunter’s Hound\, 5471 Wisconsin Ave 206 A\, Chevy Chase\, MD\, 20815\, United States
ATTACH;FMTTYPE=image/jpeg:https://19thstreetband.com/wp-content/uploads/2022/07/5F0850B0-F2FC-4BB8-B70B-D663EE86D49B.jpeg
END:VEVENT
BEGIN:VEVENT
DTSTART;TZID=America/New_York:20220722T170000
DTEND;TZID=America/New_York:20220722T210000
DTSTAMP:20260419T141110
CREATED:20220705T183821Z
LAST-MODIFIED:20220705T183821Z
UID:14703-1658509200-1658523600@19thstreetband.com
SUMMARY:Nick's Fish House
DESCRIPTION:Can’t wait to see y’all back at Nick’s Fish House in Baltimore!
URL:https://19thstreetband.com/event/nicks-fish-house-7/
LOCATION:Nick’s Fish House\, 2600 Insulator Dr\, Baltimore\, MD\, 21230\, United States
CATEGORIES:Show
ATTACH;FMTTYPE=image/jpeg:https://19thstreetband.com/wp-content/uploads/2022/04/nicks-bw.jpg
END:VEVENT
BEGIN:VEVENT
DTSTART;TZID=America/New_York:20220717T143000
DTEND;TZID=America/New_York:20220717T180000
DTSTAMP:20260419T141110
CREATED:20220424T203351Z
LAST-MODIFIED:20220424T203351Z
UID:14674-1658068200-1658080800@19thstreetband.com
SUMMARY:The Starboard - Dewey Beach
DESCRIPTION:Deck party with live music by The 19th Street Band at The Starboard!
URL:https://19thstreetband.com/event/the-starboard-dewey-beach-4/
LOCATION:The Starboard\, 2009 Coastal Hwy\, Dewey Beach\, DE\, 19971\, United States
CATEGORIES:Show
ATTACH;FMTTYPE=image/jpeg:https://19thstreetband.com/wp-content/uploads/2022/04/19th-St-Band-square-event-scaled-1.jpg
END:VEVENT
BEGIN:VEVENT
DTSTART;TZID=America/New_York:20220716T214500
DTEND;TZID=America/New_York:20220717T000000
DTSTAMP:20260419T141110
CREATED:20220424T203200Z
LAST-MODIFIED:20220424T203200Z
UID:14672-1658007900-1658016000@19thstreetband.com
SUMMARY:Mango's
DESCRIPTION:
URL:https://19thstreetband.com/event/mangos-3/
LOCATION:Mango’s Bethany Beach\, 97 Garfield Pkwy\, Bethany Beach\, DE\, 19930\, United States
CATEGORIES:Show
ATTACH;FMTTYPE=image/jpeg:https://19thstreetband.com/wp-content/uploads/2020/06/mangos-gcfl.jpg
END:VEVENT
BEGIN:VEVENT
DTSTART;TZID=America/New_York:20220715T190000
DTEND;TZID=America/New_York:20220715T220000
DTSTAMP:20260419T141110
CREATED:20220702T194511Z
LAST-MODIFIED:20220702T194511Z
UID:14696-1657911600-1657922400@19thstreetband.com
SUMMARY:Denizens Brewing Co.
DESCRIPTION:Live music at Denizens Silver Spring is back\, baby!\nJoin us to celebrate our good friends at Denizens’ 8TH ANNIVERSARY! We will be performing in their sweet new event space on the lower level. This is a free show with indoor seating first come\, first served.\nWe look forward to celebrating with you all!
URL:https://19thstreetband.com/event/denizens-brewing-co/
LOCATION:Denizens Brewing Co.\, 1115 East West Highway\, Silver Spring\, MD\, 20910\, United States
ATTACH;FMTTYPE=image/jpeg:https://19thstreetband.com/wp-content/uploads/2021/03/cruise-kick-crop.jpg
END:VEVENT
BEGIN:VEVENT
DTSTART;TZID=America/New_York:20220714T190000
DTEND;TZID=America/New_York:20220714T210000
DTSTAMP:20260419T141110
CREATED:20220424T202300Z
LAST-MODIFIED:20220424T202300Z
UID:14669-1657825200-1657832400@19thstreetband.com
SUMMARY:Lewes Canalfront Park
DESCRIPTION:Outdoor summer concert in Lewes\, DE!
URL:https://19thstreetband.com/event/lewes-canalfront-park/
LOCATION:Canalfront Park\, 211 Front Street\, Lewes\, DE\, 19958\, United States
CATEGORIES:Show
ATTACH;FMTTYPE=image/jpeg:https://19thstreetband.com/wp-content/uploads/2022/04/ml-outdoors-2.jpg
END:VEVENT
BEGIN:VEVENT
DTSTART;TZID=America/New_York:20220710T113000
DTEND;TZID=America/New_York:20220710T183000
DTSTAMP:20260419T141110
CREATED:20220314T203734Z
LAST-MODIFIED:20220702T195058Z
UID:14577-1657452600-1657477800@19thstreetband.com
SUMMARY:NoVA MusicFest
DESCRIPTION:NoVA MusicFest is big\, and bigger this year than ever before. Seven hours of incredible music from local\, regional\, and international musicians who are committed to raising money for the Cancer Can Rock foundation.\n\nFor 2022\, the scheduled musicians include:\nThe Greek and The Freak\nJuliet Lloyd\nGary Smallwood\nEric Scott Trio \nMary Ann Redmond Band\nThe 19th Street Band\nTommy Gann \nChris Timbers Band\n\n\nCancer Can Rock uses the money raised to invite musicians facing aggressive cancer into a studio with professionals to produce a song which serves as a tangible reminder of their recording experience. These songs have provided both pride for those who have survived and solace for those who survive them.\nMusic all day\, food\, wine\, craft vendors and more. Plan to spend the day with us at 868. This fundraiser is a ticketed event and is open to all.\n\nAdvance tickets\, $15. Day of the show\, $20.\n\nEVENT: Events | 868 Estate Vineyards
URL:https://19thstreetband.com/event/nova-musicfest/
LOCATION:868 Estate Vineyards\, 14001 Harpers Ferry Rd\, Hillsboro\, VA\, 20132\, United States
ATTACH;FMTTYPE=image/jpeg:https://19thstreetband.com/wp-content/uploads/2022/03/bullpen-ml.jpg
END:VEVENT
BEGIN:VEVENT
DTSTART;TZID=America/New_York:20220709T183000
DTEND;TZID=America/New_York:20220709T220000
DTSTAMP:20260419T141110
CREATED:20220424T201950Z
LAST-MODIFIED:20220424T201950Z
UID:14667-1657391400-1657404000@19thstreetband.com
SUMMARY:Starr Hill Biergarten Tysons
DESCRIPTION:Starr Hill’s outdoor rooftop biergarten in Tysons!\n\nLOCATION: CAPITAL ONE CENTER @ THE PERCH\n(Above Wegmans & Capital One Hall) \nUSE NORTH OR SOUTH ELEVATORS TO ACCESS THE 11TH FLOOR FOR THE BIERGARTEN
URL:https://19thstreetband.com/event/starr-hill-biergarten-tysons-2/
LOCATION:Starr Hill Biergarten Tysons\, 1805 Capital One Dr\, Suite 1100\, Tysons\, VA\, 22102\, United States
CATEGORIES:Show
ATTACH;FMTTYPE=image/jpeg:https://19thstreetband.com/wp-content/uploads/2022/03/Starr-hill-ml-2.jpg
END:VEVENT
BEGIN:VEVENT
DTSTART;TZID=America/New_York:20220708T180000
DTEND;TZID=America/New_York:20220708T200000
DTSTAMP:20260419T141110
CREATED:20220424T201517Z
LAST-MODIFIED:20220424T201517Z
UID:14664-1657303200-1657310400@19thstreetband.com
SUMMARY:The Bethesda Streetery
DESCRIPTION:The 19th Street Band will be rockin’ The Bethesda Streetery on July 8th! \nConcerts begin at 6pm at the corner of Norfolk & St. Elmo Avenues\, sponsored by Bethesda Urban Partnership.
URL:https://19thstreetband.com/event/the-bethesda-streetery-2/
LOCATION:Bethesda Streetery\, Corner of Norfolk and Del Ray Avenues\, Bethesda\, MD\, 20814\, United States
CATEGORIES:Show
ATTACH;FMTTYPE=image/jpeg:https://19thstreetband.com/wp-content/uploads/2022/04/ml-streetery.jpg
END:VEVENT
BEGIN:VEVENT
DTSTART;TZID=America/New_York:20220704T213000
DTEND;TZID=America/New_York:20220704T233000
DTSTAMP:20260419T141110
CREATED:20220424T195345Z
LAST-MODIFIED:20220424T195345Z
UID:14662-1656970200-1656977400@19thstreetband.com
SUMMARY:4th of July at Mango's
DESCRIPTION:Join us after the Bethany Beach fireworks for the best after party in town! It’s a Mango’s tradition. Music starts right after the fireworks finale!
URL:https://19thstreetband.com/event/4th-of-july-at-mangos-2/
LOCATION:Mango’s Bethany Beach\, 97 Garfield Pkwy\, Bethany Beach\, DE\, 19930\, United States
CATEGORIES:Show
ATTACH;FMTTYPE=image/jpeg:https://19thstreetband.com/wp-content/uploads/2018/04/mangos-bar-2.jpg
END:VEVENT
BEGIN:VEVENT
DTSTART;TZID=America/New_York:20220702T214500
DTEND;TZID=America/New_York:20220703T000000
DTSTAMP:20260419T141110
CREATED:20220424T195139Z
LAST-MODIFIED:20220424T195139Z
UID:14660-1656798300-1656806400@19thstreetband.com
SUMMARY:Mango's Bethany Beach
DESCRIPTION:
URL:https://19thstreetband.com/event/mangos-bethany-beach-14/
LOCATION:Mango’s Bethany Beach\, 97 Garfield Pkwy\, Bethany Beach\, DE\, 19930\, United States
CATEGORIES:Show
ATTACH;FMTTYPE=image/jpeg:https://19thstreetband.com/wp-content/uploads/2020/06/mangos-gcfl.jpg
END:VEVENT
BEGIN:VEVENT
DTSTART;TZID=America/New_York:20220701T190000
DTEND;TZID=America/New_York:20220701T210000
DTSTAMP:20260419T141110
CREATED:20220424T194651Z
LAST-MODIFIED:20220424T194651Z
UID:14656-1656702000-1656709200@19thstreetband.com
SUMMARY:Capitol Riverfront Friday Night Concert Series @ Yards Park
DESCRIPTION:The Friday Night Concert Series is back this summer hosted by the Capitol Riverfront at Yards Park! This is always an amazing and fun night of music out on the water with a great crowd. Not to be missed! The 19th Street Band is very happy to be a part of this summer’s series once again. Mark the calendars for July 1st!
URL:https://19thstreetband.com/event/capitol-riverfront-friday-night-concert-series-yards-park/
LOCATION:Yards Park\, 355 Water St SE\, Washington\, DC\, 20003\, United States
CATEGORIES:Show
ATTACH;FMTTYPE=image/jpeg:https://19thstreetband.com/wp-content/uploads/2020/09/IMG_0942-scaled.jpg
END:VEVENT
BEGIN:VEVENT
DTSTART;TZID=America/New_York:20220625T200000
DTEND;TZID=America/New_York:20220625T213000
DTSTAMP:20260419T141110
CREATED:20220424T192734Z
LAST-MODIFIED:20220424T192734Z
UID:14653-1656187200-1656192600@19thstreetband.com
SUMMARY:Lubber Run Amphitheater
DESCRIPTION:Lubber Run Summer Concert Series produced by Arlington Arts \nSince the construction of the first permanent stage in 1969\, generations of Arlingtonians have enjoyed free summer cultural events at the sylvan venue nestled two blocks off Route 50. \nJoin The 19th Street Band on June 25th for a beautiful evening of music.  \nAddress: North Columbus Street & 2nd Street North (two blocks north of Rt. 50)\nArlington\, Virginia 22203 \n\n\n\nBy Metro Bus  – Take Bus # 4B or 4E to Park Dr. and N 2nd St
URL:https://19thstreetband.com/event/lubber-run-amphitheater/
LOCATION:Lubber Run Amphitheater\, N Columbus St & 2nd St N\, Arlington\, VA\, 22203\, United States
CATEGORIES:Show
ATTACH;FMTTYPE=image/jpeg:https://19thstreetband.com/wp-content/uploads/2022/04/19th-A-scaled.jpg
END:VEVENT
BEGIN:VEVENT
DTSTART;TZID=America/New_York:20220624T180000
DTEND;TZID=America/New_York:20220624T210000
DTSTAMP:20260419T141110
CREATED:20220415T003603Z
LAST-MODIFIED:20220415T003603Z
UID:14633-1656093600-1656104400@19thstreetband.com
SUMMARY:Silo Falls
DESCRIPTION:
URL:https://19thstreetband.com/event/silo-falls-6/
LOCATION:Silo Falls\, 19501 Georgia Avenue\, Brookeville\, MD\, 20833\, United States
CATEGORIES:Show
ATTACH;FMTTYPE=image/jpeg:https://19thstreetband.com/wp-content/uploads/2022/04/silo-falls.jpg
END:VEVENT
BEGIN:VEVENT
DTSTART;TZID=America/New_York:20220619T143000
DTEND;TZID=America/New_York:20220619T180000
DTSTAMP:20260419T141110
CREATED:20220413T165859Z
LAST-MODIFIED:20220413T165859Z
UID:14612-1655649000-1655661600@19thstreetband.com
SUMMARY:The Starboard
DESCRIPTION:
URL:https://19thstreetband.com/event/the-starboard-8/
LOCATION:The Starboard\, 2009 Coastal Hwy\, Dewey Beach\, DE\, 19971\, United States
CATEGORIES:Show
ATTACH;FMTTYPE=image/jpeg:https://19thstreetband.com/wp-content/uploads/2021/06/starboard-deck.jpg
END:VEVENT
BEGIN:VEVENT
DTSTART;TZID=America/New_York:20220618T220000
DTEND;TZID=America/New_York:20220619T000000
DTSTAMP:20260419T141110
CREATED:20220413T170116Z
LAST-MODIFIED:20220413T170116Z
UID:14614-1655589600-1655596800@19thstreetband.com
SUMMARY:Mango's Bethany Beach
DESCRIPTION:
URL:https://19thstreetband.com/event/mangos-bethany-beach-13/
LOCATION:Mango’s Bethany Beach\, 97 Garfield Pkwy\, Bethany Beach\, DE\, 19930\, United States
CATEGORIES:Show
ATTACH;FMTTYPE=image/jpeg:https://19thstreetband.com/wp-content/uploads/2020/06/mangos-gcfl.jpg
END:VEVENT
BEGIN:VEVENT
DTSTART;TZID=America/New_York:20220617T190000
DTEND;TZID=America/New_York:20220617T210000
DTSTAMP:20260419T141110
CREATED:20220414T192321Z
LAST-MODIFIED:20220414T192321Z
UID:14628-1655492400-1655499600@19thstreetband.com
SUMMARY:THE AVENUE LIVE! at White Marsh
DESCRIPTION:THE AVENUE LIVE outdoor music series returns to White Marsh this summer!  Food and drink tents will be open 6pm – 9pm. Live music 7-9pm. \nEnjoy patio dining or grab a bite from one of our eateries and feel free to bring a blanket (chairs prohibited). Plus\, we’ll have “adult beverages” available for purchase in the event area! For the convenience of those in need of additional seating\, representatives from Perry Hall High School will provide chairs for rental. A minimum donation of $2 per chair is required and all proceeds will benefit the fundraising efforts of Perry Hall High School PTSA. \nThe 19th Street Band performs on FRIDAY\, JUNE 17TH! \nPlease note the following restrictions from the venue: \n\nBringing your own food and beverages is prohibited at these performances. Only food and beverages purchased from THE AVENUE at White Marsh restaurants and eateries will be permitted. **Limit 2 snack size bags of food – for special instances such as allergies.\nCoolers are prohibited.\nY.O chairs prohibited.\nAlcoholic beverages purchased from our drink tents must be consumed in the event area.\nThe Main Plaza\, event area\, is designated smoke free. **Please note\, the plaza closes at 11pm.\n\nIn advance\, thank you for supporting our businesses as we continue to provide this live musical entertainment and outdoor dining experience for our guests. \n 
URL:https://19thstreetband.com/event/the-avenue-live-at-white-marsh/
LOCATION:The Avenue at White Marsh\, 8125 HONEYGO BLVD\, Baltimore\, MD\, 21236\, United States
CATEGORIES:Show
ATTACH;FMTTYPE=image/jpeg:https://19thstreetband.com/wp-content/uploads/2022/04/the-avenue-live-2022.jpg
END:VEVENT
BEGIN:VEVENT
DTSTART;TZID=America/New_York:20220612T143000
DTEND;TZID=America/New_York:20220612T180000
DTSTAMP:20260419T141110
CREATED:20220413T164143Z
LAST-MODIFIED:20220413T164143Z
UID:14609-1655044200-1655056800@19thstreetband.com
SUMMARY:The Starboard Dewey
DESCRIPTION:Deck party 2:30-6pm!
URL:https://19thstreetband.com/event/the-starboard-dewey-7/
LOCATION:The Starboard\, 2009 Coastal Hwy\, Dewey Beach\, DE\, 19971\, United States
CATEGORIES:Show
ATTACH;FMTTYPE=image/jpeg:https://19thstreetband.com/wp-content/uploads/2022/04/19th-St-Band-square-event-scaled-1.jpg
END:VEVENT
BEGIN:VEVENT
DTSTART;TZID=America/New_York:20220611T193000
DTEND;TZID=America/New_York:20220611T204500
DTSTAMP:20260419T141110
CREATED:20220414T184331Z
LAST-MODIFIED:20220414T184331Z
UID:14624-1654975800-1654980300@19thstreetband.com
SUMMARY:Columbia Festival of the Arts: LakeFest
DESCRIPTION:Columbia Festival of the Arts FREE LAKEFEST WEEKEND\nLakeFest\, Columbia’s family arts & entertainment festival at the Downtown Columbia Lakefront\, makes its triumphant return after two years in virtual quarantine. The free\, three-day event features live music\, kids’ entertainment and crafts\, an invitational fine arts and crafts show\, festive food\, a beer & wine garden\, participatory workshops\, and a variety of activities for all ages.  \nLakeFest Hours: Friday\, June 10: 5:00 PM – 10:00 PM | Saturday\, June 11: 11:00 AM – 10:30 PM | Sunday\, June 12: 11:00 AM – 7:00 PM \nThe 19th Street Band performs June 11th on the LakeStage from 7:30-8:45pm!
URL:https://19thstreetband.com/event/columbia-festival-of-the-arts-lakefest/
LOCATION:Columbia Lakefront Live\, 10275 Wincopin Cir\, Columbia\, MD\, 21044\, United States
ATTACH;FMTTYPE=image/jpeg:https://19thstreetband.com/wp-content/uploads/2022/04/lakefest-2022.jpg
END:VEVENT
BEGIN:VEVENT
DTSTART;TZID=America/New_York:20220610T180000
DTEND;TZID=America/New_York:20220610T220000
DTSTAMP:20260419T141110
CREATED:20220414T182428Z
LAST-MODIFIED:20220414T182428Z
UID:14622-1654884000-1654898400@19thstreetband.com
SUMMARY:Friday On The Commons - Red\, White\, & Brews
DESCRIPTION:Red\, White & Brews is back at Whalen Commons! \nEvent runs 6-10pm. The 19th Street Band performs 8-10pm.
URL:https://19thstreetband.com/event/friday-on-the-commons-red-white-brews/
LOCATION:Whalen Commons\, 19701 Fisher Ave\, Poolesville\, MD\, 20837\, United States
CATEGORIES:Show
ATTACH;FMTTYPE=image/jpeg:https://19thstreetband.com/wp-content/uploads/2018/05/IMG_9921.jpg
END:VEVENT
BEGIN:VEVENT
DTSTART;TZID=America/New_York:20220603T170000
DTEND;TZID=America/New_York:20220603T210000
DTSTAMP:20260419T141110
CREATED:20220603T144639Z
LAST-MODIFIED:20220603T144701Z
UID:14689-1654275600-1654290000@19thstreetband.com
SUMMARY:Opening for Eli Young Band at The Bullpen
DESCRIPTION:We’ll be opening for the Eli Young Band at The Bullpen in DC on Friday as part of their Summer Concert Series. Tickets are sold out! \nMore INFO! \nDoors 5pm | The 19th Street Band 5:45pm | Eli Young Band 7pm
URL:https://19thstreetband.com/event/14689/
LOCATION:The Bullpen\, 1299 Half St. SE\, Washington\, DC\, 20003\, United States
ATTACH;FMTTYPE=image/jpeg:https://19thstreetband.com/wp-content/uploads/2022/06/eli-young-band.jpg
END:VEVENT
BEGIN:VEVENT
DTSTART;TZID=America/New_York:20220526T100000
DTEND;TZID=America/New_York:20220530T120000
DTSTAMP:20260419T141110
CREATED:20220414T174925Z
LAST-MODIFIED:20220414T174925Z
UID:14618-1653559200-1653912000@19thstreetband.com
SUMMARY:DelFest
DESCRIPTION:The band is honored to be performing at this year’s DelFest in Cumberland\, MD over Memorial Day Weekend! After a 2-year hiatus\, the festival is back and better than ever with an amazing lineup of performers. TICKETS are available for the entire weekend or single-day passes. Camp out and enjoy the music from morning to night!  \nOn Friday\, May 27th plan to start your day off with a bloody mary and a rockin’ set from The 19th Street Band! \nTICKETS: https://delfest.com/tickets/  \nMORE INFO: https://delfest.com/eventinfo/ 
URL:https://19thstreetband.com/event/delfest/
LOCATION:Allegany County Fairgrounds\, 11400 Moss Avenue\, Cumberland\, MD\, 21502\, United States
ATTACH;FMTTYPE=image/jpeg:https://19thstreetband.com/wp-content/uploads/2022/04/delfest-2022.jpg
END:VEVENT
BEGIN:VEVENT
DTSTART;TZID=America/New_York:20220522T143000
DTEND;TZID=America/New_York:20220522T180000
DTSTAMP:20260419T141110
CREATED:20220314T205204Z
LAST-MODIFIED:20220314T205204Z
UID:14584-1653229800-1653242400@19thstreetband.com
SUMMARY:The Starboard - Dewey
DESCRIPTION:Time for our first show of the summer on the deck at The Starboard in Dewey Beach!  \nCome & crush it with us! 
URL:https://19thstreetband.com/event/the-starboard-dewey-6/
LOCATION:The Starboard\, 2009 Coastal Hwy\, Dewey Beach\, DE\, 19971\, United States
CATEGORIES:Show
ATTACH;FMTTYPE=image/jpeg:https://19thstreetband.com/wp-content/uploads/2021/07/starboard5.jpg
END:VEVENT
BEGIN:VEVENT
DTSTART;TZID=America/New_York:20220520T183000
DTEND;TZID=America/New_York:20220520T220000
DTSTAMP:20260419T141110
CREATED:20220314T205000Z
LAST-MODIFIED:20220314T205000Z
UID:14581-1653071400-1653084000@19thstreetband.com
SUMMARY:Starr Hill Biergarten
DESCRIPTION:OUTDOOR STAGE at Starr Hill Tysons located at the CAPITAL ONE CENTER @ THE PERCH\n1805 CAPITAL ONE CENTER DRIVE\nABOVE WEGMANS & CAPITAL ONE HALL\nUSE NORTH OR SOUTH ELEVATORS TO ACCESS THE 11TH FLOOR FOR THE BIERGARTEN
URL:https://19thstreetband.com/event/starr-hill-biergarten/
LOCATION:Starr Hill Biergarten Tysons\, 1805 Capital One Dr\, Suite 1100\, Tysons\, VA\, 22102\, United States
CATEGORIES:Show
ATTACH;FMTTYPE=image/jpeg:https://19thstreetband.com/wp-content/uploads/2022/03/Starr-hill-ml.jpg
END:VEVENT
BEGIN:VEVENT
DTSTART;TZID=America/New_York:20220514T120000
DTEND;TZID=America/New_York:20220514T170000
DTSTAMP:20260419T141110
CREATED:20220420T183946Z
LAST-MODIFIED:20220420T183946Z
UID:14646-1652529600-1652547600@19thstreetband.com
SUMMARY:Maryland Craft Beer Festival
DESCRIPTION:Hey Frederick\, we’re back!\nThe Brewers Association of Maryland returns to the Carroll Creek Linear Park in Frederick for the 2022 Maryland Craft Beer Festival! \nFestival entry includes beer samples from DOZENS OF MARYLAND BREWERIES (including a few breweries not yet open to the public!) pouring more than 200 unique\, beers – all brewed in Maryland. \nIn addition\, there will be live music and a great selection of food and craft vendors throughout the festival. \nThe 19th Street Band performs 3:30-5pm! \nEvent Hours \n12:00-1:30 PM • Enthusiast Session\n1:30-5:00 PM • General Tasting Session\nLast Call 4:45pm • Rain or Shine \nTickets are nonrefundable & only available in advance. \nValid\, government-issued ID required for entry. \nEvent Address\nCarroll Creek Linear Park\n44 South Market St\, Frederick\, MD 21701\nLink for PASSES:https://www.eventbrite.com/e/maryland-craft-beer-festival-tickets-274865649557 \n2023 MDCBF Homepage
URL:https://19thstreetband.com/event/maryland-craft-beer-festival/
LOCATION:Carroll Creek Outdoor Amphitheater\, CH7R+3F Frederick\, Maryland\, Frederick\, MD\, 21701\, United States
ATTACH;FMTTYPE=image/jpeg:https://19thstreetband.com/wp-content/uploads/2022/04/md-craft-beer-fest.jpg
END:VEVENT
BEGIN:VEVENT
DTSTART;TZID=America/New_York:20220512T170000
DTEND;TZID=America/New_York:20220512T200000
DTSTAMP:20260419T141110
CREATED:20220412T011716Z
LAST-MODIFIED:20220412T011716Z
UID:14598-1652374800-1652385600@19thstreetband.com
SUMMARY:Alive @ Five - Frederick
DESCRIPTION:The 2022 Alive @ Five season kicks off May 12 with live music from The 19th Street Band\, plus beer and wine on the creek.\nAlive @ Five is an outdoor happy hour every Thursday from 5-8pm in the Carroll Creek Amphitheater / 21+ only / $5 entry + $5 drinks / food available for purchase on site / different band every week. Alive @ Five is the Frederick Downtown Partnership’s largest fundraiser\, supporting our work in the community all year long. \nMay 12 • The 19th Street Band (Americana Rock) \n\n\n\n\n\n\n\nThe 2022 season starts Thursday\, May 12. See you on the creek!\n\n\n\n\n\n\n\n\n\n\n\n\nJoin the party.\n\n\n\n\n\n\n\n\nThe 2022 season is presented by DARCARS Toyota of Frederick.\n\n\n\n\nhttps://downtownfrederick.org/event-pro/alive-five-2022-season-kick-off/
URL:https://19thstreetband.com/event/alive-five-frederick/
LOCATION:Carroll Creek Outdoor Amphitheater\, CH7R+3F Frederick\, Maryland\, Frederick\, MD\, 21701\, United States
ATTACH;FMTTYPE=image/jpeg:https://19thstreetband.com/wp-content/uploads/2022/03/Brooke-Lowe-silo.jpg
END:VEVENT
BEGIN:VEVENT
DTSTART;TZID=America/New_York:20220501T140000
DTEND;TZID=America/New_York:20220501T170000
DTSTAMP:20260419T141110
CREATED:20220323T224832Z
LAST-MODIFIED:20220323T224832Z
UID:14593-1651413600-1651424400@19thstreetband.com
SUMMARY:Silo Falls
DESCRIPTION:Sunday Funday outside at Silo Falls!  \nOn stage from 2-5pm. \n  \nPhoto by Mike Landsman
URL:https://19thstreetband.com/event/silo-falls-5/
LOCATION:Silo Falls\, 19501 Georgia Avenue\, Brookeville\, MD\, 20833\, United States
CATEGORIES:Show
ATTACH;FMTTYPE=image/jpeg:https://19thstreetband.com/wp-content/uploads/2022/03/CCBF-.jpg
END:VEVENT
BEGIN:VEVENT
DTSTART;TZID=America/New_York:20220429T170000
DTEND;TZID=America/New_York:20220429T200000
DTSTAMP:20260419T141110
CREATED:20220323T224135Z
LAST-MODIFIED:20220323T224135Z
UID:14589-1651251600-1651262400@19thstreetband.com
SUMMARY:Monocacy Brewing Company
DESCRIPTION:Join us for an extra long Friday at the Fountain on April 29th from 5-8pm outside at Monocacy Brewing Co in Frederick\, MD! \n  \nPhoto by Brooke Lowe
URL:https://19thstreetband.com/event/monocacy-brewing-company-2/
LOCATION:Monocacy Brewing Company\, 1781 N Market St\, Frederick\, MD\, 21701\, United States
CATEGORIES:Show
ATTACH;FMTTYPE=image/jpeg:https://19thstreetband.com/wp-content/uploads/2022/03/Brooke-Lowe-silo.jpg
END:VEVENT
BEGIN:VEVENT
DTSTART;TZID=America/New_York:20220423T200000
DTEND;TZID=America/New_York:20220423T220000
DTSTAMP:20260419T141110
CREATED:20220314T202749Z
LAST-MODIFIED:20220314T202749Z
UID:14575-1650744000-1650751200@19thstreetband.com
SUMMARY:A BandHouse Gigs Tribute to Linda Ronstadt at The Barns at Wolf Trap
DESCRIPTION:A BandHouse Gigs\nTribute to Linda Ronstadt \nCome celebrate Rock & Roll Hall of Famer Linda Ronstadt’s many contributions to popular music with a tribute concert featuring the DC-area’s premier vocalists and musicians performing classics like “You’re No Good\,” “When Will I Be Loved\,” and many more.\nA BandHouse Gigs Tribute to Linda Ronstadt performances originally scheduled at Wolf Trap on Friday\, January 21\, 2022 and Saturday\, January 22\, 2022 have been rescheduled to Friday\, April 22\, 2022 and Saturday\, April 23\, 2022. Tickets with the new date will be emailed to all current ticketholders no later than 3 weeks before the show. \nThe health and safety of our patrons\, artists\, and staff is our highest priority. Patrons attending performances at The Barns at Wolf Trap will be required to wear masks and show proof of vaccination or a negative COVID test upon entry. Visit wolftrap.org/policies for more information.
URL:https://19thstreetband.com/event/a-bandhouse-gigs-tribute-to-linda-ronstadt-at-the-barns-at-wolf-trap-2/
LOCATION:The Barns at Wolf Trap\, 1635 Trap Rd\, Vienna\, VA\, 22182\, United States
CATEGORIES:Show
ATTACH;FMTTYPE=image/jpeg:https://19thstreetband.com/wp-content/uploads/2022/03/bandhouse-linda-ronstadt.jpg
END:VEVENT
BEGIN:VEVENT
DTSTART;TZID=America/New_York:20220422T200000
DTEND;TZID=America/New_York:20220422T220000
DTSTAMP:20260419T141110
CREATED:20220314T202404Z
LAST-MODIFIED:20220314T202404Z
UID:14572-1650657600-1650664800@19thstreetband.com
SUMMARY:A BandHouse Gigs Tribute to Linda Ronstadt at The Barns at Wolf Trap
DESCRIPTION:A BandHouse Gigs\nTribute to Linda Ronstadt\n\nCome celebrate Rock & Roll Hall of Famer Linda Ronstadt’s many contributions to popular music with a tribute concert featuring the DC-area’s premier vocalists and musicians performing classics like “You’re No Good\,” “When Will I Be Loved\,” and many more.\nA BandHouse Gigs Tribute to Linda Ronstadt performances originally scheduled at Wolf Trap on Friday\, January 21\, 2022 and Saturday\, January 22\, 2022 have been rescheduled to Friday\, April 22\, 2022 and Saturday\, April 23\, 2022. Tickets with the new date will be emailed to all current ticketholders no later than 3 weeks before the show.\n\n\n\n\nThe health and safety of our patrons\, artists\, and staff is our highest priority. Patrons attending performances at The Barns at Wolf Trap will be required to wear masks and show proof of vaccination or a negative COVID test upon entry. Visit wolftrap.org/policies for more information.
URL:https://19thstreetband.com/event/a-bandhouse-gigs-tribute-to-linda-ronstadt-at-the-barns-at-wolf-trap/
LOCATION:The Barns at Wolf Trap\, 1635 Trap Rd\, Vienna\, VA\, 22182\, United States
CATEGORIES:Show
ATTACH;FMTTYPE=image/jpeg:https://19thstreetband.com/wp-content/uploads/2022/03/bandhouse-linda-ronstadt.jpg
END:VEVENT
END:VCALENDAR