BEGIN:VCALENDAR
VERSION:2.0
PRODID:-//The 19th Street Band - ECPv6.15.20//NONSGML v1.0//EN
CALSCALE:GREGORIAN
METHOD:PUBLISH
X-ORIGINAL-URL:https://19thstreetband.com
X-WR-CALDESC:Events for The 19th Street Band
REFRESH-INTERVAL;VALUE=DURATION:PT1H
X-Robots-Tag:noindex
X-PUBLISHED-TTL:PT1H
BEGIN:VTIMEZONE
TZID:America/New_York
BEGIN:DAYLIGHT
TZOFFSETFROM:-0500
TZOFFSETTO:-0400
TZNAME:EDT
DTSTART:20220313T070000
END:DAYLIGHT
BEGIN:STANDARD
TZOFFSETFROM:-0400
TZOFFSETTO:-0500
TZNAME:EST
DTSTART:20221106T060000
END:STANDARD
BEGIN:DAYLIGHT
TZOFFSETFROM:-0500
TZOFFSETTO:-0400
TZNAME:EDT
DTSTART:20230312T070000
END:DAYLIGHT
BEGIN:STANDARD
TZOFFSETFROM:-0400
TZOFFSETTO:-0500
TZNAME:EST
DTSTART:20231105T060000
END:STANDARD
BEGIN:DAYLIGHT
TZOFFSETFROM:-0500
TZOFFSETTO:-0400
TZNAME:EDT
DTSTART:20240310T070000
END:DAYLIGHT
BEGIN:STANDARD
TZOFFSETFROM:-0400
TZOFFSETTO:-0500
TZNAME:EST
DTSTART:20241103T060000
END:STANDARD
END:VTIMEZONE
BEGIN:VEVENT
DTSTART;TZID=America/New_York:20230922T180000
DTEND;TZID=America/New_York:20230922T220000
DTSTAMP:20260424T131852
CREATED:20230814T204351Z
LAST-MODIFIED:20230814T204351Z
UID:15049-1695405600-1695420000@19thstreetband.com
SUMMARY:Charm City Craft
DESCRIPTION:Join us as we look to raise $100\,000 or more together as a community!\n\nCraft is the annual craft cocktail competition fundraising event benefiting the Crohn’s & Colitis Foundation’s DC/Maryland/Virginia Chapter. This fun filled evening will pay tribute to our brave community battling Crohn’s disease and ulcerative colitis. Join us in person as we honor dynamic community leaders Brian and Lisa Rogers\, Bernie Kropfelder and Squatty Potty!\n\nEnjoy vibrant cuisine by Eleven Courses\, oysters by Shell and Barrell\, and celebrity judges Kevin Atticks\, Joe Benny\, Megan Knight\, Erin Petrey and more. Entertainment provided by The 19th Street Band along with cocktails inspired by McCormick’s seasonings and featuring Maryland’s finest distilleries in a once-a-year cocktail competition you will not want to miss.\n\nCasual cocktail attire is recommended.\n\nVisit www.charmcitycraft.com for more information!
URL:https://19thstreetband.com/event/charm-city-craft/
LOCATION:Frederick Douglass-Isaac Myers Maritime Park and Museum\, 1417 Thames St\, Baltimore\, MD\, 21231\, United States
CATEGORIES:Show
ATTACH;FMTTYPE=image/png:https://19thstreetband.com/wp-content/uploads/2023/08/charm-city-craft-2023.png
END:VEVENT
END:VCALENDAR