BEGIN:VCALENDAR
VERSION:2.0
PRODID:-//The 19th Street Band - ECPv6.15.20//NONSGML v1.0//EN
CALSCALE:GREGORIAN
METHOD:PUBLISH
X-ORIGINAL-URL:https://19thstreetband.com
X-WR-CALDESC:Events for The 19th Street Band
REFRESH-INTERVAL;VALUE=DURATION:PT1H
X-Robots-Tag:noindex
X-PUBLISHED-TTL:PT1H
BEGIN:VTIMEZONE
TZID:America/New_York
BEGIN:DAYLIGHT
TZOFFSETFROM:-0500
TZOFFSETTO:-0400
TZNAME:EDT
DTSTART:20220313T070000
END:DAYLIGHT
BEGIN:STANDARD
TZOFFSETFROM:-0400
TZOFFSETTO:-0500
TZNAME:EST
DTSTART:20221106T060000
END:STANDARD
BEGIN:DAYLIGHT
TZOFFSETFROM:-0500
TZOFFSETTO:-0400
TZNAME:EDT
DTSTART:20230312T070000
END:DAYLIGHT
BEGIN:STANDARD
TZOFFSETFROM:-0400
TZOFFSETTO:-0500
TZNAME:EST
DTSTART:20231105T060000
END:STANDARD
BEGIN:DAYLIGHT
TZOFFSETFROM:-0500
TZOFFSETTO:-0400
TZNAME:EDT
DTSTART:20240310T070000
END:DAYLIGHT
BEGIN:STANDARD
TZOFFSETFROM:-0400
TZOFFSETTO:-0500
TZNAME:EST
DTSTART:20241103T060000
END:STANDARD
END:VTIMEZONE
BEGIN:VEVENT
DTSTART;TZID=America/New_York:20230909T200000
DTEND;TZID=America/New_York:20230909T223000
DTSTAMP:20260424T131852
CREATED:20230607T182706Z
LAST-MODIFIED:20230908T015505Z
UID:15020-1694289600-1694298600@19thstreetband.com
SUMMARY:The Collective Encore
DESCRIPTION:We are thrilled to announce our upcoming show at The Collective Encore in Columbia\, MD (previously The Soundry)! As y’all know\, this is a fabulous venue with great sound and upgraded lighting. Secure your tickets NOW for our show in September after we return from our Health & Happiness Tour overseas! This is a listening room with limited tickets\, so don’t wait! Tickets HERE!
URL:https://19thstreetband.com/event/the-collective-encore/
LOCATION:The Collective Encore\, 10222 Wincopin Circle\, Columbia\, MD\, 21044\, United States
CATEGORIES:Show
ATTACH;FMTTYPE=image/jpeg:https://19thstreetband.com/wp-content/uploads/2023/06/20191231-_2019-12-31-nyer-00021-21-scaled.jpg
END:VEVENT
END:VCALENDAR