BEGIN:VCALENDAR
VERSION:2.0
PRODID:-//The 19th Street Band - ECPv6.15.20//NONSGML v1.0//EN
CALSCALE:GREGORIAN
METHOD:PUBLISH
X-WR-CALNAME:The 19th Street Band
X-ORIGINAL-URL:https://19thstreetband.com
X-WR-CALDESC:Events for The 19th Street Band
REFRESH-INTERVAL;VALUE=DURATION:PT1H
X-Robots-Tag:noindex
X-PUBLISHED-TTL:PT1H
BEGIN:VTIMEZONE
TZID:America/New_York
BEGIN:DAYLIGHT
TZOFFSETFROM:-0500
TZOFFSETTO:-0400
TZNAME:EDT
DTSTART:20220313T070000
END:DAYLIGHT
BEGIN:STANDARD
TZOFFSETFROM:-0400
TZOFFSETTO:-0500
TZNAME:EST
DTSTART:20221106T060000
END:STANDARD
BEGIN:DAYLIGHT
TZOFFSETFROM:-0500
TZOFFSETTO:-0400
TZNAME:EDT
DTSTART:20230312T070000
END:DAYLIGHT
BEGIN:STANDARD
TZOFFSETFROM:-0400
TZOFFSETTO:-0500
TZNAME:EST
DTSTART:20231105T060000
END:STANDARD
BEGIN:DAYLIGHT
TZOFFSETFROM:-0500
TZOFFSETTO:-0400
TZNAME:EDT
DTSTART:20240310T070000
END:DAYLIGHT
BEGIN:STANDARD
TZOFFSETFROM:-0400
TZOFFSETTO:-0500
TZNAME:EST
DTSTART:20241103T060000
END:STANDARD
END:VTIMEZONE
BEGIN:VEVENT
DTSTART;TZID=America/New_York:20230908T170000
DTEND;TZID=America/New_York:20230908T190000
DTSTAMP:20260424T132932
CREATED:20230814T210317Z
LAST-MODIFIED:20230814T210317Z
UID:15057-1694192400-1694199600@19thstreetband.com
SUMMARY:Washington Nationals Budweiser Terrace Concert Series
DESCRIPTION:Every Friday Washington Nationals home game\, the best place to pregame is at the Budweiser Terrace inside the ballpark from 5 to 7pm. Join us there before the Nats vs. Dodgers home game for amazing live music by The 19th Street Band and enjoy ice cold beer!\n\nGame Tickets: https://www.mlb.com/nationals/tickets
URL:https://19thstreetband.com/event/washington-nationals-budweiser-terrace-concert-series-2/
LOCATION:Nationals Park\, 1500 S Capitol St SE\, Washington\, DC\, 20003\, United States
CATEGORIES:Show
ATTACH;FMTTYPE=image/jpeg:https://19thstreetband.com/wp-content/uploads/2023/08/budweiser-terrace-pic.jpg
END:VEVENT
END:VCALENDAR