BEGIN:VCALENDAR
VERSION:2.0
PRODID:-//The 19th Street Band - ECPv6.15.20//NONSGML v1.0//EN
CALSCALE:GREGORIAN
METHOD:PUBLISH
X-ORIGINAL-URL:https://19thstreetband.com
X-WR-CALDESC:Events for The 19th Street Band
REFRESH-INTERVAL;VALUE=DURATION:PT1H
X-Robots-Tag:noindex
X-PUBLISHED-TTL:PT1H
BEGIN:VTIMEZONE
TZID:America/New_York
BEGIN:DAYLIGHT
TZOFFSETFROM:-0500
TZOFFSETTO:-0400
TZNAME:EDT
DTSTART:20220313T070000
END:DAYLIGHT
BEGIN:STANDARD
TZOFFSETFROM:-0400
TZOFFSETTO:-0500
TZNAME:EST
DTSTART:20221106T060000
END:STANDARD
BEGIN:DAYLIGHT
TZOFFSETFROM:-0500
TZOFFSETTO:-0400
TZNAME:EDT
DTSTART:20230312T070000
END:DAYLIGHT
BEGIN:STANDARD
TZOFFSETFROM:-0400
TZOFFSETTO:-0500
TZNAME:EST
DTSTART:20231105T060000
END:STANDARD
BEGIN:DAYLIGHT
TZOFFSETFROM:-0500
TZOFFSETTO:-0400
TZNAME:EDT
DTSTART:20240310T070000
END:DAYLIGHT
BEGIN:STANDARD
TZOFFSETFROM:-0400
TZOFFSETTO:-0500
TZNAME:EST
DTSTART:20241103T060000
END:STANDARD
END:VTIMEZONE
BEGIN:VEVENT
DTSTART;TZID=America/New_York:20230611T140000
DTEND;TZID=America/New_York:20230611T180000
DTSTAMP:20260424T184101
CREATED:20230321T211948Z
LAST-MODIFIED:20230608T020554Z
UID:14956-1686492000-1686506400@19thstreetband.com
SUMMARY:Nick's Fish House
DESCRIPTION:Woohoo! Our first show of the season at Nick’s is this Sunday! Come get your fix of live music\, summer weather & delicious seafood on the deck. We hit the stage at 2pm.
URL:https://19thstreetband.com/event/nicks-fish-house-9/
LOCATION:Nick’s Fish House\, 2600 Insulator Dr\, Baltimore\, MD\, 21230\, United States
CATEGORIES:Show
ATTACH;FMTTYPE=image/jpeg:https://19thstreetband.com/wp-content/uploads/2022/04/nicks-bw.jpg
END:VEVENT
END:VCALENDAR