BEGIN:VCALENDAR
VERSION:2.0
PRODID:-//The 19th Street Band - ECPv6.15.20//NONSGML v1.0//EN
CALSCALE:GREGORIAN
METHOD:PUBLISH
X-ORIGINAL-URL:https://19thstreetband.com
X-WR-CALDESC:Events for The 19th Street Band
REFRESH-INTERVAL;VALUE=DURATION:PT1H
X-Robots-Tag:noindex
X-PUBLISHED-TTL:PT1H
BEGIN:VTIMEZONE
TZID:America/New_York
BEGIN:DAYLIGHT
TZOFFSETFROM:-0500
TZOFFSETTO:-0400
TZNAME:EDT
DTSTART:20220313T070000
END:DAYLIGHT
BEGIN:STANDARD
TZOFFSETFROM:-0400
TZOFFSETTO:-0500
TZNAME:EST
DTSTART:20221106T060000
END:STANDARD
BEGIN:DAYLIGHT
TZOFFSETFROM:-0500
TZOFFSETTO:-0400
TZNAME:EDT
DTSTART:20230312T070000
END:DAYLIGHT
BEGIN:STANDARD
TZOFFSETFROM:-0400
TZOFFSETTO:-0500
TZNAME:EST
DTSTART:20231105T060000
END:STANDARD
BEGIN:DAYLIGHT
TZOFFSETFROM:-0500
TZOFFSETTO:-0400
TZNAME:EDT
DTSTART:20240310T070000
END:DAYLIGHT
BEGIN:STANDARD
TZOFFSETFROM:-0400
TZOFFSETTO:-0500
TZNAME:EST
DTSTART:20241103T060000
END:STANDARD
END:VTIMEZONE
BEGIN:VEVENT
DTSTART;VALUE=DATE:20230527
DTEND;VALUE=DATE:20230529
DTSTAMP:20260424T194116
CREATED:20230321T205207Z
LAST-MODIFIED:20230602T184012Z
UID:14941-1685160000-1685246399@19thstreetband.com
SUMMARY:East Durham Irish Festival
DESCRIPTION:46th Annual East Durham Irish Festival in the Catskills\nCome and enjoy the biggest Irish American Event in the Catskill Mountains\, located in the valley of East Durham. For the last 46 years\, The Michael J Quill Irish Cultural & Sports Centre has celebrated the East Durham Irish Festival.  Kids 13 And Under Are Free! Bring the whole family! \nMORE INFO!
URL:https://19thstreetband.com/event/east-durham-irish-festival/
LOCATION:Irish Cultural Center\, 2267 NY-145\, East Durham\, NY\, 12423\, United States
CATEGORIES:Show
ATTACH;FMTTYPE=image/jpeg:https://19thstreetband.com/wp-content/uploads/2020/09/IMG_1285-scaled-e1601517918508.jpg
END:VEVENT
END:VCALENDAR