BEGIN:VCALENDAR
VERSION:2.0
PRODID:-//The 19th Street Band - ECPv6.15.20//NONSGML v1.0//EN
CALSCALE:GREGORIAN
METHOD:PUBLISH
X-ORIGINAL-URL:https://19thstreetband.com
X-WR-CALDESC:Events for The 19th Street Band
REFRESH-INTERVAL;VALUE=DURATION:PT1H
X-Robots-Tag:noindex
X-PUBLISHED-TTL:PT1H
BEGIN:VTIMEZONE
TZID:America/New_York
BEGIN:DAYLIGHT
TZOFFSETFROM:-0500
TZOFFSETTO:-0400
TZNAME:EDT
DTSTART:20220313T070000
END:DAYLIGHT
BEGIN:STANDARD
TZOFFSETFROM:-0400
TZOFFSETTO:-0500
TZNAME:EST
DTSTART:20221106T060000
END:STANDARD
BEGIN:DAYLIGHT
TZOFFSETFROM:-0500
TZOFFSETTO:-0400
TZNAME:EDT
DTSTART:20230312T070000
END:DAYLIGHT
BEGIN:STANDARD
TZOFFSETFROM:-0400
TZOFFSETTO:-0500
TZNAME:EST
DTSTART:20231105T060000
END:STANDARD
BEGIN:DAYLIGHT
TZOFFSETFROM:-0500
TZOFFSETTO:-0400
TZNAME:EDT
DTSTART:20240310T070000
END:DAYLIGHT
BEGIN:STANDARD
TZOFFSETFROM:-0400
TZOFFSETTO:-0500
TZNAME:EST
DTSTART:20241103T060000
END:STANDARD
END:VTIMEZONE
BEGIN:VEVENT
DTSTART;TZID=America/New_York:20230218T200000
DTEND;TZID=America/New_York:20230218T220000
DTSTAMP:20260425T001119
CREATED:20230109T051301Z
LAST-MODIFIED:20230120T044935Z
UID:14880-1676750400-1676757600@19thstreetband.com
SUMMARY:The Washington Rockville Elks
DESCRIPTION:Woohoo\, put on your dancing shoes!!!!! Mark your calendars now!!! This is the most fun you could possibly have anywhere on February 18th…… The 19th Street Band. Live and in person at Washington Rockville Elks Lodge #15. BE THERE!!!!\n$15 at the door\n  \n 
URL:https://19thstreetband.com/event/the-washington-rockville-elks/
LOCATION:The Washington Rockville Elks Lodge\, 5 Taft Ct\, Rockville\, MD\, 20850\, United States
CATEGORIES:Show
ATTACH;FMTTYPE=image/jpeg:https://19thstreetband.com/wp-content/uploads/2023/01/5D71B28E-40C0-40B5-936F-8D046057DA9C.jpeg
END:VEVENT
END:VCALENDAR