BEGIN:VCALENDAR
VERSION:2.0
PRODID:-//The 19th Street Band - ECPv6.15.20//NONSGML v1.0//EN
CALSCALE:GREGORIAN
METHOD:PUBLISH
X-ORIGINAL-URL:https://19thstreetband.com
X-WR-CALDESC:Events for The 19th Street Band
REFRESH-INTERVAL;VALUE=DURATION:PT1H
X-Robots-Tag:noindex
X-PUBLISHED-TTL:PT1H
BEGIN:VTIMEZONE
TZID:America/New_York
BEGIN:DAYLIGHT
TZOFFSETFROM:-0500
TZOFFSETTO:-0400
TZNAME:EDT
DTSTART:20220313T070000
END:DAYLIGHT
BEGIN:STANDARD
TZOFFSETFROM:-0400
TZOFFSETTO:-0500
TZNAME:EST
DTSTART:20221106T060000
END:STANDARD
BEGIN:DAYLIGHT
TZOFFSETFROM:-0500
TZOFFSETTO:-0400
TZNAME:EDT
DTSTART:20230312T070000
END:DAYLIGHT
BEGIN:STANDARD
TZOFFSETFROM:-0400
TZOFFSETTO:-0500
TZNAME:EST
DTSTART:20231105T060000
END:STANDARD
BEGIN:DAYLIGHT
TZOFFSETFROM:-0500
TZOFFSETTO:-0400
TZNAME:EDT
DTSTART:20240310T070000
END:DAYLIGHT
BEGIN:STANDARD
TZOFFSETFROM:-0400
TZOFFSETTO:-0500
TZNAME:EST
DTSTART:20241103T060000
END:STANDARD
END:VTIMEZONE
BEGIN:VEVENT
DTSTART;TZID=America/New_York:20231007T183000
DTEND;TZID=America/New_York:20231007T213000
DTSTAMP:20260424T102533
CREATED:20230906T182613Z
LAST-MODIFIED:20230906T182613Z
UID:15067-1696703400-1696714200@19thstreetband.com
SUMMARY:Flat Iron Crossroads
DESCRIPTION:We can’t wait to return to this awesome venue in Gloucester\, VA! Get your tickets now and join us! \nThe 19th Street Band\n10/07/2023 starting at 6:30 PM EST\, doors open at 5:30 PM \nTICKETS: https://checkout.square.site/buy/TRNO47ZKLDTVBIY7ORUWENKQ
URL:https://19thstreetband.com/event/flat-iron-crossroads-2/
LOCATION:Flat Iron Crossroads\, 7709 Flat Iron Road\, Gloucester\, VA\, 23061\, United States
CATEGORIES:Show
ATTACH;FMTTYPE=image/jpeg:https://19thstreetband.com/wp-content/uploads/2023/09/RES1274-scaled.jpg
END:VEVENT
BEGIN:VEVENT
DTSTART;TZID=America/New_York:20231020T170000
DTEND;TZID=America/New_York:20231020T203000
DTSTAMP:20260424T102533
CREATED:20230906T183430Z
LAST-MODIFIED:20231018T142940Z
UID:15070-1697821200-1697833800@19thstreetband.com
SUMMARY:Starr Hill Biergarten Tysons
DESCRIPTION:Come on up to the Rooftop Biergarten for music\, dancing & drinks in Tysons! **Start time changed to 5pm**
URL:https://19thstreetband.com/event/starr-hill-biergarten-tysons-4/
LOCATION:Starr Hill Biergarten Tysons\, 1805 Capital One Dr\, Suite 1100\, Tysons\, VA\, 22102\, United States
CATEGORIES:Show
ATTACH;FMTTYPE=image/jpeg:https://19thstreetband.com/wp-content/uploads/2022/03/Starr-hill-ml-2.jpg
END:VEVENT
BEGIN:VEVENT
DTSTART;TZID=America/New_York:20231027T170000
DTEND;TZID=America/New_York:20231027T210000
DTSTAMP:20260424T102533
CREATED:20230814T212223Z
LAST-MODIFIED:20230906T160022Z
UID:15060-1698426000-1698440400@19thstreetband.com
SUMMARY:Nick's Fish House
DESCRIPTION:Always a good time at Nick’s Fish House in Baltimore! See y’all out on the deck stage!
URL:https://19thstreetband.com/event/nicks-fish-house-10/
LOCATION:Nick’s Fish House\, 2600 Insulator Dr\, Baltimore\, MD\, 21230\, United States
CATEGORIES:Show
ATTACH;FMTTYPE=image/jpeg:https://19thstreetband.com/wp-content/uploads/2022/04/nicks-bw.jpg
END:VEVENT
BEGIN:VEVENT
DTSTART;TZID=America/New_York:20231028T141500
DTEND;TZID=America/New_York:20231028T150000
DTSTAMP:20260424T102533
CREATED:20230906T192719Z
LAST-MODIFIED:20230906T192719Z
UID:15076-1698502500-1698505200@19thstreetband.com
SUMMARY:Sea Witch Festival\, Rehoboth Beach
DESCRIPTION:Excited to be a part of this year’s lineup at the Sea Witch Festival! Catch our performance on the Rehoboth Beach Bandstand from 2:15-3pm. \nParade and fun events all day long… \nDon’t miss the most Spooktacular event in Delaware! Visit www.beach-fun.com for more info. \n  \n  \nPhoto by David R. Moss
URL:https://19thstreetband.com/event/sea-witch-festival-rehoboth-beach/
LOCATION:Rehoboth Beach Bandstand\, 1 Rehoboth Avenue\, Rehoboth Beach\, DE\, 19971\, United States
CATEGORIES:Show
ATTACH;FMTTYPE=image/jpeg:https://19thstreetband.com/wp-content/uploads/2023/09/ArlKiteFestival-kicks-David-R.-Moss-scaled.jpg
END:VEVENT
BEGIN:VEVENT
DTSTART;TZID=America/New_York:20231029T183000
DTEND;TZID=America/New_York:20231029T200000
DTSTAMP:20260424T102533
CREATED:20230906T194149Z
LAST-MODIFIED:20230906T194222Z
UID:15079-1698604200-1698609600@19thstreetband.com
SUMMARY:Bethany Beach Bandstand
DESCRIPTION:We’re honored to be closing out the season for this year’s Bethany Beach Seaside Concert Series! Join us for a great performance this Fall on the beach.
URL:https://19thstreetband.com/event/bethany-beach-bandstand-3/
LOCATION:Bethany Beach Bandstand\, Boardwalk\, Bethany Beach\, DE\, 19930\, United States
CATEGORIES:Show
ATTACH;FMTTYPE=image/jpeg:https://19thstreetband.com/wp-content/uploads/2023/09/bethany-bandstand-2022-1.jpg
END:VEVENT
END:VCALENDAR