BEGIN:VCALENDAR
VERSION:2.0
PRODID:-//The 19th Street Band - ECPv6.15.20//NONSGML v1.0//EN
CALSCALE:GREGORIAN
METHOD:PUBLISH
X-ORIGINAL-URL:https://19thstreetband.com
X-WR-CALDESC:Events for The 19th Street Band
REFRESH-INTERVAL;VALUE=DURATION:PT1H
X-Robots-Tag:noindex
X-PUBLISHED-TTL:PT1H
BEGIN:VTIMEZONE
TZID:Europe/London
BEGIN:DAYLIGHT
TZOFFSETFROM:+0000
TZOFFSETTO:+0100
TZNAME:BST
DTSTART:20220327T010000
END:DAYLIGHT
BEGIN:STANDARD
TZOFFSETFROM:+0100
TZOFFSETTO:+0000
TZNAME:GMT
DTSTART:20221030T010000
END:STANDARD
BEGIN:DAYLIGHT
TZOFFSETFROM:+0000
TZOFFSETTO:+0100
TZNAME:BST
DTSTART:20230326T010000
END:DAYLIGHT
BEGIN:STANDARD
TZOFFSETFROM:+0100
TZOFFSETTO:+0000
TZNAME:GMT
DTSTART:20231029T010000
END:STANDARD
BEGIN:DAYLIGHT
TZOFFSETFROM:+0000
TZOFFSETTO:+0100
TZNAME:BST
DTSTART:20240331T010000
END:DAYLIGHT
BEGIN:STANDARD
TZOFFSETFROM:+0100
TZOFFSETTO:+0000
TZNAME:GMT
DTSTART:20241027T010000
END:STANDARD
END:VTIMEZONE
BEGIN:VTIMEZONE
TZID:America/New_York
BEGIN:DAYLIGHT
TZOFFSETFROM:-0500
TZOFFSETTO:-0400
TZNAME:EDT
DTSTART:20220313T070000
END:DAYLIGHT
BEGIN:STANDARD
TZOFFSETFROM:-0400
TZOFFSETTO:-0500
TZNAME:EST
DTSTART:20221106T060000
END:STANDARD
BEGIN:DAYLIGHT
TZOFFSETFROM:-0500
TZOFFSETTO:-0400
TZNAME:EDT
DTSTART:20230312T070000
END:DAYLIGHT
BEGIN:STANDARD
TZOFFSETFROM:-0400
TZOFFSETTO:-0500
TZNAME:EST
DTSTART:20231105T060000
END:STANDARD
BEGIN:DAYLIGHT
TZOFFSETFROM:-0500
TZOFFSETTO:-0400
TZNAME:EDT
DTSTART:20240310T070000
END:DAYLIGHT
BEGIN:STANDARD
TZOFFSETFROM:-0400
TZOFFSETTO:-0500
TZNAME:EST
DTSTART:20241103T060000
END:STANDARD
END:VTIMEZONE
BEGIN:VEVENT
DTSTART;TZID=Europe/London:20230802T200000
DTEND;TZID=Europe/London:20230802T230000
DTSTAMP:20260424T131714
CREATED:20230607T174550Z
LAST-MODIFIED:20230607T174550Z
UID:15004-1691006400-1691017200@19thstreetband.com
SUMMARY:Festival Village\, Edinburgh
DESCRIPTION:The Health & Happiness Tour continues on over to Scotland!! Our first show in the country will be at Festival Village Waverly on the rooftop of Waverly Mall in Edinburgh. Great sights and live music! See you there!
URL:https://19thstreetband.com/event/festival-village-edinburgh/
LOCATION:Festival Village\, Waverley Mall Rooftop\, Edinburgh\, Scotland\, EH1 1BQ\, United Kingdom
CATEGORIES:Show
ATTACH;FMTTYPE=image/jpeg:https://19thstreetband.com/wp-content/uploads/2023/06/20190209-2019-02-09-19th-010291-scaled.jpg
END:VEVENT
BEGIN:VEVENT
DTSTART;TZID=Europe/London:20230803T220000
DTEND;TZID=Europe/London:20230804T000000
DTSTAMP:20260424T131714
CREATED:20230607T175045Z
LAST-MODIFIED:20230607T175045Z
UID:15008-1691100000-1691107200@19thstreetband.com
SUMMARY:Malones\, Glasgow
DESCRIPTION:Next stop is Glasgow\, Scotland with a late night show at Malones Irish Bar! \n  \n  \n  \nPhoto by Mike Landsman
URL:https://19thstreetband.com/event/malones-glasgow/
LOCATION:Malones\, 57-59 Sauchiehall Lane\, Glasgow\, Scotland\, G2 4AB\, United Kingdom
CATEGORIES:Show
ATTACH;FMTTYPE=image/jpeg:https://19thstreetband.com/wp-content/uploads/2023/06/20190818-_2019-08-KUP-2019-032651-scaled.jpg
END:VEVENT
BEGIN:VEVENT
DTSTART;TZID=Europe/London:20230805T193000
DTEND;TZID=Europe/London:20230805T230000
DTSTAMP:20260424T131714
CREATED:20230607T175816Z
LAST-MODIFIED:20230607T175816Z
UID:15012-1691263800-1691276400@19thstreetband.com
SUMMARY:The Belfast Empire Music Hall
DESCRIPTION:Caolaidhe is coming home and The 19th Street Band is so excited to be back in Belfast at The Empire Music Hall!!! This year\, we’ll be joined by opener\, Villiers & The Villains. This is sure to be a great night in a great venue – don’t miss it! \nDoors 7:30pm. Show time 8pm. Tickets available NOW online!
URL:https://19thstreetband.com/event/the-belfast-empire-music-hall/
LOCATION:The Belfast Empire Music Hall\, 42 Botanic Avenue\, Belfast\, Northern Ireland\, BT7 1JQ\, United Kingdom
CATEGORIES:Show
ATTACH;FMTTYPE=image/jpeg:https://19thstreetband.com/wp-content/uploads/2023/06/Empire-Rose.jpg
END:VEVENT
BEGIN:VEVENT
DTSTART;TZID=Europe/London:20230806T150000
DTEND;TZID=Europe/London:20230806T170000
DTSTAMP:20260424T131714
CREATED:20230607T180248Z
LAST-MODIFIED:20230607T180248Z
UID:15015-1691334000-1691341200@19thstreetband.com
SUMMARY:Open House Festival\, Ward Park\, Bangor
DESCRIPTION:The Health & Happiness Tour concludes with a final show in Bangor\, Northern Ireland. We’re thrilled to be a part of the Open House Festival once again and will be performing in Ward Park as part of the Picnic In The Park lineup! Pack a picnic & join us!!
URL:https://19thstreetband.com/event/open-house-festival-ward-park-bangor/
LOCATION:Ward Park\, Hamilton Road\, Bangor\, Northern Ireland\, BT20 4LG\, United Kingdom
CATEGORIES:Show
ATTACH;FMTTYPE=image/jpeg:https://19thstreetband.com/wp-content/uploads/2023/06/ward-park-2018.jpg
END:VEVENT
BEGIN:VEVENT
DTSTART;TZID=America/New_York:20230826T220000
DTEND;TZID=America/New_York:20230827T000000
DTSTAMP:20260424T131714
CREATED:20230814T201259Z
LAST-MODIFIED:20230814T201831Z
UID:15037-1693087200-1693094400@19thstreetband.com
SUMMARY:Mango's Bethany Beach
DESCRIPTION:We’re back Stateside and back at the beach! Join us for a rockin’ Saturday night at Mango’s in Bethany.
URL:https://19thstreetband.com/event/mangos-bethany-beach-20/
LOCATION:Mango’s Bethany Beach\, 97 Garfield Pkwy\, Bethany Beach\, DE\, 19930\, United States
CATEGORIES:Show
ATTACH;FMTTYPE=image/jpeg:https://19thstreetband.com/wp-content/uploads/2023/06/20190209-2019-02-09-19th-010291-scaled.jpg
END:VEVENT
BEGIN:VEVENT
DTSTART;TZID=America/New_York:20230827T143000
DTEND;TZID=America/New_York:20230827T180000
DTSTAMP:20260424T131714
CREATED:20230814T201549Z
LAST-MODIFIED:20230814T201800Z
UID:15039-1693146600-1693159200@19thstreetband.com
SUMMARY:The Starboard Dewey Beach
DESCRIPTION:Our last Sunday Funday Starboard show of the summer!!! Can’t believe it. Help us go out with a bang (or a crush ) in Dewey on the deck stage!
URL:https://19thstreetband.com/event/the-starboard-dewey-beach-7/
LOCATION:The Starboard\, 2009 Coastal Hwy\, Dewey Beach\, DE\, 19971\, United States
CATEGORIES:Show
ATTACH;FMTTYPE=image/jpeg:https://19thstreetband.com/wp-content/uploads/2022/04/19th-St-Band-square-event-scaled-1.jpg
END:VEVENT
END:VCALENDAR