BEGIN:VCALENDAR
VERSION:2.0
PRODID:-//The 19th Street Band - ECPv6.15.20//NONSGML v1.0//EN
CALSCALE:GREGORIAN
METHOD:PUBLISH
X-WR-CALNAME:The 19th Street Band
X-ORIGINAL-URL:https://19thstreetband.com
X-WR-CALDESC:Events for The 19th Street Band
REFRESH-INTERVAL;VALUE=DURATION:PT1H
X-Robots-Tag:noindex
X-PUBLISHED-TTL:PT1H
BEGIN:VTIMEZONE
TZID:America/New_York
BEGIN:DAYLIGHT
TZOFFSETFROM:-0500
TZOFFSETTO:-0400
TZNAME:EDT
DTSTART:20220313T070000
END:DAYLIGHT
BEGIN:STANDARD
TZOFFSETFROM:-0400
TZOFFSETTO:-0500
TZNAME:EST
DTSTART:20221106T060000
END:STANDARD
BEGIN:DAYLIGHT
TZOFFSETFROM:-0500
TZOFFSETTO:-0400
TZNAME:EDT
DTSTART:20230312T070000
END:DAYLIGHT
BEGIN:STANDARD
TZOFFSETFROM:-0400
TZOFFSETTO:-0500
TZNAME:EST
DTSTART:20231105T060000
END:STANDARD
BEGIN:DAYLIGHT
TZOFFSETFROM:-0500
TZOFFSETTO:-0400
TZNAME:EDT
DTSTART:20240310T070000
END:DAYLIGHT
BEGIN:STANDARD
TZOFFSETFROM:-0400
TZOFFSETTO:-0500
TZNAME:EST
DTSTART:20241103T060000
END:STANDARD
END:VTIMEZONE
BEGIN:VTIMEZONE
TZID:Europe/London
BEGIN:DAYLIGHT
TZOFFSETFROM:+0000
TZOFFSETTO:+0100
TZNAME:BST
DTSTART:20220327T010000
END:DAYLIGHT
BEGIN:STANDARD
TZOFFSETFROM:+0100
TZOFFSETTO:+0000
TZNAME:GMT
DTSTART:20221030T010000
END:STANDARD
BEGIN:DAYLIGHT
TZOFFSETFROM:+0000
TZOFFSETTO:+0100
TZNAME:BST
DTSTART:20230326T010000
END:DAYLIGHT
BEGIN:STANDARD
TZOFFSETFROM:+0100
TZOFFSETTO:+0000
TZNAME:GMT
DTSTART:20231029T010000
END:STANDARD
BEGIN:DAYLIGHT
TZOFFSETFROM:+0000
TZOFFSETTO:+0100
TZNAME:BST
DTSTART:20240331T010000
END:DAYLIGHT
BEGIN:STANDARD
TZOFFSETFROM:+0100
TZOFFSETTO:+0000
TZNAME:GMT
DTSTART:20241027T010000
END:STANDARD
END:VTIMEZONE
BEGIN:VEVENT
DTSTART;TZID=America/New_York:20230701T220000
DTEND;TZID=America/New_York:20230702T000000
DTSTAMP:20260424T144245
CREATED:20230607T154947Z
LAST-MODIFIED:20230607T154947Z
UID:14979-1688248800-1688256000@19thstreetband.com
SUMMARY:Mango's Bethany Beach
DESCRIPTION:Celebrate the holiday weekend with us at Mango’s from 10pm-midnight!
URL:https://19thstreetband.com/event/mangos-bethany-beach-18/
LOCATION:Mango’s Bethany Beach\, 97 Garfield Pkwy\, Bethany Beach\, DE\, 19930\, United States
CATEGORIES:Show
ATTACH;FMTTYPE=image/jpeg:https://19thstreetband.com/wp-content/uploads/2020/06/mangos-gcfl.jpg
END:VEVENT
BEGIN:VEVENT
DTSTART;TZID=America/New_York:20230703T143000
DTEND;TZID=America/New_York:20230703T180000
DTSTAMP:20260424T144245
CREATED:20230607T155214Z
LAST-MODIFIED:20230607T155214Z
UID:14981-1688394600-1688407200@19thstreetband.com
SUMMARY:The Starboard Dewey Beach
DESCRIPTION:A very special Monday afternoon show in honor of the holiday weekend! Join us on the deck stage from 2:30-6pm!!
URL:https://19thstreetband.com/event/the-starboard-dewey-beach-6/
LOCATION:The Starboard\, 2009 Coastal Hwy\, Dewey Beach\, DE\, 19971\, United States
CATEGORIES:Show
ATTACH;FMTTYPE=image/jpeg:https://19thstreetband.com/wp-content/uploads/2022/04/19th-St-Band-square-event-scaled-1.jpg
END:VEVENT
BEGIN:VEVENT
DTSTART;TZID=America/New_York:20230704T213000
DTEND;TZID=America/New_York:20230704T233000
DTSTAMP:20260424T144245
CREATED:20230607T155613Z
LAST-MODIFIED:20230630T221538Z
UID:14983-1688506200-1688513400@19thstreetband.com
SUMMARY:Mango's Bethany Beach
DESCRIPTION:Time for our annual tradition at Mango’s!!! Live music on the 4th of July! Woohoo!
URL:https://19thstreetband.com/event/mangos-bethany-beach-19/
LOCATION:Mango’s Bethany Beach\, 97 Garfield Pkwy\, Bethany Beach\, DE\, 19930\, United States
CATEGORIES:Show
ATTACH;FMTTYPE=image/jpeg:https://19thstreetband.com/wp-content/uploads/2018/02/ml-pic-5.jpg
END:VEVENT
BEGIN:VEVENT
DTSTART;TZID=America/New_York:20230707T190000
DTEND;TZID=America/New_York:20230707T210000
DTSTAMP:20260424T144245
CREATED:20230607T160006Z
LAST-MODIFIED:20230607T160006Z
UID:14985-1688756400-1688763600@19thstreetband.com
SUMMARY:Yards Park
DESCRIPTION:The free Capitol Riverfront Friday Night Concert Series is back on the Yards Park boardwalk! Every Friday night this summer\, come to Yards Park to relax and enjoy the river view\, fantastic bands\, food and beverage\, and a large variety of great restaurants within a few minutes walk from the park. Family-friendly lyrics and grassy open space make this an enjoyable event for adults and kids alike. \nCatch The 19th Street Band on July 7th at 7pm!
URL:https://19thstreetband.com/event/yards-park-4/
LOCATION:Yards Park\, 355 Water St SE\, Washington\, DC\, 20003\, United States
CATEGORIES:Show
ATTACH;FMTTYPE=image/jpeg:https://19thstreetband.com/wp-content/uploads/2018/09/IMG_0008.jpg
END:VEVENT
BEGIN:VEVENT
DTSTART;TZID=America/New_York:20230708T143000
DTEND;TZID=America/New_York:20230708T180000
DTSTAMP:20260424T144245
CREATED:20230607T160231Z
LAST-MODIFIED:20230607T160231Z
UID:14987-1688826600-1688839200@19thstreetband.com
SUMMARY:The Starboard
DESCRIPTION:SATURDAY Deck Party 2:30pm at The Starboard! Last beach show before we head overseas for our tour – don’t miss it!
URL:https://19thstreetband.com/event/the-starboard-12/
LOCATION:The Starboard\, 2009 Coastal Hwy\, Dewey Beach\, DE\, 19971\, United States
CATEGORIES:Show
ATTACH;FMTTYPE=image/jpeg:https://19thstreetband.com/wp-content/uploads/2021/07/starboard5.jpg
END:VEVENT
BEGIN:VEVENT
DTSTART;TZID=America/New_York:20230714T183000
DTEND;TZID=America/New_York:20230714T203000
DTSTAMP:20260424T144245
CREATED:20230607T170246Z
LAST-MODIFIED:20230711T173050Z
UID:14994-1689359400-1689366600@19thstreetband.com
SUMMARY:City Ridge Concert Series
DESCRIPTION:Jam out on Friday nights with DC Fray and City Ridge at this free summer concert series. Check out the sounds of the local culture and community\, Fridays from June 2 through August 25. The 19th Street Band performs July 14th!! Last DC show before they head overseas on tour! \nhttps://districtfray.com/articles/city-ridge-district-fray-community-events/
URL:https://19thstreetband.com/event/city-ridge-concert-series/
LOCATION:City Ridge\, 20 Ridge Square NW\, Washington\, DC\, 20016\, United States
CATEGORIES:Show
ATTACH;FMTTYPE=image/jpeg:https://19thstreetband.com/wp-content/uploads/2023/06/ml-silo.jpeg
END:VEVENT
BEGIN:VEVENT
DTSTART;TZID=Europe/London:20230728T193000
DTEND;TZID=Europe/London:20230728T220000
DTSTAMP:20260424T144245
CREATED:20230607T171532Z
LAST-MODIFIED:20230607T171532Z
UID:14998-1690572600-1690581600@19thstreetband.com
SUMMARY:Monroe's Galway
DESCRIPTION:We’re kicking off our Health & Happiness Tour with a bangin’ show at Monroe’s in Galway\, Ireland!
URL:https://19thstreetband.com/event/monroes-galway/
LOCATION:Monroe’s\, 14 Dominick Street Upper\, Galway\, Ireland
CATEGORIES:Show
ATTACH;FMTTYPE=image/jpeg:https://19thstreetband.com/wp-content/uploads/2023/01/RES0998-scaled.jpg
END:VEVENT
BEGIN:VEVENT
DTSTART;TZID=Europe/London:20230729T190000
DTEND;TZID=Europe/London:20230729T210000
DTSTAMP:20260424T144245
CREATED:20230607T172617Z
LAST-MODIFIED:20230607T172617Z
UID:15001-1690657200-1690664400@19thstreetband.com
SUMMARY:Taylor's Bar & Beer Garden\, Galway
DESCRIPTION:Night 2 in Galway – join us at Taylor’s!!
URL:https://19thstreetband.com/event/taylors-bar-beer-garden-galway/
LOCATION:Taylor’s Bar & Beer Garden\, 7 Dominick Street Upper\, Galway\, Ireland
CATEGORIES:Show
ATTACH;FMTTYPE=image/jpeg:https://19thstreetband.com/wp-content/uploads/2019/06/uluru-.jpg
END:VEVENT
END:VCALENDAR