BEGIN:VCALENDAR
VERSION:2.0
PRODID:-//The 19th Street Band - ECPv6.15.20//NONSGML v1.0//EN
CALSCALE:GREGORIAN
METHOD:PUBLISH
X-WR-CALNAME:The 19th Street Band
X-ORIGINAL-URL:https://19thstreetband.com
X-WR-CALDESC:Events for The 19th Street Band
REFRESH-INTERVAL;VALUE=DURATION:PT1H
X-Robots-Tag:noindex
X-PUBLISHED-TTL:PT1H
BEGIN:VTIMEZONE
TZID:America/New_York
BEGIN:DAYLIGHT
TZOFFSETFROM:-0500
TZOFFSETTO:-0400
TZNAME:EDT
DTSTART:20220313T070000
END:DAYLIGHT
BEGIN:STANDARD
TZOFFSETFROM:-0400
TZOFFSETTO:-0500
TZNAME:EST
DTSTART:20221106T060000
END:STANDARD
BEGIN:DAYLIGHT
TZOFFSETFROM:-0500
TZOFFSETTO:-0400
TZNAME:EDT
DTSTART:20230312T070000
END:DAYLIGHT
BEGIN:STANDARD
TZOFFSETFROM:-0400
TZOFFSETTO:-0500
TZNAME:EST
DTSTART:20231105T060000
END:STANDARD
BEGIN:DAYLIGHT
TZOFFSETFROM:-0500
TZOFFSETTO:-0400
TZNAME:EDT
DTSTART:20240310T070000
END:DAYLIGHT
BEGIN:STANDARD
TZOFFSETFROM:-0400
TZOFFSETTO:-0500
TZNAME:EST
DTSTART:20241103T060000
END:STANDARD
END:VTIMEZONE
BEGIN:VEVENT
DTSTART;TZID=America/New_York:20230602T193000
DTEND;TZID=America/New_York:20230602T210000
DTSTAMP:20260424T161917
CREATED:20230321T210323Z
LAST-MODIFIED:20230602T183959Z
UID:14947-1685734200-1685739600@19thstreetband.com
SUMMARY:Fairfax Summer Concert Series
DESCRIPTION:Grist Mill Park in Alexandria\, VA \nFREE\, held outdoors\, bring lawn chairs! \nCall 703-324-7469 for directions / rain cancellation notification \nfairfaxcounty.gov/parks/performances
URL:https://19thstreetband.com/event/fairfax-summer-concert-series/
LOCATION:Grist Mill Park\, 4710 Mt. Vernon Memorial Hwy\, Alexandria\, VA\, 22309\, United States
CATEGORIES:Show
ATTACH;FMTTYPE=image/jpeg:https://19thstreetband.com/wp-content/uploads/2022/03/CCBF-.jpg
END:VEVENT
BEGIN:VEVENT
DTSTART;TZID=America/New_York:20230603T220000
DTEND;TZID=America/New_York:20230604T000000
DTSTAMP:20260424T161917
CREATED:20230515T211009Z
LAST-MODIFIED:20230602T183952Z
UID:14974-1685829600-1685836800@19thstreetband.com
SUMMARY:Mango's Bethany Beach
DESCRIPTION:
URL:https://19thstreetband.com/event/mangos-bethany-beach-17/
LOCATION:Mango’s Bethany Beach\, 97 Garfield Pkwy\, Bethany Beach\, DE\, 19930\, United States
CATEGORIES:Show
ATTACH;FMTTYPE=image/jpeg:https://19thstreetband.com/wp-content/uploads/2020/06/mangos-gcfl.jpg
END:VEVENT
BEGIN:VEVENT
DTSTART;TZID=America/New_York:20230604T143000
DTEND;TZID=America/New_York:20230604T180000
DTSTAMP:20260424T161917
CREATED:20230321T210436Z
LAST-MODIFIED:20230321T210436Z
UID:14949-1685889000-1685901600@19thstreetband.com
SUMMARY:The Starboard
DESCRIPTION:2:30-6pm \nSunday Funday Deck Party!
URL:https://19thstreetband.com/event/the-starboard-11/
LOCATION:The Starboard\, 2009 Coastal Hwy\, Dewey Beach\, DE\, 19971\, United States
CATEGORIES:Show
ATTACH;FMTTYPE=image/jpeg:https://19thstreetband.com/wp-content/uploads/2022/04/19th-St-Band-square-event-scaled-1.jpg
END:VEVENT
BEGIN:VEVENT
DTSTART;TZID=America/New_York:20230609T180000
DTEND;TZID=America/New_York:20230609T220000
DTSTAMP:20260424T161917
CREATED:20230321T211232Z
LAST-MODIFIED:20230321T211232Z
UID:14951-1686333600-1686348000@19thstreetband.com
SUMMARY:Red\, White & Brews in Poolesville
DESCRIPTION:Red\, White & Brews – 6:00 – 10:00 pm\nJune 9th – Marks the kickoff of Poolesville’s Friday on the Commons 2023 season!  We will have breweries serving up local beers\, assorted wines and BBQ. We will have plenty of kids activities and it will be a Rockin Good Time with The 19th Street Band on the bandshell from 8 – 10 pm.
URL:https://19thstreetband.com/event/red-white-brews-in-poolesville/
LOCATION:Whalen Commons\, 19701 Fisher Ave\, Poolesville\, MD\, 20837\, United States
CATEGORIES:Show
ATTACH;FMTTYPE=image/jpeg:https://19thstreetband.com/wp-content/uploads/2023/03/red-white-and-brews-kick.jpg
END:VEVENT
BEGIN:VEVENT
DTSTART;TZID=America/New_York:20230610T200000
DTEND;TZID=America/New_York:20230610T213000
DTSTAMP:20260424T161917
CREATED:20230321T211845Z
LAST-MODIFIED:20230608T020517Z
UID:14954-1686427200-1686432600@19thstreetband.com
SUMMARY:Lubber Run Amphitheater
DESCRIPTION:We’re kicking off opening weekend at Lubber Run! You gotta check out this cool hideaway venue in the woods – gonna be a great show on Saturday night. Thank you to Arlington Arts for having us back.
URL:https://19thstreetband.com/event/lubber-run-amphitheater-2/
LOCATION:Lubber Run Amphitheater\, N Columbus St & 2nd St N\, Arlington\, VA\, 22203\, United States
CATEGORIES:Show
ATTACH;FMTTYPE=image/jpeg:https://19thstreetband.com/wp-content/uploads/2022/04/19th-A-scaled.jpg
END:VEVENT
BEGIN:VEVENT
DTSTART;TZID=America/New_York:20230611T140000
DTEND;TZID=America/New_York:20230611T180000
DTSTAMP:20260424T161917
CREATED:20230321T211948Z
LAST-MODIFIED:20230608T020554Z
UID:14956-1686492000-1686506400@19thstreetband.com
SUMMARY:Nick's Fish House
DESCRIPTION:Woohoo! Our first show of the season at Nick’s is this Sunday! Come get your fix of live music\, summer weather & delicious seafood on the deck. We hit the stage at 2pm.
URL:https://19thstreetband.com/event/nicks-fish-house-9/
LOCATION:Nick’s Fish House\, 2600 Insulator Dr\, Baltimore\, MD\, 21230\, United States
CATEGORIES:Show
ATTACH;FMTTYPE=image/jpeg:https://19thstreetband.com/wp-content/uploads/2022/04/nicks-bw.jpg
END:VEVENT
BEGIN:VEVENT
DTSTART;TZID=America/New_York:20230615T190000
DTEND;TZID=America/New_York:20230615T210000
DTSTAMP:20260424T161917
CREATED:20230321T212152Z
LAST-MODIFIED:20230602T183933Z
UID:14958-1686855600-1686862800@19thstreetband.com
SUMMARY:Lewes Canalfront Park
DESCRIPTION:
URL:https://19thstreetband.com/event/lewes-canalfront-park-2/
LOCATION:Canalfront Park\, 211 Front Street\, Lewes\, DE\, 19958\, United States
CATEGORIES:Show
ATTACH;FMTTYPE=image/jpeg:https://19thstreetband.com/wp-content/uploads/2022/04/ml-outdoors-2.jpg
END:VEVENT
BEGIN:VEVENT
DTSTART;TZID=America/New_York:20230616T180000
DTEND;TZID=America/New_York:20230616T200000
DTSTAMP:20260424T161917
CREATED:20230321T213427Z
LAST-MODIFIED:20230602T183926Z
UID:14961-1686938400-1686945600@19thstreetband.com
SUMMARY:Bethesda Summer Concert Series at The Streetery
DESCRIPTION:
URL:https://19thstreetband.com/event/bethesda-streetery-summer-concert-series/
LOCATION:Bethesda Streetery\, Corner of Norfolk and Del Ray Avenues\, Bethesda\, MD\, 20814\, United States
CATEGORIES:Show
ATTACH;FMTTYPE=image/jpeg:https://19thstreetband.com/wp-content/uploads/2022/04/ml-streetery.jpg
END:VEVENT
BEGIN:VEVENT
DTSTART;TZID=America/New_York:20230617T220000
DTEND;TZID=America/New_York:20230618T000000
DTSTAMP:20260424T161917
CREATED:20230321T213601Z
LAST-MODIFIED:20230321T213601Z
UID:14963-1687039200-1687046400@19thstreetband.com
SUMMARY:Mango's Bethany Beach
DESCRIPTION:
URL:https://19thstreetband.com/event/mangos-bethany-beach-16/
LOCATION:Mango’s Bethany Beach\, 97 Garfield Pkwy\, Bethany Beach\, DE\, 19930\, United States
CATEGORIES:Show
ATTACH;FMTTYPE=image/jpeg:https://19thstreetband.com/wp-content/uploads/2020/06/mangos-gcfl.jpg
END:VEVENT
BEGIN:VEVENT
DTSTART;TZID=America/New_York:20230621T190000
DTEND;TZID=America/New_York:20230621T210000
DTSTAMP:20260424T161917
CREATED:20230607T160939Z
LAST-MODIFIED:20230621T203133Z
UID:14989-1687374000-1687381200@19thstreetband.com
SUMMARY:CANCELED DUE TO WEATHER: The Wharf DC "Rock the Dock" Summer Concert Series
DESCRIPTION:Rock the Dock Free Summer Concerts\n\nAll summer long\, come to The Wharf on Wednesdays at 7:00pm for free concerts on Transit Pier presented by Pacifico. The 19th Street Band performs on June 21st! \nEvent Details\n\nConcerts begin at 7:00pm.\nConcerts take place at Transit Pier at The Wharf (970 Wharf Street SW\, Washington\, DC 20024). Learn more about different ways to Get to The Wharf.\nLimited bench seating and tables and chairs are available on a first-come first-served basis.\nThis event is family-friendly—all ages are welcome. Dogs on a leash are welcome. You must be 21+ to consume alcohol.\nWaterside bar Cantina Bambina serves up cold Pacifico and mixed drinks throughout the concerts. Outside drinks are not allowed.\nYou may bring in food from any Wharf restaurant. Whether you’re craving a Cuban sandwich\, a hot and sweet pizza\, or chips and guac\, our Wharf restaurants have something for everyone.\nIn the event of inclement weather\, event status updates will be posted on the Rock The Dock event page on The Wharf Facebook page.
URL:https://19thstreetband.com/event/the-wharf-dc-rock-the-dock-summer-concert-series/
LOCATION:The Wharf\, 760 Maine Ave SW\, Washington\, DC\, 20024\, United States
CATEGORIES:Show
ATTACH;FMTTYPE=image/jpeg:https://19thstreetband.com/wp-content/uploads/2019/07/wharf-erik-lindquist.jpg
END:VEVENT
BEGIN:VEVENT
DTSTART;TZID=America/New_York:20230622T190000
DTEND;TZID=America/New_York:20230622T203000
DTSTAMP:20260424T161917
CREATED:20230607T162527Z
LAST-MODIFIED:20230621T203433Z
UID:14991-1687460400-1687465800@19thstreetband.com
SUMMARY:Toni Saylor Summer Concert Series\, Martinsburg\, WV
DESCRIPTION:The 2023 Toni Saylor Summer Concert Series at War Memorial Park welcomes The 19th Street Band (American Gypsy Rock) to the stage! The concert is FREE for all to attend! Feel free to bring a chair or we have bleacher seating and plan to enjoy an evening of great music in our beautiful park! \nThe 19th Street Band is very excited to be invited to this year’s concert series lineup! Tell your WV friends or drive out to the wild & wonderful Martinsburg for a fantastic evening show on June 22nd! \nThis event can be moved inside\, so it is rain or shine!!!
URL:https://19thstreetband.com/event/toni-saylor-summer-concert-series-martinsburg-wv/
LOCATION:War Memorial Park\, 500 North Tennessee Avenue\, Martinsburg\, WV\, 25401\, United States
CATEGORIES:Show
ATTACH;FMTTYPE=image/jpeg:https://19thstreetband.com/wp-content/uploads/2021/03/street-photo-bw-ml-album-scaled.jpg
END:VEVENT
BEGIN:VEVENT
DTSTART;TZID=America/New_York:20230623T190000
DTEND;TZID=America/New_York:20230623T220000
DTSTAMP:20260424T161917
CREATED:20230321T213704Z
LAST-MODIFIED:20230621T203331Z
UID:14965-1687546800-1687557600@19thstreetband.com
SUMMARY:Starr Hill Biergarten
DESCRIPTION:We love playing this rooftop Biergarten in Tysons!!! Come early to enjoy SmallTown Strings from 5-7pm. We’ll hit the stage after to close the night and y’all can dance your Friday away!
URL:https://19thstreetband.com/event/starr-hill-biergarten-3/
LOCATION:Starr Hill Biergarten Tysons\, 1805 Capital One Dr\, Suite 1100\, Tysons\, VA\, 22102\, United States
CATEGORIES:Show
ATTACH;FMTTYPE=image/jpeg:https://19thstreetband.com/wp-content/uploads/2022/03/Starr-hill-ml.jpg
END:VEVENT
END:VCALENDAR