BEGIN:VCALENDAR
VERSION:2.0
PRODID:-//The 19th Street Band - ECPv6.15.20//NONSGML v1.0//EN
CALSCALE:GREGORIAN
METHOD:PUBLISH
X-ORIGINAL-URL:https://19thstreetband.com
X-WR-CALDESC:Events for The 19th Street Band
REFRESH-INTERVAL;VALUE=DURATION:PT1H
X-Robots-Tag:noindex
X-PUBLISHED-TTL:PT1H
BEGIN:VTIMEZONE
TZID:America/New_York
BEGIN:DAYLIGHT
TZOFFSETFROM:-0500
TZOFFSETTO:-0400
TZNAME:EDT
DTSTART:20220313T070000
END:DAYLIGHT
BEGIN:STANDARD
TZOFFSETFROM:-0400
TZOFFSETTO:-0500
TZNAME:EST
DTSTART:20221106T060000
END:STANDARD
BEGIN:DAYLIGHT
TZOFFSETFROM:-0500
TZOFFSETTO:-0400
TZNAME:EDT
DTSTART:20230312T070000
END:DAYLIGHT
BEGIN:STANDARD
TZOFFSETFROM:-0400
TZOFFSETTO:-0500
TZNAME:EST
DTSTART:20231105T060000
END:STANDARD
BEGIN:DAYLIGHT
TZOFFSETFROM:-0500
TZOFFSETTO:-0400
TZNAME:EDT
DTSTART:20240310T070000
END:DAYLIGHT
BEGIN:STANDARD
TZOFFSETFROM:-0400
TZOFFSETTO:-0500
TZNAME:EST
DTSTART:20241103T060000
END:STANDARD
END:VTIMEZONE
BEGIN:VEVENT
DTSTART;TZID=America/New_York:20230510T200000
DTEND;TZID=America/New_York:20230510T230000
DTSTAMP:20260424T181623
CREATED:20230308T030340Z
LAST-MODIFIED:20230321T202152Z
UID:14914-1683748800-1683759600@19thstreetband.com
SUMMARY:Pearl Street Warehouse with The Sweet Lillies
DESCRIPTION:The Sweet Lillies & The 19th Street Band\nJoin us for a great co-bill show with this fantastic band from Colorado!! \n\nWed May 10 2023\n8:00 PM (Doors 7:00 PM)\n\n\nPearl Street Warehouse\n33 Pearl Street SW \n\nWashington\, DC 20024\n\n$15.00\nAges 21+\nTICKETS HERE!
URL:https://19thstreetband.com/event/pearl-street-warehouse-with-the-sweet-lillies/
LOCATION:Pearl Street Warehouse\, 33 Pearl St SW\, Washington\, DC\, 20024\, United States
CATEGORIES:Show
ATTACH;FMTTYPE=image/png:https://19thstreetband.com/wp-content/uploads/2023/03/SWEET-LILIES19TH-ST-BAND.png
END:VEVENT
BEGIN:VEVENT
DTSTART;TZID=America/New_York:20230511T173000
DTEND;TZID=America/New_York:20230511T190000
DTSTAMP:20260424T181623
CREATED:20230321T203719Z
LAST-MODIFIED:20230321T203719Z
UID:14937-1683826200-1683831600@19thstreetband.com
SUMMARY:Music by the Metro Concert Series
DESCRIPTION:Presented by Clarendon Alliance \nClarendon Metro/Central Park
URL:https://19thstreetband.com/event/music-by-the-metro-concert-series/
LOCATION:Clarendon Central Park\, 3140 Wilson Blvd\, Arlington\, VA\, 22201\, United States
CATEGORIES:Show
ATTACH;FMTTYPE=image/jpeg:https://19thstreetband.com/wp-content/uploads/2022/04/silo-falls.jpg
END:VEVENT
BEGIN:VEVENT
DTSTART;TZID=America/New_York:20230518T190000
DTEND;TZID=America/New_York:20230518T214500
DTSTAMP:20260424T181623
CREATED:20230321T204050Z
LAST-MODIFIED:20230515T210702Z
UID:14939-1684436400-1684446300@19thstreetband.com
SUMMARY:Columbia Lakefront Live Concert Series
DESCRIPTION:Downtown Columbia Lakefront Live \nPresented by Columbia Festival of the Arts & Columbia Association \nThe first Lakefront Live headline event features two incredible artists\, Roberta Lea\, and The 19th Street Band! Join us down at the lakefront to kick off the beginning of Lakefront Live and to celebrate summer. \nThis is a FREE event at the Downtown Columbia Lakefront and open to the public. \nA specially curated food and beverage menu will be available during the event\, courtesy of Offshore. \nBeverages for sale: \n\nBeer – $8\nWine – $10\nCanned Cocktails $12\n\nFood for sale: \n\nBuffalo Chicken Sliders – $10\nCheeseburger Sliders – $10\nMac and Cheese – $8  (add crab meat for an additional $5)\n\nLakefront Live concerts are the ultimate soundtrack for your summer! Our free weekly concert series features some of the best local and national musicians\, playing everything from blues and jazz to rock and pop. Plus\, we’ve got 6 incredible headline acts planned throughout the summer. \nThis series of talented\, diverse artists is perfect for music lovers of all ages. Bring a blanket\, pack a picnic\, and kick back with family and friends as you soak up the sun and sounds of the season. Plus\, indulge in delicious food and beverages at headline events provided by our partner The Collective.
URL:https://19thstreetband.com/event/columbia-lakefront-live-concert-series/
LOCATION:Columbia Lakefront Live\, 10275 Wincopin Cir\, Columbia\, MD\, 21044\, United States
CATEGORIES:Show
ATTACH;FMTTYPE=image/png:https://19thstreetband.com/wp-content/uploads/2023/03/lakefront-live.png
END:VEVENT
BEGIN:VEVENT
DTSTART;TZID=America/New_York:20230520T143000
DTEND;TZID=America/New_York:20230520T180000
DTSTAMP:20260424T181623
CREATED:20230308T033355Z
LAST-MODIFIED:20230308T033355Z
UID:14928-1684593000-1684605600@19thstreetband.com
SUMMARY:The Starboard
DESCRIPTION:
URL:https://19thstreetband.com/event/the-starboard-10/
LOCATION:The Starboard\, 2009 Coastal Hwy\, Dewey Beach\, DE\, 19971\, United States
CATEGORIES:Show
ATTACH;FMTTYPE=image/jpeg:https://19thstreetband.com/wp-content/uploads/2022/04/19th-St-Band-square-event-scaled-1.jpg
END:VEVENT
BEGIN:VEVENT
DTSTART;VALUE=DATE:20230527
DTEND;VALUE=DATE:20230529
DTSTAMP:20260424T181623
CREATED:20230321T205207Z
LAST-MODIFIED:20230602T184012Z
UID:14941-1685160000-1685246399@19thstreetband.com
SUMMARY:East Durham Irish Festival
DESCRIPTION:46th Annual East Durham Irish Festival in the Catskills\nCome and enjoy the biggest Irish American Event in the Catskill Mountains\, located in the valley of East Durham. For the last 46 years\, The Michael J Quill Irish Cultural & Sports Centre has celebrated the East Durham Irish Festival.  Kids 13 And Under Are Free! Bring the whole family! \nMORE INFO!
URL:https://19thstreetband.com/event/east-durham-irish-festival/
LOCATION:Irish Cultural Center\, 2267 NY-145\, East Durham\, NY\, 12423\, United States
CATEGORIES:Show
ATTACH;FMTTYPE=image/jpeg:https://19thstreetband.com/wp-content/uploads/2020/09/IMG_1285-scaled-e1601517918508.jpg
END:VEVENT
BEGIN:VEVENT
DTSTART;TZID=America/New_York:20230528T123000
DTEND;TZID=America/New_York:20230528T200000
DTSTAMP:20260424T181623
CREATED:20230321T205752Z
LAST-MODIFIED:20230602T184006Z
UID:14944-1685277000-1685304000@19thstreetband.com
SUMMARY:NOVA Music Fest
DESCRIPTION:TICKETS HERE! \nBe a part of something BIG. \nCancer Can Rock is growing\, and 868 is proudly doing our part to help make it happen! Our Third Annual NoVA MusicFest at 868 is seven hours of incredible music from local\, regional\, and international musicians who are committed to raising money for Cancer Can Rock. \nJoin us for music\, food\, 868 Estate wine\, Lost Rhino beer\, craft vendors and more\, all while helping raise money for Cancer Can Rock’s mission. \nCancer Can Rock uses the money raised to invite musicians facing aggressive cancer into a studio with professionals to produce a song and video which serves as tangible reminders of their recording experience. These songs have been a point of pride for those who have survived and solace for those who have survived them. You can find out more about Cancer Can Rock and see the results of this amazing process at https://www.youtube.com/c/CancerCanRock/videos \nThis fundraiser is a ticketed event and is open to all. Pre-sale tickets\, $25. Day of the event tickets\, $30. \nTickets are non-refundable. In the event you cannot join us on the day of the concert\, please consider your ticket price to be a donation to Cancer Can Rock. \nChildren 12 and under are free. This event is dog-friendly\, family friendly. Pop up tents are welcome. Bringing in alcohol is strictly prohibited. Scheduled to appear: \n12:30 PM – 1:00 PM: The Greek and the Freak\n1:05 PM – 1:35 PM: Gary Smallwood\n1:40 PM – 2:20 PM: Caleb Hacker\n2:15 PM – 2:45 PM: Adriel Genet\n2:55 PM – 3:25 PM: Juliet Lloyd Duo\n3:40 PM – 4:40 PM: The 19th Street Band\n4:55 PM – 5:25 PM: Tommy and Kim\n5:30 PM – 6:00 PM: Jason Masi and Tommy Gann\n6:15 PM – 7:00 PM: Todd Brooks and Pour Decisions\n7:15 PM – 8:00 PM: Delta Spur
URL:https://19thstreetband.com/event/nova-music-fest/
LOCATION:868 Estate Vineyards\, 14001 Harpers Ferry Rd\, Hillsboro\, VA\, 20132\, United States
CATEGORIES:Show
ATTACH;FMTTYPE=image/jpeg:https://19thstreetband.com/wp-content/uploads/2023/03/nova-music-fest-2023.jpg
END:VEVENT
END:VCALENDAR