BEGIN:VCALENDAR
VERSION:2.0
PRODID:-//The 19th Street Band - ECPv6.15.20//NONSGML v1.0//EN
CALSCALE:GREGORIAN
METHOD:PUBLISH
X-ORIGINAL-URL:https://19thstreetband.com
X-WR-CALDESC:Events for The 19th Street Band
REFRESH-INTERVAL;VALUE=DURATION:PT1H
X-Robots-Tag:noindex
X-PUBLISHED-TTL:PT1H
BEGIN:VTIMEZONE
TZID:America/New_York
BEGIN:DAYLIGHT
TZOFFSETFROM:-0500
TZOFFSETTO:-0400
TZNAME:EDT
DTSTART:20220313T070000
END:DAYLIGHT
BEGIN:STANDARD
TZOFFSETFROM:-0400
TZOFFSETTO:-0500
TZNAME:EST
DTSTART:20221106T060000
END:STANDARD
BEGIN:DAYLIGHT
TZOFFSETFROM:-0500
TZOFFSETTO:-0400
TZNAME:EDT
DTSTART:20230312T070000
END:DAYLIGHT
BEGIN:STANDARD
TZOFFSETFROM:-0400
TZOFFSETTO:-0500
TZNAME:EST
DTSTART:20231105T060000
END:STANDARD
BEGIN:DAYLIGHT
TZOFFSETFROM:-0500
TZOFFSETTO:-0400
TZNAME:EDT
DTSTART:20240310T070000
END:DAYLIGHT
BEGIN:STANDARD
TZOFFSETFROM:-0400
TZOFFSETTO:-0500
TZNAME:EST
DTSTART:20241103T060000
END:STANDARD
END:VTIMEZONE
BEGIN:VEVENT
DTSTART;TZID=America/New_York:20230303T170000
DTEND;TZID=America/New_York:20230303T210000
DTSTAMP:20260424T212114
CREATED:20230204T004939Z
LAST-MODIFIED:20230204T004939Z
UID:14893-1677862800-1677877200@19thstreetband.com
SUMMARY:Guinness Open Gate Brewery
DESCRIPTION:We’re back for another music-filled month of MARCH at Guinness Open Gate Brewery in Baltimore! Join us every weekend in March plus Paddy’s Day for a party on the big stage under the tent at Guinness from 5-9pm!
URL:https://19thstreetband.com/event/guinness-open-gate-brewery-6/
LOCATION:Guinness Open Gate Brewery\, 5001 Washington Blvd\, Halethorpe\, MD\, 21227\, United States
CATEGORIES:Show
ATTACH;FMTTYPE=image/jpeg:https://19thstreetband.com/wp-content/uploads/2023/02/IMG_8765.jpg
END:VEVENT
BEGIN:VEVENT
DTSTART;TZID=America/New_York:20230310T173000
DTEND;TZID=America/New_York:20230310T213000
DTSTAMP:20260424T212114
CREATED:20221207T184317Z
LAST-MODIFIED:20230308T033827Z
UID:14842-1678469400-1678483800@19thstreetband.com
SUMMARY:Fager's Island
DESCRIPTION:
URL:https://19thstreetband.com/event/fagers-island-2/
LOCATION:Fager’s Island\, 201 60th St\, Ocean City\, MD\, 21842\, United States
CATEGORIES:Show
ATTACH;FMTTYPE=image/jpeg:https://19thstreetband.com/wp-content/uploads/2022/12/oc-fagers-paddys-day-2023.jpg
END:VEVENT
BEGIN:VEVENT
DTSTART;TZID=America/New_York:20230311T170000
DTEND;TZID=America/New_York:20230311T210000
DTSTAMP:20260424T212114
CREATED:20230204T005257Z
LAST-MODIFIED:20230204T005257Z
UID:14896-1678554000-1678568400@19thstreetband.com
SUMMARY:Guinness Open Gate Brewery
DESCRIPTION:We’re back for another music-filled month of MARCH at Guinness Open Gate Brewery in Baltimore! Join us every weekend in March plus Paddy’s Day for a party on the big stage under the tent at Guinness from 5-9pm!
URL:https://19thstreetband.com/event/guinness-open-gate-brewery-7/
LOCATION:Guinness Open Gate Brewery\, 5001 Washington Blvd\, Halethorpe\, MD\, 21227\, United States
CATEGORIES:Show
ATTACH;FMTTYPE=image/jpeg:https://19thstreetband.com/wp-content/uploads/2023/02/guinness-sv-images-2022.jpg
END:VEVENT
BEGIN:VEVENT
DTSTART;TZID=America/New_York:20230317T170000
DTEND;TZID=America/New_York:20230317T210000
DTSTAMP:20260424T212114
CREATED:20230204T005419Z
LAST-MODIFIED:20230204T005419Z
UID:14899-1679072400-1679086800@19thstreetband.com
SUMMARY:Guinness Open Gate Brewery
DESCRIPTION:We’re back for another music-filled month of MARCH at Guinness Open Gate Brewery in Baltimore! Join us every weekend in March plus Paddy’s Day for a party on the big stage under the tent at Guinness from 5-9pm!
URL:https://19thstreetband.com/event/guinness-open-gate-brewery-8/
LOCATION:Guinness Open Gate Brewery\, 5001 Washington Blvd\, Halethorpe\, MD\, 21227\, United States
CATEGORIES:Show
ATTACH;FMTTYPE=image/jpeg:https://19thstreetband.com/wp-content/uploads/2023/02/IMG_8880.jpg
END:VEVENT
BEGIN:VEVENT
DTSTART;TZID=America/New_York:20230318T123000
DTEND;TZID=America/New_York:20230318T134500
DTSTAMP:20260424T212114
CREATED:20230308T031950Z
LAST-MODIFIED:20230308T031950Z
UID:14917-1679142600-1679147100@19thstreetband.com
SUMMARY:Ireland at The Wharf
DESCRIPTION:The Wharf and Kirwan’s Irish Pub are bringing the luck of the Irish to the waterfront with our free Ireland at The Wharf festival! Enjoy all the fun of a true Irish festival with Guinness beer\, Irish coffee from Praline Bakery\, whiskey\, bands and bagpipers. All ages welcome\, must be 21+ to consume alcohol. Slainte!\n\nEVENT SCHEDULE:\n12:00pm — Guinness Beer Garden opens on District Pier and DCFD Emerald Society Pipe and Drum Band begin to march! Learn how to play Celtic Football with DC Gaels.\n12:30pm — The 19th Street Band performs on the District Pier Stage.\n1:00pm — Watch the Six Nations Rugby Championship on our big screen with Ireland vs. England.\n2:00pm — Enjoy an authentic Irish dance performance by the McGrath Morgan Academy of Irish Dance.\n2:15pm — Poehemia performs on the District Pier Stage.\n3:45pm — Boyle School of Irish Dance takes the stage to perform an authentic Irish dance.\n4:00pm — The McGrath Morgan Academy of Irish Dance performs an Irish dance on the Transit Pier Floating Stage.\n4:15pm — Ben-David Warner & Friends performs on the District Pier Stage. The bar will still be open!
URL:https://19thstreetband.com/event/ireland-at-the-wharf-2/
LOCATION:The Wharf\, 760 Maine Ave SW\, Washington\, DC\, 20024\, United States
CATEGORIES:Show
ATTACH;FMTTYPE=image/jpeg:https://19thstreetband.com/wp-content/uploads/2023/03/IMG_8918.jpg
END:VEVENT
BEGIN:VEVENT
DTSTART;TZID=America/New_York:20230318T170000
DTEND;TZID=America/New_York:20230318T210000
DTSTAMP:20260424T212114
CREATED:20230204T015731Z
LAST-MODIFIED:20230204T015731Z
UID:14902-1679158800-1679173200@19thstreetband.com
SUMMARY:Guinness Open Gate Brewery
DESCRIPTION:We’re back for another music-filled month of MARCH at Guinness Open Gate Brewery in Baltimore! Join us every weekend in March plus Paddy’s Day for a party on the big stage under the tent at Guinness from 5-9pm!
URL:https://19thstreetband.com/event/guinness-open-gate-brewery-9/
LOCATION:Guinness Open Gate Brewery\, 5001 Washington Blvd\, Halethorpe\, MD\, 21227\, United States
CATEGORIES:Show
ATTACH;FMTTYPE=image/jpeg:https://19thstreetband.com/wp-content/uploads/2023/02/guinness-stage-pic.jpg
END:VEVENT
BEGIN:VEVENT
DTSTART;TZID=America/New_York:20230325T170000
DTEND;TZID=America/New_York:20230325T210000
DTSTAMP:20260424T212114
CREATED:20230204T015852Z
LAST-MODIFIED:20230204T015852Z
UID:14906-1679763600-1679778000@19thstreetband.com
SUMMARY:Guinness Open Gate Brewery
DESCRIPTION:We’re back for another music-filled month of MARCH at Guinness Open Gate Brewery in Baltimore! Join us every weekend in March plus Paddy’s Day for a party on the big stage under the tent at Guinness from 5-9pm!
URL:https://19thstreetband.com/event/guinness-open-gate-brewery-10/
LOCATION:Guinness Open Gate Brewery\, 5001 Washington Blvd\, Halethorpe\, MD\, 21227\, United States
CATEGORIES:Show
ATTACH;FMTTYPE=image/jpeg:https://19thstreetband.com/wp-content/uploads/2023/02/guinness-selfie.jpg
END:VEVENT
END:VCALENDAR