BEGIN:VCALENDAR
VERSION:2.0
PRODID:-//The 19th Street Band - ECPv6.15.20//NONSGML v1.0//EN
CALSCALE:GREGORIAN
METHOD:PUBLISH
X-WR-CALNAME:The 19th Street Band
X-ORIGINAL-URL:https://19thstreetband.com
X-WR-CALDESC:Events for The 19th Street Band
REFRESH-INTERVAL;VALUE=DURATION:PT1H
X-Robots-Tag:noindex
X-PUBLISHED-TTL:PT1H
BEGIN:VTIMEZONE
TZID:America/New_York
BEGIN:DAYLIGHT
TZOFFSETFROM:-0500
TZOFFSETTO:-0400
TZNAME:EDT
DTSTART:20240310T070000
END:DAYLIGHT
BEGIN:STANDARD
TZOFFSETFROM:-0400
TZOFFSETTO:-0500
TZNAME:EST
DTSTART:20241103T060000
END:STANDARD
BEGIN:DAYLIGHT
TZOFFSETFROM:-0500
TZOFFSETTO:-0400
TZNAME:EDT
DTSTART:20250309T070000
END:DAYLIGHT
BEGIN:STANDARD
TZOFFSETFROM:-0400
TZOFFSETTO:-0500
TZNAME:EST
DTSTART:20251102T060000
END:STANDARD
BEGIN:DAYLIGHT
TZOFFSETFROM:-0500
TZOFFSETTO:-0400
TZNAME:EDT
DTSTART:20260308T070000
END:DAYLIGHT
BEGIN:STANDARD
TZOFFSETFROM:-0400
TZOFFSETTO:-0500
TZNAME:EST
DTSTART:20261101T060000
END:STANDARD
END:VTIMEZONE
BEGIN:VEVENT
DTSTART;TZID=America/New_York:20250404T173000
DTEND;TZID=America/New_York:20250404T184000
DTSTAMP:20260421T052346
CREATED:20250403T150411Z
LAST-MODIFIED:20250403T150411Z
UID:15511-1743787800-1743792000@19thstreetband.com
SUMMARY:Nats Park Budweiser Terrace Concert Series
DESCRIPTION:Washington Nationals Budweiser Terrace Concert Series\n\n\n\n\nEvery Friday Washington Nationals home game\, the best place to pregame is at the Budweiser Terrace inside the ballpark! Join us on Friday\, April 4th before the Nats vs. Diamondbacks home game for live music by The 19th Street Band and ice cold beer! We’ll be rocking right when the gates open at 5:30pm!! \nGame Tickets: https://www.mlb.com/nationals/tickets \n\n\n\n\nThe Budweiser Terrace is located behind the NatsHD videoboard in Section 242!
URL:https://19thstreetband.com/event/nats-park-budweiser-terrace-concert-series/
LOCATION:Nationals Park\, 1500 S Capitol St SE\, Washington\, DC\, 20003\, United States
ATTACH;FMTTYPE=image/heic:https://19thstreetband.com/wp-content/uploads/2025/04/Nats-1-scaled.jpg
END:VEVENT
END:VCALENDAR