BEGIN:VCALENDAR
VERSION:2.0
PRODID:-//The 19th Street Band - ECPv6.15.20//NONSGML v1.0//EN
CALSCALE:GREGORIAN
METHOD:PUBLISH
X-ORIGINAL-URL:https://19thstreetband.com
X-WR-CALDESC:Events for The 19th Street Band
REFRESH-INTERVAL;VALUE=DURATION:PT1H
X-Robots-Tag:noindex
X-PUBLISHED-TTL:PT1H
BEGIN:VTIMEZONE
TZID:America/New_York
BEGIN:DAYLIGHT
TZOFFSETFROM:-0500
TZOFFSETTO:-0400
TZNAME:EDT
DTSTART:20240310T070000
END:DAYLIGHT
BEGIN:STANDARD
TZOFFSETFROM:-0400
TZOFFSETTO:-0500
TZNAME:EST
DTSTART:20241103T060000
END:STANDARD
BEGIN:DAYLIGHT
TZOFFSETFROM:-0500
TZOFFSETTO:-0400
TZNAME:EDT
DTSTART:20250309T070000
END:DAYLIGHT
BEGIN:STANDARD
TZOFFSETFROM:-0400
TZOFFSETTO:-0500
TZNAME:EST
DTSTART:20251102T060000
END:STANDARD
BEGIN:DAYLIGHT
TZOFFSETFROM:-0500
TZOFFSETTO:-0400
TZNAME:EDT
DTSTART:20260308T070000
END:DAYLIGHT
BEGIN:STANDARD
TZOFFSETFROM:-0400
TZOFFSETTO:-0500
TZNAME:EST
DTSTART:20261101T060000
END:STANDARD
END:VTIMEZONE
BEGIN:VEVENT
DTSTART;TZID=America/New_York:20250314T190000
DTEND;TZID=America/New_York:20250314T220000
DTSTAMP:20260421T052410
CREATED:20250206T165418Z
LAST-MODIFIED:20250305T180316Z
UID:15457-1741978800-1741989600@19thstreetband.com
SUMMARY:Ashore Resort & Beach Club\, Ocean City
DESCRIPTION:Kick off Ocean City’s Paddy’s Weekend with a FREE party at Ashore on Friday\, March 14 from 7-10pm!\n\nAbout the Event:Join us as we kick off St. Patrick’s Weekend with a festive celebration on our oceanfront Shore Deck!\nEnjoy a night filled with great live music\, an Irish-inspired menu\, and Jameson and Guinness specials all night.\n Live Music: The 19th Street Band\n Drink Specials: Jameson and Guinness specials all night in both Shore Deck and The Tap Room.\n Special ‘Get Lucky’ Paddy’s Day MenuIndulge in delicious Irish-inspired dishes curated by Executive Chef Nate Leonard.\n\nGet Lucky Menu:$12 Harp Beer Cheese SoupA blend of aged cheese and malty beer served with a warm pretzel stick.$17 Irish NachosThick-cut potato wedges\, corned beef\, pico de gallo\, mashed avocado\, cheese sauce\, pickled jalapenos\, and sour cream.$18 Jumbo Wings (1 pound)Choose from: Dewar’s Whisky Teriyaki\, Stout BBQ\, Old Bay\, Sweet Heat\, or OC Hot.$18 Banger’s & MashwichIrish sausage with sweet onion gravy\, mashed potato\, gravy dripping sauce\, and fries.$20 Corned Beef Sandwich½ pound of sliced corned beef with roasted apple\, caramelized onion\, Coleman’s mustard\, rye bread\, and fries.$28 Beef StewClassic braised beef shoulder with vegetables\, colcannon\, and rich brown gravy.$24 Corned Beef and Cabbage½ pound of sliced corned beef with braised cabbage\, butter ball potatoes\, and whole grain mustard broth.$26 All Day HashMinced lamb\, colcannon\, cabbage\, rich gravy\, beer cheese\, grilled banger\, and a fried egg.$28 Fish & ChipsBeer-battered cod\, crispy fries\, and creamy coleslaw.$14 Guinness FloatVanilla ice cream\, Guinness Stout\, Baileys whipped cream\, caramel\, and chocolate sauce.\n\n**Admission and entertainment are FREE with Food and Beverages available for purchase. Come celebrate with us and enjoy the best of St. Patrick’s Day weekend! Reserve your spot for FREE via the Eventbrite link.
URL:https://19thstreetband.com/event/ashore-resort-beach-club-ocean-city/
LOCATION:Ashore Resort & Beach Club\, 10100 Coastal Highway\, Ocean City\, MD\, 21842\, United States
ATTACH;FMTTYPE=image/jpeg:https://19thstreetband.com/wp-content/uploads/2023/09/robert-mcdonald-empire-photo-1.jpg
END:VEVENT
END:VCALENDAR