BEGIN:VCALENDAR
VERSION:2.0
PRODID:-//The 19th Street Band - ECPv6.15.20//NONSGML v1.0//EN
CALSCALE:GREGORIAN
METHOD:PUBLISH
X-ORIGINAL-URL:https://19thstreetband.com
X-WR-CALDESC:Events for The 19th Street Band
REFRESH-INTERVAL;VALUE=DURATION:PT1H
X-Robots-Tag:noindex
X-PUBLISHED-TTL:PT1H
BEGIN:VTIMEZONE
TZID:America/New_York
BEGIN:DAYLIGHT
TZOFFSETFROM:-0500
TZOFFSETTO:-0400
TZNAME:EDT
DTSTART:20230312T070000
END:DAYLIGHT
BEGIN:STANDARD
TZOFFSETFROM:-0400
TZOFFSETTO:-0500
TZNAME:EST
DTSTART:20231105T060000
END:STANDARD
BEGIN:DAYLIGHT
TZOFFSETFROM:-0500
TZOFFSETTO:-0400
TZNAME:EDT
DTSTART:20240310T070000
END:DAYLIGHT
BEGIN:STANDARD
TZOFFSETFROM:-0400
TZOFFSETTO:-0500
TZNAME:EST
DTSTART:20241103T060000
END:STANDARD
BEGIN:DAYLIGHT
TZOFFSETFROM:-0500
TZOFFSETTO:-0400
TZNAME:EDT
DTSTART:20250309T070000
END:DAYLIGHT
BEGIN:STANDARD
TZOFFSETFROM:-0400
TZOFFSETTO:-0500
TZNAME:EST
DTSTART:20251102T060000
END:STANDARD
BEGIN:DAYLIGHT
TZOFFSETFROM:-0500
TZOFFSETTO:-0400
TZNAME:EDT
DTSTART:20260308T070000
END:DAYLIGHT
BEGIN:STANDARD
TZOFFSETFROM:-0400
TZOFFSETTO:-0500
TZNAME:EST
DTSTART:20261101T060000
END:STANDARD
END:VTIMEZONE
BEGIN:VEVENT
DTSTART;TZID=America/New_York:20241231T183000
DTEND;TZID=America/New_York:20250101T010000
DTSTAMP:20260421T075232
CREATED:20241125T154024Z
LAST-MODIFIED:20241227T234151Z
UID:15430-1735669800-1735693200@19thstreetband.com
SUMMARY:NYE at Mango's Bethany Beach!
DESCRIPTION:2025 New Year’s Eve @ Mango’s \n\n\nTickets include:\n\n\n\n\nAppetizers\nOpen Bar\nChampagne Toast\nParty Favors\nDoors open at 6:30\nCoat Check available\n\n\n\n\nLive Music with The 19th Street Band at 9PM\nTicket pricing starting at $75\nSpecial VIP tickets that include reserved tables for groups are available. Fill out the contact form on Mango’s website to inquire about VIP tickets.\nTickets are $75 until Black Friday then prices increase to $100. \n\n\nCheck it OUT! TICKETS available HERE!!! \n\n\n\n\nTimeline for the Night \n6:30 PM Doors Open \n\n\n\n\n7:00 PM – 9:00 PM Appetizers & House Party Music \n\n\n\n\n9:00 PM – 11:30 PM The 19th Street Band \n\n\n\n\n11:30 PM – 12:00 AM House Party Music and Ball Drop Coverage \n\n\n\n\n12:00 AM Champagne Toast \n\n\n\n\n1:00 AM Closing Time
URL:https://19thstreetband.com/event/nye-at-mangos-bethany-beach/
LOCATION:Mango’s Bethany Beach\, 97 Garfield Pkwy\, Bethany Beach\, DE\, 19930\, United States
ATTACH;FMTTYPE=image/jpeg:https://19thstreetband.com/wp-content/uploads/2024/11/mangos-gcfl.jpg
END:VEVENT
END:VCALENDAR