BEGIN:VCALENDAR
VERSION:2.0
PRODID:-//The 19th Street Band - ECPv6.15.20//NONSGML v1.0//EN
CALSCALE:GREGORIAN
METHOD:PUBLISH
X-WR-CALNAME:The 19th Street Band
X-ORIGINAL-URL:https://19thstreetband.com
X-WR-CALDESC:Events for The 19th Street Band
REFRESH-INTERVAL;VALUE=DURATION:PT1H
X-Robots-Tag:noindex
X-PUBLISHED-TTL:PT1H
BEGIN:VTIMEZONE
TZID:America/New_York
BEGIN:DAYLIGHT
TZOFFSETFROM:-0500
TZOFFSETTO:-0400
TZNAME:EDT
DTSTART:20230312T070000
END:DAYLIGHT
BEGIN:STANDARD
TZOFFSETFROM:-0400
TZOFFSETTO:-0500
TZNAME:EST
DTSTART:20231105T060000
END:STANDARD
BEGIN:DAYLIGHT
TZOFFSETFROM:-0500
TZOFFSETTO:-0400
TZNAME:EDT
DTSTART:20240310T070000
END:DAYLIGHT
BEGIN:STANDARD
TZOFFSETFROM:-0400
TZOFFSETTO:-0500
TZNAME:EST
DTSTART:20241103T060000
END:STANDARD
BEGIN:DAYLIGHT
TZOFFSETFROM:-0500
TZOFFSETTO:-0400
TZNAME:EDT
DTSTART:20250309T070000
END:DAYLIGHT
BEGIN:STANDARD
TZOFFSETFROM:-0400
TZOFFSETTO:-0500
TZNAME:EST
DTSTART:20251102T060000
END:STANDARD
END:VTIMEZONE
BEGIN:VEVENT
DTSTART;TZID=America/New_York:20241031T180000
DTEND;TZID=America/New_York:20241031T210000
DTSTAMP:20260421T112116
CREATED:20240927T214625Z
LAST-MODIFIED:20241010T010705Z
UID:15394-1730397600-1730408400@19thstreetband.com
SUMMARY:Palm Beach Bar & Grill
DESCRIPTION:Rehoboth has a brand new restaurant and it’s called Palm Beach Bar & Grill!! The Grand Opening begins October 19th and we will be joining them for a special Halloween show. We’re honored to be one of the first bands to grace the stage and we hope you can help welcome them into the neighborhood! \nThis Halloween show is Costumes Optional. But Fun? Absolutely Required. \nSee you there for amazing food\, fun\, drinks and music! 🎃
URL:https://19thstreetband.com/event/palm-beach-bar-grill/
LOCATION:Palm Beach Bar & Grill\, 18585 Coastal Hwy #23\, Rehoboth Beach\, DE\, 19971\, United States
ATTACH;FMTTYPE=image/jpeg:https://19thstreetband.com/wp-content/uploads/2024/09/7b9483ac-ced7-4654-9ee6-de36e14ef6f1.jpeg
END:VEVENT
END:VCALENDAR