BEGIN:VCALENDAR
VERSION:2.0
PRODID:-//The 19th Street Band - ECPv6.15.20//NONSGML v1.0//EN
CALSCALE:GREGORIAN
METHOD:PUBLISH
X-ORIGINAL-URL:https://19thstreetband.com
X-WR-CALDESC:Events for The 19th Street Band
REFRESH-INTERVAL;VALUE=DURATION:PT1H
X-Robots-Tag:noindex
X-PUBLISHED-TTL:PT1H
BEGIN:VTIMEZONE
TZID:America/New_York
BEGIN:DAYLIGHT
TZOFFSETFROM:-0500
TZOFFSETTO:-0400
TZNAME:EDT
DTSTART:20230312T070000
END:DAYLIGHT
BEGIN:STANDARD
TZOFFSETFROM:-0400
TZOFFSETTO:-0500
TZNAME:EST
DTSTART:20231105T060000
END:STANDARD
BEGIN:DAYLIGHT
TZOFFSETFROM:-0500
TZOFFSETTO:-0400
TZNAME:EDT
DTSTART:20240310T070000
END:DAYLIGHT
BEGIN:STANDARD
TZOFFSETFROM:-0400
TZOFFSETTO:-0500
TZNAME:EST
DTSTART:20241103T060000
END:STANDARD
BEGIN:DAYLIGHT
TZOFFSETFROM:-0500
TZOFFSETTO:-0400
TZNAME:EDT
DTSTART:20250309T070000
END:DAYLIGHT
BEGIN:STANDARD
TZOFFSETFROM:-0400
TZOFFSETTO:-0500
TZNAME:EST
DTSTART:20251102T060000
END:STANDARD
END:VTIMEZONE
BEGIN:VEVENT
DTSTART;TZID=America/New_York:20240531T200000
DTEND;TZID=America/New_York:20240531T220000
DTSTAMP:20260421T190939
CREATED:20240519T213541Z
LAST-MODIFIED:20240519T213612Z
UID:15235-1717185600-1717192800@19thstreetband.com
SUMMARY:Washington/Rockville Elks Lodge
DESCRIPTION:Let the summer fun begin!!! The 19th Street Band is back at the Elks Lodge! Great music\, great dance floor\, fun vibes…. \n$15 in advance on Eventbrite or $20 at the door \nTickets Here!!! \nDoors 7pm. Show 8pm.
URL:https://19thstreetband.com/event/washington-rockville-elks-lodge-4/
LOCATION:The Washington Rockville Elks Lodge\, 5 Taft Ct\, Rockville\, MD\, 20850\, United States
ATTACH;FMTTYPE=image/png:https://19thstreetband.com/wp-content/uploads/2024/05/New-19th-elks-lodge-may-2024.png
END:VEVENT
END:VCALENDAR