BEGIN:VCALENDAR
VERSION:2.0
PRODID:-//The 19th Street Band - ECPv6.15.20//NONSGML v1.0//EN
CALSCALE:GREGORIAN
METHOD:PUBLISH
X-WR-CALNAME:The 19th Street Band
X-ORIGINAL-URL:https://19thstreetband.com
X-WR-CALDESC:Events for The 19th Street Band
REFRESH-INTERVAL;VALUE=DURATION:PT1H
X-Robots-Tag:noindex
X-PUBLISHED-TTL:PT1H
BEGIN:VTIMEZONE
TZID:America/New_York
BEGIN:DAYLIGHT
TZOFFSETFROM:-0500
TZOFFSETTO:-0400
TZNAME:EDT
DTSTART:20230312T070000
END:DAYLIGHT
BEGIN:STANDARD
TZOFFSETFROM:-0400
TZOFFSETTO:-0500
TZNAME:EST
DTSTART:20231105T060000
END:STANDARD
BEGIN:DAYLIGHT
TZOFFSETFROM:-0500
TZOFFSETTO:-0400
TZNAME:EDT
DTSTART:20240310T070000
END:DAYLIGHT
BEGIN:STANDARD
TZOFFSETFROM:-0400
TZOFFSETTO:-0500
TZNAME:EST
DTSTART:20241103T060000
END:STANDARD
BEGIN:DAYLIGHT
TZOFFSETFROM:-0500
TZOFFSETTO:-0400
TZNAME:EDT
DTSTART:20250309T070000
END:DAYLIGHT
BEGIN:STANDARD
TZOFFSETFROM:-0400
TZOFFSETTO:-0500
TZNAME:EST
DTSTART:20251102T060000
END:STANDARD
END:VTIMEZONE
BEGIN:VEVENT
DTSTART;TZID=America/New_York:20240525T150000
DTEND;TZID=America/New_York:20240525T163000
DTSTAMP:20260421T224016
CREATED:20240519T164846Z
LAST-MODIFIED:20240519T164846Z
UID:15231-1716649200-1716654600@19thstreetband.com
SUMMARY:Hometown Holidays Music Fest
DESCRIPTION:Hometown Holidays Music Fest is a free festival featuring two stages of music; food vendors; kids activities including amusements (fee)\, entertainment\, sand dunes\, and yard games; beverage booths; and sponsor and city services booths. Bring a blanket or lawn chair and enjoy a variety of music\, food and beverages while enjoying the beautiful landscapes of RedGate Park. \nThere is free and ample on-site parking and bike parking\, and a free shuttle that runs every 20 minutes from Rockville Town Center. \nCatch The 19th Street Band on the RedGate Stage from 3:00-4:30pm\nEvent Info \nSaturday\, May 25 and Sunday\, May 26\, 2024\nNoon-7 p.m.\nRedGate Park\n14500 Avery Road\, Rockville\, MD 20853
URL:https://19thstreetband.com/event/hometown-holidays-music-fest/
LOCATION:RedGate Park\, 14500 Avery Road\, Rockville\, MD\, 20853\, United States
ATTACH;FMTTYPE=image/jpeg:https://19thstreetband.com/wp-content/uploads/2024/05/hth-flyer-2024-scaled.jpg
END:VEVENT
END:VCALENDAR