BEGIN:VCALENDAR
VERSION:2.0
PRODID:-//The 19th Street Band - ECPv6.15.20//NONSGML v1.0//EN
CALSCALE:GREGORIAN
METHOD:PUBLISH
X-ORIGINAL-URL:https://19thstreetband.com
X-WR-CALDESC:Events for The 19th Street Band
REFRESH-INTERVAL;VALUE=DURATION:PT1H
X-Robots-Tag:noindex
X-PUBLISHED-TTL:PT1H
BEGIN:VTIMEZONE
TZID:America/New_York
BEGIN:DAYLIGHT
TZOFFSETFROM:-0500
TZOFFSETTO:-0400
TZNAME:EDT
DTSTART:20230312T070000
END:DAYLIGHT
BEGIN:STANDARD
TZOFFSETFROM:-0400
TZOFFSETTO:-0500
TZNAME:EST
DTSTART:20231105T060000
END:STANDARD
BEGIN:DAYLIGHT
TZOFFSETFROM:-0500
TZOFFSETTO:-0400
TZNAME:EDT
DTSTART:20240310T070000
END:DAYLIGHT
BEGIN:STANDARD
TZOFFSETFROM:-0400
TZOFFSETTO:-0500
TZNAME:EST
DTSTART:20241103T060000
END:STANDARD
BEGIN:DAYLIGHT
TZOFFSETFROM:-0500
TZOFFSETTO:-0400
TZNAME:EDT
DTSTART:20250309T070000
END:DAYLIGHT
BEGIN:STANDARD
TZOFFSETFROM:-0400
TZOFFSETTO:-0500
TZNAME:EST
DTSTART:20251102T060000
END:STANDARD
END:VTIMEZONE
BEGIN:VEVENT
DTSTART;TZID=America/New_York:20240505T120000
DTEND;TZID=America/New_York:20240505T150000
DTSTAMP:20260423T061004
CREATED:20240328T145343Z
LAST-MODIFIED:20240328T145343Z
UID:15197-1714910400-1714921200@19thstreetband.com
SUMMARY:Landon Azalea Festival
DESCRIPTION:Catch The 19th Street Band from 12-3pm on the Band Stand \nMore info: https://www.landon.net/azalea \nENTERTAINMENT\nEntertainment all weekend! Live music from The 19th Street Band\, Daisy Road\, Cypress Bluegrass Band\, Sol y Rumba\, Sorry\, the Great Zucchini\, and theater performances by Landon and Holton-Arms students. \nAZALEAS & PLANTS\nWe sell large and diverse assortments of beautiful high-quality azaleas\, annuals\, perennials\, herbs\, and vegetables to fill your growing home garden. \nFOOD\nEnjoy meals and treats from vendors including our very own Bear Bakery & Beverages\, Riddles Griddle\, and Bear Boardwalk. Plus\, local favorites like Potomac Pizza\, Clayboy’s Shave Ice\, Ben & Jerry’s and more. \nFUNLAND\nThere are carnival rides\, video games\, moon bounces\, face painters\, children’s entertainment and a special kiddies center for our youngest visitors. Fun for all ages! \nCOST\nFree general admission & parking
URL:https://19thstreetband.com/event/landon-azalea-festival/
LOCATION:Landon School\, 6101 WILSON LANE\, BETHESDA\, MD\, 20817\, United States
ATTACH;FMTTYPE=image/webp:https://19thstreetband.com/wp-content/uploads/2024/03/LandonSchoolAzaleaLogo_PinkandGreen.webp
END:VEVENT
END:VCALENDAR